Workbook

Sheet Терапевты
C1: ПЛАН ОБРАЩЕНИЙ И ПОСЕЩЕНИЙ за сентябрь 2025 г.
A2: № п/п | C2: Обращения | G2: Профилактические
C3: 667888 | G3: Профосмотры 611805 | K3: Диспансерное наблюдение 667814 | O3: Диспансерное наблюдение (пр. 168-н) | S3: в т.ч. диспансерное наблюдение по сахарному диабету 667983 | W3: в т.ч. диспансерное наблюдение по БСК 667984 | AA3: в т.ч. диспансерное наблюдение по др. заболеваниям 667972 | AE3: Разовые по заболеванию 667890 | AI3: С другими целями (Ds группы Z) 667934 | AM3: Неотложка 667824 | AQ3: Диспансеризация 1 этап | AU3: Диспансеризация 2 этап | AY3: УДВН 1 этап | BC3: УДВН 2 этап
C4: План | D4: Факт | E4: Осталось до плана | F4: % | G4: План | H4: Факт | I4: Осталось до плана | J4: % | K4: План | L4: Факт | M4: Осталось до плана | N4: % | O4: План | P4: Факт | Q4: Осталось до плана | R4: % | S4: План | T4: Факт | U4: Осталось до плана | V4: % | W4: План | X4: Факт | Y4: Осталось до плана | Z4: % | AA4: План | AB4: Факт | AC4: Осталось до плана | AD4: % | AE4: План | AF4: Факт | AG4: Осталось до плана | AH4: % | AI4: План | AJ4: Факт | AK4: Осталось до плана | AL4: % | AM4: План | AN4: Факт | AO4: Осталось до плана | AP4: % | AQ4: План | AR4: Факт | AS4: Осталось до плана | AT4: % | AU4: План | AV4: Факт | AW4: Осталось до плана | AX4: % | AY4: План | AZ4: Факт | BA4: Осталось до плана | BB4: % | BC4: План | BD4: Факт | BE4: Осталось до плана | BF4: %
B5: Самситдинова Эльмира Римовна - зав.отд | C5: 0 | D5: ='1 то'!$I$338 -> 0 | E5: =C5-D5 -> 0 | F5: =D5*100/C5 -> #DIV/0! | G5: 0 | H5: ='1 то'!$I$346 -> 0 | I5: =G5-H5 -> 0 | J5: =H5*100/G5 -> #DIV/0! | K5: 0 | L5: ='1 то'!$I$342 -> 0 | M5: =K5-L5 -> 0 | N5: =L5*100/K5 -> #DIV/0! | O5: =S5+W5+AA5 -> 0 | P5: =T5+X5+AB5 -> 0 | Q5: =O5-P5 -> 0 | R5: =P5*100/O5 -> #DIV/0! | S5: 0 | T5: ='1 то'!$I$360 -> 0 | U5: =S5-T5 -> 0 | V5: =T5*100/S5 -> #DIV/0! | W5: 0 | X5: ='1 то'!$I$362 -> 0 | Y5: =W5-X5 -> 0 | Z5: =X5*100/W5 -> #DIV/0! | AA5: 0 | AB5: ='1 то'!$I$340 -> 0 | AC5: =AA5-AB5 -> 0 | AD5: =AB5*100/AA5 -> #DIV/0! | AE5: 0 | AF5: ='1 то'!$I$344 -> 1 | AG5: =AE5-AF5 -> -1 | AH5: =AF5*100/AE5 -> #DIV/0! | AI5: 0 | AJ5: ='1 то'!$I$350 -> 0 | AK5: =AI5-AJ5 -> 0 | AL5: =AJ5*100/AI5 -> #DIV/0! | AM5: 0 | AN5: ='1 то'!$I$348 -> 0 | AO5: =AM5-AN5 -> 0 | AP5: =AN5*100/AM5 -> #DIV/0! | AQ5: 0 | AR5: =('1 то'!$I$352)+('1 то'!$I$354) -> 0 | AS5: =AQ5-AR5 -> 0 | AT5: =AR5*100/AQ5 -> #DIV/0! | AU5: 0 | AV5: ='1 то'!$I$370 -> 0 | AW5: =AU5-AV5 -> 0 | AX5: =AV5*100/AU5 -> #DIV/0! | AY5: 0 | AZ5: ='1 то'!$I$356 -> 0 | BA5: =AY5-AZ5 -> 0 | BB5: =AZ5*100/AY5 -> #DIV/0! | BC5: 0 | BD5: ='1 то'!$I$358 -> 0 | BE5: =BC5-BD5 -> 0 | BF5: =BD5*100/BC5 -> #DIV/0!
A6: 1 | B6: Иванова (Алсынбаева) Нурзиля Марсовна д/о | C6: 0 | D6: ='1 то'!$I$153 -> 0 | E6: =C6-D6 -> 0 | F6: =D6*100/C6 -> #DIV/0! | G6: 0 | H6: ='1 то'!$I$161 -> 0 | I6: =G6-H6 -> 0 | J6: =H6*100/G6 -> #DIV/0! | K6: 0 | L6: ='1 то'!$I$157 -> 0 | M6: =K6-L6 -> 0 | N6: =L6*100/K6 -> #DIV/0! | O6: =S6+W6+AA6 -> 0 | P6: =T6+X6+AB6 -> 0 | Q6: =O6-P6 -> 0 | R6: =P6*100/O6 -> #DIV/0! | S6: 0 | T6: ='1 то'!$I$175 -> 0 | U6: =S6-T6 -> 0 | V6: =T6*100/S6 -> #DIV/0! | W6: 0 | X6: =('1 то'!$I$177) -> 0 | Y6: =W6-X6 -> 0 | Z6: =X6*100/W6 -> #DIV/0! | AA6: 0 | AB6: =('1 то'!$I$155) -> 0 | AC6: =AA6-AB6 -> 0 | AD6: =AB6*100/AA6 -> #DIV/0! | AE6: 0 | AF6: ='1 то'!$I$159 -> 0 | AG6: =AE6-AF6 -> 0 | AH6: =AF6*100/AE6 -> #DIV/0! | AI6: 0 | AJ6: ='1 то'!$I$165 -> 0 | AK6: =AI6-AJ6 -> 0 | AL6: =AJ6*100/AI6 -> #DIV/0! | AM6: 0 | AN6: ='1 то'!$I$163 -> 0 | AO6: =AM6-AN6 -> 0 | AP6: =AN6*100/AM6 -> #DIV/0! | AQ6: 0 | AR6: =('1 то'!$I$167)+('1 то'!$I$169) -> 0 | AS6: =AQ6-AR6 -> 0 | AT6: =AR6*100/AQ6 -> #DIV/0! | AU6: 0 | AV6: ='1 то'!$I$185 -> 0 | AW6: =AU6-AV6 -> 0 | AX6: =AV6*100/AU6 -> #DIV/0! | AY6: 0 | AZ6: ='1 то'!$I$171 -> 0 | BA6: =AY6-AZ6 -> 0 | BB6: =AZ6*100/AY6 -> #DIV/0! | BC6: 0 | BD6: ='1 то'!$I$173 -> 0 | BE6: =BC6-BD6 -> 0 | BF6: =BD6*100/BC6 -> #DIV/0!
A7: 2 | B7: Аминева Рената Сергеевна | C7: 0 | D7: ='1 то'!$I$116 -> 42 | E7: =C7-D7 -> -42 | F7: =D7*100/C7 -> #DIV/0! | G7: 0 | H7: ='1 то'!$I$124 -> 0 | I7: =G7-H7 -> 0 | J7: =H7*100/G7 -> #DIV/0! | K7: 47 | L7: ='1 то'!$I$120 -> 50 | M7: =K7-L7 -> -3 | N7: =L7*100/K7 -> 106.38298 | O7: =S7+W7+AA7 -> 54 | P7: =T7+X7+AB7 -> 54 | Q7: =O7-P7 -> 0 | R7: =P7*100/O7 -> 100 | S7: 0 | T7: ='1 то'!$I$138 -> 4 | U7: =S7-T7 -> -4 | V7: =T7*100/S7 -> #DIV/0! | W7: 50 | X7: =('1 то'!$I$140) -> 46 | Y7: =W7-X7 -> 4 | Z7: =X7*100/W7 -> 92 | AA7: 4 | AB7: =('1 то'!$I$118) -> 4 | AC7: =AA7-AB7 -> 0 | AD7: =AB7*100/AA7 -> 100 | AE7: 0 | AF7: ='1 то'!$I$122 -> 13 | AG7: =AE7-AF7 -> -13 | AH7: =AF7*100/AE7 -> #DIV/0! | AI7: 0 | AJ7: ='1 то'!$I$128 -> 17 | AK7: =AI7-AJ7 -> -17 | AL7: =AJ7*100/AI7 -> #DIV/0! | AM7: 18 | AN7: ='1 то'!$I$126 -> 41 | AO7: =AM7-AN7 -> -23 | AP7: =AN7*100/AM7 -> 227.77778 | AQ7: 101 | AR7: =('1 то'!$I$130)+('1 то'!$I$132) -> 104 | AS7: =AQ7-AR7 -> -3 | AT7: =AR7*100/AQ7 -> 102.9703 | AU7: 28 | AV7: ='1 то'!$I$148 -> 28 | AW7: =AU7-AV7 -> 0 | AX7: =AV7*100/AU7 -> 100 | AY7: 11 | AZ7: ='1 то'!$I$134 -> 11 | BA7: =AY7-AZ7 -> 0 | BB7: =AZ7*100/AY7 -> 100 | BC7: 1 | BD7: ='1 то'!$I$136 -> 0 | BE7: =BC7-BD7 -> 1 | BF7: =BD7*100/BC7 -> 0
A8: 3 | B8: Бадартдинова Зульфия Марлисовна | C8: 0 | D8: ='1 то'!$I$42 -> 69 | E8: =C8-D8 -> -69 | F8: =D8*100/C8 -> #DIV/0! | G8: 0 | H8: ='1 то'!$I$50 -> 0 | I8: =G8-H8 -> 0 | J8: =H8*100/G8 -> #DIV/0! | K8: 47 | L8: ='1 то'!$I$46 -> 54 | M8: =K8-L8 -> -7 | N8: =L8*100/K8 -> 114.89362 | O8: =S8+W8+AA8 -> 54 | P8: =T8+X8+AB8 -> 57 | Q8: =O8-P8 -> -3 | R8: =P8*100/O8 -> 105.55556 | S8: 0 | T8: ='1 то'!$I$64 -> 4 | U8: =S8-T8 -> -4 | V8: =T8*100/S8 -> #DIV/0! | W8: 50 | X8: =('1 то'!$I$66) -> 49 | Y8: =W8-X8 -> 1 | Z8: =X8*100/W8 -> 98 | AA8: 4 | AB8: =('1 то'!$I$44) -> 4 | AC8: =AA8-AB8 -> 0 | AD8: =AB8*100/AA8 -> 100 | AE8: 0 | AF8: ='1 то'!$I$48 -> 0 | AG8: =AE8-AF8 -> 0 | AH8: =AF8*100/AE8 -> #DIV/0! | AI8: 0 | AJ8: ='1 то'!$I$54 -> 0 | AK8: =AI8-AJ8 -> 0 | AL8: =AJ8*100/AI8 -> #DIV/0! | AM8: 18 | AN8: ='1 то'!$I$52 -> 44 | AO8: =AM8-AN8 -> -26 | AP8: =AN8*100/AM8 -> 244.44444 | AQ8: 101 | AR8: =('1 то'!$I$56)+('1 то'!$I$58) -> 70 | AS8: =AQ8-AR8 -> 31 | AT8: =AR8*100/AQ8 -> 69.306931 | AU8: 28 | AV8: ='1 то'!$I$74 -> 17 | AW8: =AU8-AV8 -> 11 | AX8: =AV8*100/AU8 -> 60.714286 | AY8: 11 | AZ8: ='1 то'!$I$60 -> 11 | BA8: =AY8-AZ8 -> 0 | BB8: =AZ8*100/AY8 -> 100 | BC8: 1 | BD8: ='1 то'!$I$62 -> 0 | BE8: =BC8-BD8 -> 1 | BF8: =BD8*100/BC8 -> 0
A9: 4 | B9: Билалов Ильгам Ильшатович | C9: 0 | D9: ='1 то'!$I$190 -> 55 | E9: =C9-D9 -> -55 | F9: =D9*100/C9 -> #DIV/0! | G9: 0 | H9: ='1 то'!$I$198 -> 0 | I9: =G9-H9 -> 0 | J9: =H9*100/G9 -> #DIV/0! | K9: 47 | L9: ='1 то'!$I$194 -> 60 | M9: =K9-L9 -> -13 | N9: =L9*100/K9 -> 127.65957 | O9: =S9+W9+AA9 -> 54 | P9: =T9+X9+AB9 -> 57 | Q9: =O9-P9 -> -3 | R9: =P9*100/O9 -> 105.55556 | S9: 0 | T9: ='1 то'!$I$212 -> 2 | U9: =S9-T9 -> -2 | V9: =T9*100/S9 -> #DIV/0! | W9: 50 | X9: =('1 то'!$I$214) -> 47 | Y9: =W9-X9 -> 3 | Z9: =X9*100/W9 -> 94 | AA9: 4 | AB9: =('1 то'!$I$192) -> 8 | AC9: =AA9-AB9 -> -4 | AD9: =AB9*100/AA9 -> 200 | AE9: 0 | AF9: ='1 то'!$I$196 -> 11 | AG9: =AE9-AF9 -> -11 | AH9: =AF9*100/AE9 -> #DIV/0! | AI9: 0 | AJ9: ='1 то'!$I$202 -> 8 | AK9: =AI9-AJ9 -> -8 | AL9: =AJ9*100/AI9 -> #DIV/0! | AM9: 18 | AN9: ='1 то'!$I$200 -> 24 | AO9: =AM9-AN9 -> -6 | AP9: =AN9*100/AM9 -> 133.33333 | AQ9: 101 | AR9: =('1 то'!$I$204)+('1 то'!$I$206) -> 63 | AS9: =AQ9-AR9 -> 38 | AT9: =AR9*100/AQ9 -> 62.376238 | AU9: 28 | AV9: ='1 то'!$I$222 -> 16 | AW9: =AU9-AV9 -> 12 | AX9: =AV9*100/AU9 -> 57.142857 | AY9: 11 | AZ9: ='1 то'!$I$208 -> 2 | BA9: =AY9-AZ9 -> 9 | BB9: =AZ9*100/AY9 -> 18.181818 | BC9: 1 | BD9: ='1 то'!$I$210 -> 0 | BE9: =BC9-BD9 -> 1 | BF9: =BD9*100/BC9 -> 0
A10: 5 | B10: Гилязева Зарина Раилевна | C10: 0 | D10: ='1 то'!$I$5 -> 43 | E10: =C10-D10 -> -43 | F10: =D10*100/C10 -> #DIV/0! | G10: 0 | H10: ='1 то'!$I$13 -> 0 | I10: =G10-H10 -> 0 | J10: =H10*100/G10 -> #DIV/0! | K10: 47 | L10: ='1 то'!$I$9 -> 47 | M10: =K10-L10 -> 0 | N10: =L10*100/K10 -> 100 | O10: =S10+W10+AA10 -> 54 | P10: =T10+X10+AB10 -> 42 | Q10: =O10-P10 -> 12 | R10: =P10*100/O10 -> 77.777778 | S10: 0 | T10: ='1 то'!$I$27 -> 3 | U10: =S10-T10 -> -3 | V10: =T10*100/S10 -> #DIV/0! | W10: 50 | X10: =('1 то'!$I$29) -> 35 | Y10: =W10-X10 -> 15 | Z10: =X10*100/W10 -> 70 | AA10: 4 | AB10: =('1 то'!$I$7) -> 4 | AC10: =AA10-AB10 -> 0 | AD10: =AB10*100/AA10 -> 100 | AE10: 0 | AF10: ='1 то'!$I$11 -> 50 | AG10: =AE10-AF10 -> -50 | AH10: =AF10*100/AE10 -> #DIV/0! | AI10: 0 | AJ10: ='1 то'!$I$17 -> 17 | AK10: =AI10-AJ10 -> -17 | AL10: =AJ10*100/AI10 -> #DIV/0! | AM10: 17 | AN10: ='1 то'!$I$15 -> 20 | AO10: =AM10-AN10 -> -3 | AP10: =AN10*100/AM10 -> 117.64706 | AQ10: 101 | AR10: =('1 то'!$I$19)+('1 то'!$I$21) -> 94 | AS10: =AQ10-AR10 -> 7 | AT10: =AR10*100/AQ10 -> 93.069307 | AU10: 28 | AV10: ='1 то'!$I$37 -> 30 | AW10: =AU10-AV10 -> -2 | AX10: =AV10*100/AU10 -> 107.14286 | AY10: 11 | AZ10: ='1 то'!$I$23 -> 12 | BA10: =AY10-AZ10 -> -1 | BB10: =AZ10*100/AY10 -> 109.09091 | BC10: 1 | BD10: ='1 то'!$I$25 -> 0 | BE10: =BC10-BD10 -> 1 | BF10: =BD10*100/BC10 -> 0
A11: 6 | B11: Зайнуллина Адель Маратовна | C11: 0 | D11: ='1 то'!$I$486 -> 53 | E11: =C11-D11 -> -53 | F11: =D11*100/C11 -> #DIV/0! | G11: 0 | H11: ='1 то'!$I$494 -> 0 | I11: =G11-H11 -> 0 | J11: =H11*100/G11 -> #DIV/0! | K11: 47 | L11: ='1 то'!$I$490 -> 31 | M11: =K11-L11 -> 16 | N11: =L11*100/K11 -> 65.957447 | O11: =S11+W11+AA11 -> 54 | P11: =T11+X11+AB11 -> 32 | Q11: =O11-P11 -> 22 | R11: =P11*100/O11 -> 59.259259 | S11: 0 | T11: ='1 то'!$I$508 -> 0 | U11: =S11-T11 -> 0 | V11: =T11*100/S11 -> #DIV/0! | W11: 50 | X11: ='1 то'!$I$510 -> 29 | Y11: =W11-X11 -> 21 | Z11: =X11*100/W11 -> 58 | AA11: 4 | AB11: ='1 то'!$I$488 -> 3 | AC11: =AA11-AB11 -> 1 | AD11: =AB11*100/AA11 -> 75 | AE11: 0 | AF11: ='1 то'!$I$492 -> 19 | AG11: =AE11-AF11 -> -19 | AH11: =AF11*100/AE11 -> #DIV/0! | AI11: 0 | AJ11: ='1 то'!$I$498 -> 11 | AK11: =AI11-AJ11 -> -11 | AL11: =AJ11*100/AI11 -> #DIV/0! | AM11: 17 | AN11: ='1 то'!$I$496 -> 21 | AO11: =AM11-AN11 -> -4 | AP11: =AN11*100/AM11 -> 123.52941 | AQ11: 101 | AR11: =('1 то'!$I$500)+('1 то'!$I$502) -> 102 | AS11: =AQ11-AR11 -> -1 | AT11: =AR11*100/AQ11 -> 100.9901 | AU11: 28 | AV11: ='1 то'!$I$518 -> 21 | AW11: =AU11-AV11 -> 7 | AX11: =AV11*100/AU11 -> 75 | AY11: 10 | AZ11: ='1 то'!$I$504 -> 10 | BA11: =AY11-AZ11 -> 0 | BB11: =AZ11*100/AY11 -> 100 | BC11: 0 | BD11: ='1 то'!$I$506 -> 0 | BE11: =BC11-BD11 -> 0 | BF11: =BD11*100/BC11 -> #DIV/0!
A12: 7 | B12: Кускильдина Альбина Рамилевна | C12: 0 | D12: ='1 то'!$I$412 -> 72 | E12: =C12-D12 -> -72 | F12: =D12*100/C12 -> #DIV/0! | G12: 0 | H12: ='1 то'!$I$420 -> 0 | I12: =G12-H12 -> 0 | J12: =H12*100/G12 -> #DIV/0! | K12: 47 | L12: ='1 то'!$I$416 -> 52 | M12: =K12-L12 -> -5 | N12: =L12*100/K12 -> 110.6383 | O12: =S12+W12+AA12 -> 54 | P12: =T12+X12+AB12 -> 41 | Q12: =O12-P12 -> 13 | R12: =P12*100/O12 -> 75.925926 | S12: 0 | T12: ='1 то'!$I$434 -> 0 | U12: =S12-T12 -> 0 | V12: =T12*100/S12 -> #DIV/0! | W12: 50 | X12: =('1 то'!$I$436) -> 37 | Y12: =W12-X12 -> 13 | Z12: =X12*100/W12 -> 74 | AA12: 4 | AB12: =('1 то'!$I$414) -> 4 | AC12: =AA12-AB12 -> 0 | AD12: =AB12*100/AA12 -> 100 | AE12: 0 | AF12: ='1 то'!$I$418 -> 4 | AG12: =AE12-AF12 -> -4 | AH12: =AF12*100/AE12 -> #DIV/0! | AI12: 0 | AJ12: ='1 то'!$I$424 -> 4 | AK12: =AI12-AJ12 -> -4 | AL12: =AJ12*100/AI12 -> #DIV/0! | AM12: 18 | AN12: ='1 то'!$I$422 -> 42 | AO12: =AM12-AN12 -> -24 | AP12: =AN12*100/AM12 -> 233.33333 | AQ12: 101 | AR12: =('1 то'!$I$426)+('1 то'!$I$428) -> 57 | AS12: =AQ12-AR12 -> 44 | AT12: =AR12*100/AQ12 -> 56.435644 | AU12: 28 | AV12: ='1 то'!$I$444 -> 0 | AW12: =AU12-AV12 -> 28 | AX12: =AV12*100/AU12 -> 0 | AY12: 11 | AZ12: ='1 то'!$I$430 -> 5 | BA12: =AY12-AZ12 -> 6 | BB12: =AZ12*100/AY12 -> 45.454545 | BC12: 1 | BD12: ='1 то'!$I$432 -> 0 | BE12: =BC12-BD12 -> 1 | BF12: =BD12*100/BC12 -> 0
A13: 8 | B13: Валеева (ПАВЛОВА) ЮЛИАНА СЕРГЕЕВНА д/о | C13: 0 | D13: ='1 то'!$I$79 -> 0 | E13: =C13-D13 -> 0 | F13: =D13*100/C13 -> #DIV/0! | G13: 0 | H13: ='1 то'!$I$87 -> 0 | I13: =G13-H13 -> 0 | J13: =H13*100/G13 -> #DIV/0! | K13: 0 | L13: ='1 то'!$I$83 -> 0 | M13: =K13-L13 -> 0 | N13: =L13*100/K13 -> #DIV/0! | O13: =S13+W13+AA13 -> 0 | P13: =T13+X13+AB13 -> 0 | Q13: =O13-P13 -> 0 | R13: =P13*100/O13 -> #DIV/0! | S13: 0 | T13: ='1 то'!$I$101 -> 0 | U13: =S13-T13 -> 0 | V13: =T13*100/S13 -> #DIV/0! | W13: 0 | X13: =('1 то'!$I$103) -> 0 | Y13: =W13-X13 -> 0 | Z13: =X13*100/W13 -> #DIV/0! | AA13: 0 | AB13: =('1 то'!$I$81) -> 0 | AC13: =AA13-AB13 -> 0 | AD13: =AB13*100/AA13 -> #DIV/0! | AE13: 0 | AF13: ='1 то'!$I$85 -> 0 | AG13: =AE13-AF13 -> 0 | AH13: =AF13*100/AE13 -> #DIV/0! | AI13: 0 | AJ13: ='1 то'!$I$91 -> 0 | AK13: =AI13-AJ13 -> 0 | AL13: =AJ13*100/AI13 -> #DIV/0! | AM13: 0 | AN13: ='1 то'!$I$89 -> 0 | AO13: =AM13-AN13 -> 0 | AP13: =AN13*100/AM13 -> #DIV/0! | AQ13: 0 | AR13: =('1 то'!$I$93)+('1 то'!$I$95) -> 0 | AS13: =AQ13-AR13 -> 0 | AT13: =AR13*100/AQ13 -> #DIV/0! | AU13: 0 | AV13: ='1 то'!$I$111 -> 0 | AW13: =AU13-AV13 -> 0 | AX13: =AV13*100/AU13 -> #DIV/0! | AY13: 0 | AZ13: ='1 то'!$I$97 -> 0 | BA13: =AY13-AZ13 -> 0 | BB13: =AZ13*100/AY13 -> #DIV/0! | BC13: 0 | BD13: ='1 то'!$I$99 -> 0 | BE13: =BC13-BD13 -> 0 | BF13: =BD13*100/BC13 -> #DIV/0!
A14: 9 | B14: Овчинникова Олеся Анатольевна | C14: 0 | D14: ='4 то'!$I$5 -> 44 | E14: =C14-D14 -> -44 | F14: =D14*100/C14 -> #DIV/0! | G14: 0 | H14: ='4 то'!$I$13 -> 0 | I14: =G14-H14 -> 0 | J14: =H14*100/G14 -> #DIV/0! | K14: 47 | L14: ='4 то'!$I$9 -> 25 | M14: =K14-L14 -> 22 | N14: =L14*100/K14 -> 53.191489 | O14: =S14+W14+AA14 -> 54 | P14: =T14+X14+AB14 -> 34 | Q14: =O14-P14 -> 20 | R14: =P14*100/O14 -> 62.962963 | S14: 0 | T14: =('4 то'!$I$27) -> 5 | U14: =S14-T14 -> -5 | V14: =T14*100/S14 -> #DIV/0! | W14: 50 | X14: =('4 то'!$I$29) -> 28 | Y14: =W14-X14 -> 22 | Z14: =X14*100/W14 -> 56 | AA14: 4 | AB14: =('4 то'!$I$7) -> 1 | AC14: =AA14-AB14 -> 3 | AD14: =AB14*100/AA14 -> 25 | AE14: 0 | AF14: ='4 то'!$I$11 -> 0 | AG14: =AE14-AF14 -> 0 | AH14: =AF14*100/AE14 -> #DIV/0! | AI14: 0 | AJ14: ='4 то'!$I$17 -> 0 | AK14: =AI14-AJ14 -> 0 | AL14: =AJ14*100/AI14 -> #DIV/0! | AM14: 18 | AN14: ='4 то'!$I$15 -> 28 | AO14: =AM14-AN14 -> -10 | AP14: =AN14*100/AM14 -> 155.55556 | AQ14: 101 | AR14: =('4 то'!$I$19)+('4 то'!$I$21) -> 66 | AS14: =AQ14-AR14 -> 35 | AT14: =AR14*100/AQ14 -> 65.346535 | AU14: 28 | AV14: ='4 то'!$I$37 -> 8 | AW14: =AU14-AV14 -> 20 | AX14: =AV14*100/AU14 -> 28.571429 | AY14: 11 | AZ14: ='4 то'!$I$23 -> 8 | BA14: =AY14-AZ14 -> 3 | BB14: =AZ14*100/AY14 -> 72.727273 | BC14: 1 | BD14: ='4 то'!$I$25 -> 0 | BE14: =BC14-BD14 -> 1 | BF14: =BD14*100/BC14 -> 0
A15: 10 | B15: Тухбатова Алия Валерьевна | C15: 0 | D15: ='1 то'!$I$523 -> 10 | E15: =C15-D15 -> -10 | F15: =D15*100/C15 -> #DIV/0! | G15: 0 | H15: ='1 то'!$I$531 -> 0 | I15: =G15-H15 -> 0 | J15: =H15*100/G15 -> #DIV/0! | K15: 47 | L15: ='1 то'!$I$527 -> 18 | M15: =K15-L15 -> 29 | N15: =L15*100/K15 -> 38.297872 | O15: =S15+W15+AA15 -> 54 | P15: =T15+X15+AB15 -> 22 | Q15: =O15-P15 -> 32 | R15: =P15*100/O15 -> 40.740741 | S15: 0 | T15: =('1 то'!$I$545) -> 0 | U15: =S15-T15 -> 0 | V15: =T15*100/S15 -> #DIV/0! | W15: 50 | X15: =('1 то'!$I$547) -> 19 | Y15: =W15-X15 -> 31 | Z15: =X15*100/W15 -> 38 | AA15: 4 | AB15: =('1 то'!$I$525) -> 3 | AC15: =AA15-AB15 -> 1 | AD15: =AB15*100/AA15 -> 75 | AE15: 0 | AF15: ='1 то'!$I$529 -> 22 | AG15: =AE15-AF15 -> -22 | AH15: =AF15*100/AE15 -> #DIV/0! | AI15: 0 | AJ15: ='1 то'!$I$535 -> 3 | AK15: =AI15-AJ15 -> -3 | AL15: =AJ15*100/AI15 -> #DIV/0! | AM15: 17 | AN15: ='1 то'!$I$533 -> 38 | AO15: =AM15-AN15 -> -21 | AP15: =AN15*100/AM15 -> 223.52941 | AQ15: 101 | AR15: =('1 то'!$I$537)+('1 то'!$I$539) -> 45 | AS15: =AQ15-AR15 -> 56 | AT15: =AR15*100/AQ15 -> 44.554455 | AU15: 28 | AV15: ='1 то'!$I$555 -> 6 | AW15: =AU15-AV15 -> 22 | AX15: =AV15*100/AU15 -> 21.428571 | AY15: 10 | AZ15: ='1 то'!$I$541 -> 0 | BA15: =AY15-AZ15 -> 10 | BB15: =AZ15*100/AY15 -> 0 | BC15: 0 | BD15: ='1 то'!$I$543 -> 0 | BE15: =BC15-BD15 -> 0 | BF15: =BD15*100/BC15 -> #DIV/0!
A16: 11 | B16: Шафиева Венера Альбертовна | C16: 0 | D16: ='1 то'!$I$264 -> 29 | E16: =C16-D16 -> -29 | F16: =D16*100/C16 -> #DIV/0! | G16: 0 | H16: ='1 то'!$I$272 -> 0 | I16: =G16-H16 -> 0 | J16: =H16*100/G16 -> #DIV/0! | K16: 24 | L16: ='1 то'!$I$268 -> 34 | M16: =K16-L16 -> -10 | N16: =L16*100/K16 -> 141.66667 | O16: =S16+W16+AA16 -> 30 | P16: =T16+X16+AB16 -> 32 | Q16: =O16-P16 -> -2 | R16: =P16*100/O16 -> 106.66667 | S16: 0 | T16: ='1 то'!$I$286 -> 1 | U16: =S16-T16 -> -1 | V16: =T16*100/S16 -> #DIV/0! | W16: 26 | X16: =('1 то'!$I$288) -> 26 | Y16: =W16-X16 -> 0 | Z16: =X16*100/W16 -> 100 | AA16: 4 | AB16: =('1 то'!$I$266) -> 5 | AC16: =AA16-AB16 -> -1 | AD16: =AB16*100/AA16 -> 125 | AE16: 0 | AF16: ='1 то'!$I$270 -> 1 | AG16: =AE16-AF16 -> -1 | AH16: =AF16*100/AE16 -> #DIV/0! | AI16: 0 | AJ16: ='1 то'!$I$276 -> 0 | AK16: =AI16-AJ16 -> 0 | AL16: =AJ16*100/AI16 -> #DIV/0! | AM16: 10 | AN16: ='1 то'!$I$274 -> 9 | AO16: =AM16-AN16 -> 1 | AP16: =AN16*100/AM16 -> 90 | AQ16: 50 | AR16: =('1 то'!$I$278)+('1 то'!$I$280) -> 50 | AS16: =AQ16-AR16 -> 0 | AT16: =AR16*100/AQ16 -> 100 | AU16: 16 | AV16: ='1 то'!$I$296 -> 28 | AW16: =AU16-AV16 -> -12 | AX16: =AV16*100/AU16 -> 175 | AY16: 4 | AZ16: ='1 то'!$I$282 -> 2 | BA16: =AY16-AZ16 -> 2 | BB16: =AZ16*100/AY16 -> 50 | BC16: 1 | BD16: ='1 то'!$I$284 -> 0 | BE16: =BC16-BD16 -> 1 | BF16: =BD16*100/BC16 -> 0
B17: ИТОГО по 1 терапии | C17: =SUM(C6:C16) -> 0 | D17: =SUM(D5:D16) -> 417 | E17: =C17-D17 -> -417 | F17: =D17*100/C17 -> #DIV/0! | G17: =SUM(G6:G16) -> 0 | H17: =SUM(H5:H16) -> 0 | I17: =G17-H17 -> 0 | J17: =H17*100/G17 -> #DIV/0! | K17: =SUM(K6:K16) -> 400 | L17: =SUM(L5:L16) -> 371 | M17: =K17-L17 -> 29 | N17: =L17*100/K17 -> 92.75 | O17: =SUM(O6:O16) -> 462 | P17: =SUM(P5:P16) -> 371 | Q17: =O17-P17 -> 91 | R17: =P17*100/O17 -> 80.30303 | S17: =SUM(S6:S16) -> 0 | T17: =SUM(T5:T16) -> 19 | U17: =S17-T17 -> -19 | V17: =T17*100/S17 -> #DIV/0! | W17: =SUM(W6:W16) -> 426 | X17: =SUM(X5:X16) -> 316 | Y17: =W17-X17 -> 110 | Z17: =X17*100/W17 -> 74.178404 | AA17: =SUM(AA6:AA16) -> 36 | AB17: =SUM(AB5:AB16) -> 36 | AC17: =AA17-AB17 -> 0 | AD17: =AB17*100/AA17 -> 100 | AE17: =SUM(AE6:AE16) -> 0 | AF17: =SUM(AF5:AF16) -> 121 | AG17: =AE17-AF17 -> -121 | AH17: =AF17*100/AE17 -> #DIV/0! | AI17: =SUM(AI6:AI16) -> 0 | AJ17: =SUM(AJ5:AJ16) -> 60 | AK17: =AI17-AJ17 -> -60 | AL17: =AJ17*100/AI17 -> #DIV/0! | AM17: =SUM(AM6:AM16) -> 151 | AN17: =SUM(AN5:AN16) -> 267 | AO17: =AM17-AN17 -> -116 | AP17: =AN17*100/AM17 -> 176.82119 | AQ17: =SUM(AQ6:AQ16) -> 858 | AR17: =SUM(AR5:AR16) -> 651 | AS17: =AQ17-AR17 -> 207 | AT17: =AR17*100/AQ17 -> 75.874126 | AU17: =SUM(AU6:AU16) -> 240 | AV17: =SUM(AV5:AV16) -> 154 | AW17: =AU17-AV17 -> 86 | AX17: =AV17*100/AU17 -> 64.166667 | AY17: =SUM(AY6:AY16) -> 90 | AZ17: =SUM(AZ5:AZ16) -> 61 | BA17: =AY17-AZ17 -> 29 | BB17: =AZ17*100/AY17 -> 67.777778 | BC17: =SUM(BC6:BC16) -> 7 | BD17: =SUM(BD5:BD16) -> 0 | BE17: =BC17-BD17 -> 7 | BF17: =BD17*100/BC17 -> 0
B19: Ишмаев Динислам Русланович - и.о.зав.отд. | C19: 0 | D19: ='2 то'!$I$301 -> 12 | E19: =C19-D19 -> -12 | F19: =D19*100/C19 -> #DIV/0! | G19: 0 | H19: ='2 то'!$I$309 -> 0 | I19: =G19-H19 -> 0 | J19: =H19*100/G19 -> #DIV/0! | K19: 0 | L19: ='2 то'!$I$305 -> 13 | M19: =K19-L19 -> -13 | N19: =L19*100/K19 -> #DIV/0! | O19: =S19+W19+AA19 -> 0 | P19: =T19+X19+AB19 -> 3 | Q19: =O19-P19 -> -3 | R19: =P19*100/O19 -> #DIV/0! | S19: 0 | T19: =('2 то'!$I$323) -> 0 | U19: =S19-T19 -> 0 | V19: =T19*100/S19 -> #DIV/0! | W19: 0 | X19: =('2 то'!$I$325) -> 3 | Y19: =W19-X19 -> -3 | Z19: =X19*100/W19 -> #DIV/0! | AA19: 0 | AB19: =('2 то'!$I$303) -> 0 | AC19: =AA19-AB19 -> 0 | AD19: =AB19*100/AA19 -> #DIV/0! | AE19: 0 | AF19: ='2 то'!$I$307 -> 5 | AG19: =AE19-AF19 -> -5 | AH19: =AF19*100/AE19 -> #DIV/0! | AI19: 0 | AJ19: ='2 то'!$I$313 -> 0 | AK19: =AI19-AJ19 -> 0 | AL19: =AJ19*100/AI19 -> #DIV/0! | AM19: 0 | AN19: ='2 то'!$I$311 -> 17 | AO19: =AM19-AN19 -> -17 | AP19: =AN19*100/AM19 -> #DIV/0! | AQ19: 60 | AR19: =('2 то'!$I$319)+('2 то'!$I$37) -> 26 | AS19: =AQ19-AR19 -> 34 | AT19: =AR19*100/AQ19 -> 43.333333 | AU19: 18 | AV19: ='2 то'!$I$333 -> 18 | AW19: =AU19-AV19 -> 0 | AX19: =AV19*100/AU19 -> 100 | AY19: 6 | AZ19: ='2 то'!$I$315 -> 6 | BA19: =AY19-AZ19 -> 0 | BB19: =AZ19*100/AY19 -> 100 | BC19: 1 | BD19: ='2 то'!$I$317 -> 0 | BE19: =BC19-BD19 -> 1 | BF19: =BD19*100/BC19 -> 0
A20: 1 | B20: ГАЮРОВ АЛИШЕР САЙВАЛИЕВИЧ | C20: 0 | D20: ='2 то'!$I$375 -> 66 | E20: =C20-D20 -> -66 | F20: =D20*100/C20 -> #DIV/0! | G20: 0 | H20: ='2 то'!$I$383 -> 0 | I20: =G20-H20 -> 0 | J20: =H20*100/G20 -> #DIV/0! | K20: 82 | L20: ='2 то'!$I$379 -> 80 | M20: =K20-L20 -> 2 | N20: =L20*100/K20 -> 97.560976 | O20: =S20+W20+AA20 -> 66 | P20: =T20+X20+AB20 -> 60 | Q20: =O20-P20 -> 6 | R20: =P20*100/O20 -> 90.909091 | S20: 0 | T20: ='2 то'!$I$397 -> 0 | U20: =S20-T20 -> 0 | V20: =T20*100/S20 -> #DIV/0! | W20: 52 | X20: ='2 то'!$I$399 -> 45 | Y20: =W20-X20 -> 7 | Z20: =X20*100/W20 -> 86.538462 | AA20: 14 | AB20: ='2 то'!$I$377 -> 15 | AC20: =AA20-AB20 -> -1 | AD20: =AB20*100/AA20 -> 107.14286 | AE20: 0 | AF20: ='2 то'!$I$381 -> 7 | AG20: =AE20-AF20 -> -7 | AH20: =AF20*100/AE20 -> #DIV/0! | AI20: 0 | AJ20: ='2 то'!$I$387 -> 0 | AK20: =AI20-AJ20 -> 0 | AL20: =AJ20*100/AI20 -> #DIV/0! | AM20: 22 | AN20: ='2 то'!$I$385 -> 37 | AO20: =AM20-AN20 -> -15 | AP20: =AN20*100/AM20 -> 168.18182 | AQ20: 120 | AR20: =('2 то'!$I$393)+('2 то'!$I$395) -> 73 | AS20: =AQ20-AR20 -> 47 | AT20: =AR20*100/AQ20 -> 60.833333 | AU20: 30 | AV20: ='2 то'!$I$407 -> 14 | AW20: =AU20-AV20 -> 16 | AX20: =AV20*100/AU20 -> 46.666667 | AY20: 12 | AZ20: ='2 то'!$I$389 -> 12 | BA20: =AY20-AZ20 -> 0 | BB20: =AZ20*100/AY20 -> 100 | BC20: 1 | BD20: ='2 то'!$I$391 -> 1 | BE20: =BC20-BD20 -> 0 | BF20: =BD20*100/BC20 -> 100
A21: 2 | B21: Валеева Алина Рафаилевна | C21: 0 | D21: ='2 то'!$I$42 -> 58 | E21: =C21-D21 -> -58 | F21: =D21*100/C21 -> #DIV/0! | G21: 0 | H21: ='2 то'!$I$50 -> 0 | I21: =G21-H21 -> 0 | J21: =H21*100/G21 -> #DIV/0! | K21: 82 | L21: ='2 то'!$I$46 -> 75 | M21: =K21-L21 -> 7 | N21: =L21*100/K21 -> 91.463415 | O21: =S21+W21+AA21 -> 66 | P21: =T21+X21+AB21 -> 55 | Q21: =O21-P21 -> 11 | R21: =P21*100/O21 -> 83.333333 | S21: 0 | T21: ='2 то'!$I$64 -> 0 | U21: =S21-T21 -> 0 | V21: =T21*100/S21 -> #DIV/0! | W21: 52 | X21: ='2 то'!$I$66 -> 41 | Y21: =W21-X21 -> 11 | Z21: =X21*100/W21 -> 78.846154 | AA21: 14 | AB21: ='2 то'!$I$44 -> 14 | AC21: =AA21-AB21 -> 0 | AD21: =AB21*100/AA21 -> 100 | AE21: 0 | AF21: ='2 то'!$I$48 -> 12 | AG21: =AE21-AF21 -> -12 | AH21: =AF21*100/AE21 -> #DIV/0! | AI21: 0 | AJ21: ='2 то'!$I$54 -> 3 | AK21: =AI21-AJ21 -> -3 | AL21: =AJ21*100/AI21 -> #DIV/0! | AM21: 22 | AN21: ='2 то'!$I$52 -> 28 | AO21: =AM21-AN21 -> -6 | AP21: =AN21*100/AM21 -> 127.27273 | AQ21: 120 | AR21: =('2 то'!$I$60)+('2 то'!$I$62) -> 24 | AS21: =AQ21-AR21 -> 96 | AT21: =AR21*100/AQ21 -> 20 | AU21: 30 | AV21: ='2 то'!$I$74 -> 7 | AW21: =AU21-AV21 -> 23 | AX21: =AV21*100/AU21 -> 23.333333 | AY21: 12 | AZ21: ='2 то'!$I$56 -> 3 | BA21: =AY21-AZ21 -> 9 | BB21: =AZ21*100/AY21 -> 25 | BC21: 1 | BD21: ='2 то'!$I$58 -> 0 | BE21: =BC21-BD21 -> 1 | BF21: =BD21*100/BC21 -> 0
A22: 3 | B22: Галаутдинова Зиля Гарифулловна | C22: 0 | D22: ='2 то'!$I$5 -> 77 | E22: =C22-D22 -> -77 | F22: =D22*100/C22 -> #DIV/0! | G22: 0 | H22: ='2 то'!$I$13 -> 0 | I22: =G22-H22 -> 0 | J22: =H22*100/G22 -> #DIV/0! | K22: 82 | L22: ='2 то'!$I$9 -> 96 | M22: =K22-L22 -> -14 | N22: =L22*100/K22 -> 117.07317 | O22: =S22+W22+AA22 -> 66 | P22: =T22+X22+AB22 -> 63 | Q22: =O22-P22 -> 3 | R22: =P22*100/O22 -> 95.454545 | S22: 0 | T22: =('2 то'!$I$27) -> 0 | U22: =S22-T22 -> 0 | V22: =T22*100/S22 -> #DIV/0! | W22: 52 | X22: =('2 то'!$I$29) -> 46 | Y22: =W22-X22 -> 6 | Z22: =X22*100/W22 -> 88.461538 | AA22: 14 | AB22: =('2 то'!$I$7) -> 17 | AC22: =AA22-AB22 -> -3 | AD22: =AB22*100/AA22 -> 121.42857 | AE22: 0 | AF22: ='2 то'!$I$11 -> 20 | AG22: =AE22-AF22 -> -20 | AH22: =AF22*100/AE22 -> #DIV/0! | AI22: 0 | AJ22: ='2 то'!$I$17 -> 7 | AK22: =AI22-AJ22 -> -7 | AL22: =AJ22*100/AI22 -> #DIV/0! | AM22: 22 | AN22: ='2 то'!$I$15 -> 20 | AO22: =AM22-AN22 -> 2 | AP22: =AN22*100/AM22 -> 90.909091 | AQ22: 120 | AR22: =('2 то'!$I$23)+('2 то'!$I$25) -> 27 | AS22: =AQ22-AR22 -> 93 | AT22: =AR22*100/AQ22 -> 22.5 | AU22: 30 | AV22: ='2 то'!$I$37 -> 0 | AW22: =AU22-AV22 -> 30 | AX22: =AV22*100/AU22 -> 0 | AY22: 12 | AZ22: ='2 то'!$I$19 -> 0 | BA22: =AY22-AZ22 -> 12 | BB22: =AZ22*100/AY22 -> 0 | BC22: 1 | BD22: ='2 то'!$I$21 -> 0 | BE22: =BC22-BD22 -> 1 | BF22: =BD22*100/BC22 -> 0
A23: 4 | B23: Иноземцева Дарья Дмитриевна | C23: 0 | D23: ='1 то'!$I$227 -> 19 | E23: =C23-D23 -> -19 | F23: =D23*100/C23 -> #DIV/0! | G23: 0 | H23: ='1 то'!$I$235 -> 0 | I23: =G23-H23 -> 0 | J23: =H23*100/G23 -> #DIV/0! | K23: 18 | L23: ='1 то'!$I$231 -> 19 | M23: =K23-L23 -> -1 | N23: =L23*100/K23 -> 105.55556 | O23: =S23+W23+AA23 -> 14 | P23: =T23+X23+AB23 -> 8 | Q23: =O23-P23 -> 6 | R23: =P23*100/O23 -> 57.142857 | S23: 0 | T23: ='1 то'!$I$249 -> 0 | U23: =S23-T23 -> 0 | V23: =T23*100/S23 -> #DIV/0! | W23: 11 | X23: =('1 то'!$I$251) -> 4 | Y23: =W23-X23 -> 7 | Z23: =X23*100/W23 -> 36.363636 | AA23: 3 | AB23: =('1 то'!$I$229) -> 4 | AC23: =AA23-AB23 -> -1 | AD23: =AB23*100/AA23 -> 133.33333 | AE23: 0 | AF23: ='1 то'!$I$233 -> 2 | AG23: =AE23-AF23 -> -2 | AH23: =AF23*100/AE23 -> #DIV/0! | AI23: 0 | AJ23: ='1 то'!$I$239 -> 0 | AK23: =AI23-AJ23 -> 0 | AL23: =AJ23*100/AI23 -> #DIV/0! | AM23: 5 | AN23: ='1 то'!$I$237 -> 13 | AO23: =AM23-AN23 -> -8 | AP23: =AN23*100/AM23 -> 260 | AQ23: 30 | AR23: =('1 то'!$I$241)+('1 то'!$I$243) -> 4 | AS23: =AQ23-AR23 -> 26 | AT23: =AR23*100/AQ23 -> 13.333333 | AU23: 7 | AV23: ='1 то'!$I$259 -> 0 | AW23: =AU23-AV23 -> 7 | AX23: =AV23*100/AU23 -> 0 | AY23: 3 | AZ23: ='1 то'!$I$245 -> 0 | BA23: =AY23-AZ23 -> 3 | BB23: =AZ23*100/AY23 -> 0 | BC23: 1 | BD23: ='1 то'!$I$247 -> 0 | BE23: =BC23-BD23 -> 1 | BF23: =BD23*100/BC23 -> 0
A24: 5 | B24: Исмагилова Ильмира Рашитовна | C24: 0 | D24: ='2 то'!$I$79 -> 37 | E24: =C24-D24 -> -37 | F24: =D24*100/C24 -> #DIV/0! | G24: 0 | H24: ='2 то'!$I$87 -> 0 | I24: =G24-H24 -> 0 | J24: =H24*100/G24 -> #DIV/0! | K24: 82 | L24: ='2 то'!$I$83 -> 72 | M24: =K24-L24 -> 10 | N24: =L24*100/K24 -> 87.804878 | O24: =S24+W24+AA24 -> 66 | P24: =T24+X24+AB24 -> 63 | Q24: =O24-P24 -> 3 | R24: =P24*100/O24 -> 95.454545 | S24: 0 | T24: =('2 то'!$I$101) -> 7 | U24: =S24-T24 -> -7 | V24: =T24*100/S24 -> #DIV/0! | W24: 52 | X24: =('2 то'!$I$103) -> 37 | Y24: =W24-X24 -> 15 | Z24: =X24*100/W24 -> 71.153846 | AA24: 14 | AB24: =('2 то'!$I$81) -> 19 | AC24: =AA24-AB24 -> -5 | AD24: =AB24*100/AA24 -> 135.71429 | AE24: 0 | AF24: ='2 то'!$I$85 -> 4 | AG24: =AE24-AF24 -> -4 | AH24: =AF24*100/AE24 -> #DIV/0! | AI24: 0 | AJ24: ='2 то'!$I$91 -> 0 | AK24: =AI24-AJ24 -> 0 | AL24: =AJ24*100/AI24 -> #DIV/0! | AM24: 22 | AN24: ='2 то'!$I$89 -> 18 | AO24: =AM24-AN24 -> 4 | AP24: =AN24*100/AM24 -> 81.818182 | AQ24: 120 | AR24: =('2 то'!$I$97)+('2 то'!$I$99) -> 53 | AS24: =AQ24-AR24 -> 67 | AT24: =AR24*100/AQ24 -> 44.166667 | AU24: 30 | AV24: ='2 то'!$I$111 -> 15 | AW24: =AU24-AV24 -> 15 | AX24: =AV24*100/AU24 -> 50 | AY24: 12 | AZ24: ='2 то'!$I$93 -> 12 | BA24: =AY24-AZ24 -> 0 | BB24: =AZ24*100/AY24 -> 100 | BC24: 1 | BD24: ='2 то'!$I$95 -> 1 | BE24: =BC24-BD24 -> 0 | BF24: =BD24*100/BC24 -> 100
A25: 6 | B25: Сиразетдинова Маргарита Альбертовна | C25: 0 | D25: ='2 то'!$I$338 -> 46 | E25: =C25-D25 -> -46 | F25: =D25*100/C25 -> #DIV/0! | G25: 0 | H25: ='2 то'!$I$346 -> 0 | I25: =G25-H25 -> 0 | J25: =H25*100/G25 -> #DIV/0! | K25: 40 | L25: ='2 то'!$I$342 -> 51 | M25: =K25-L25 -> -11 | N25: =L25*100/K25 -> 127.5 | O25: =S25+W25+AA25 -> 34 | P25: =T25+X25+AB25 -> 35 | Q25: =O25-P25 -> -1 | R25: =P25*100/O25 -> 102.94118 | S25: 0 | T25: =('2 то'!$I$360) -> 0 | U25: =S25-T25 -> 0 | V25: =T25*100/S25 -> #DIV/0! | W25: 27 | X25: =('2 то'!$I$362) -> 28 | Y25: =W25-X25 -> -1 | Z25: =X25*100/W25 -> 103.7037 | AA25: 7 | AB25: =('2 то'!$I$340) -> 7 | AC25: =AA25-AB25 -> 0 | AD25: =AB25*100/AA25 -> 100 | AE25: 0 | AF25: ='2 то'!$I$344 -> 4 | AG25: =AE25-AF25 -> -4 | AH25: =AF25*100/AE25 -> #DIV/0! | AI25: 0 | AJ25: ='2 то'!$I$350 -> 3 | AK25: =AI25-AJ25 -> -3 | AL25: =AJ25*100/AI25 -> #DIV/0! | AM25: 12 | AN25: ='2 то'!$I$348 -> 19 | AO25: =AM25-AN25 -> -7 | AP25: =AN25*100/AM25 -> 158.33333 | AQ25: 60 | AR25: =('2 то'!$I$356)+('2 то'!$I$358) -> 34 | AS25: =AQ25-AR25 -> 26 | AT25: =AR25*100/AQ25 -> 56.666667 | AU25: 16 | AV25: ='2 то'!$I$370 -> 16 | AW25: =AU25-AV25 -> 0 | AX25: =AV25*100/AU25 -> 100 | AY25: 6 | AZ25: ='2 то'!$I$352 -> 10 | BA25: =AY25-AZ25 -> -4 | BB25: =AZ25*100/AY25 -> 166.66667 | BC25: 1 | BD25: ='2 то'!$I$354 -> 0 | BE25: =BC25-BD25 -> 1 | BF25: =BD25*100/BC25 -> 0
A26: 7 | B26: Хайбуллина Найля Гатуфовна | C26: 0 | D26: ='2 то'!$I$264 -> 4 | E26: =C26-D26 -> -4 | F26: =D26*100/C26 -> #DIV/0! | G26: 0 | H26: ='2 то'!$I$272 -> 0 | I26: =G26-H26 -> 0 | J26: =H26*100/G26 -> #DIV/0! | K26: 82 | L26: ='2 то'!$I$268 -> 83 | M26: =K26-L26 -> -1 | N26: =L26*100/K26 -> 101.21951 | O26: =S26+W26+AA26 -> 66 | P26: =T26+X26+AB26 -> 55 | Q26: =O26-P26 -> 11 | R26: =P26*100/O26 -> 83.333333 | S26: 0 | T26: =('2 то'!$I$286) -> 0 | U26: =S26-T26 -> 0 | V26: =T26*100/S26 -> #DIV/0! | W26: 52 | X26: =('2 то'!$I$288) -> 41 | Y26: =W26-X26 -> 11 | Z26: =X26*100/W26 -> 78.846154 | AA26: 14 | AB26: =('2 то'!$I$266) -> 14 | AC26: =AA26-AB26 -> 0 | AD26: =AB26*100/AA26 -> 100 | AE26: 0 | AF26: ='2 то'!$I$270 -> 0 | AG26: =AE26-AF26 -> 0 | AH26: =AF26*100/AE26 -> #DIV/0! | AI26: 0 | AJ26: ='2 то'!$I$276 -> 0 | AK26: =AI26-AJ26 -> 0 | AL26: =AJ26*100/AI26 -> #DIV/0! | AM26: 22 | AN26: ='2 то'!$I$274 -> 25 | AO26: =AM26-AN26 -> -3 | AP26: =AN26*100/AM26 -> 113.63636 | AQ26: 120 | AR26: =('2 то'!$I$282)+('2 то'!$I$284) -> 82 | AS26: =AQ26-AR26 -> 38 | AT26: =AR26*100/AQ26 -> 68.333333 | AU26: 30 | AV26: ='2 то'!$I$296 -> 20 | AW26: =AU26-AV26 -> 10 | AX26: =AV26*100/AU26 -> 66.666667 | AY26: 12 | AZ26: ='2 то'!$I$278 -> 12 | BA26: =AY26-AZ26 -> 0 | BB26: =AZ26*100/AY26 -> 100 | BC26: 1 | BD26: ='2 то'!$I$280 -> 0 | BE26: =BC26-BD26 -> 1 | BF26: =BD26*100/BC26 -> 0
A27: 8 | B27: Яппарова Сабина Артуровна | C27: 0 | D27: ='2 то'!$I$153 -> 61 | E27: =C27-D27 -> -61 | F27: =D27*100/C27 -> #DIV/0! | G27: 0 | H27: ='2 то'!$I$161 -> 0 | I27: =G27-H27 -> 0 | J27: =H27*100/G27 -> #DIV/0! | K27: 82 | L27: ='2 то'!$I$157 -> 31 | M27: =K27-L27 -> 51 | N27: =L27*100/K27 -> 37.804878 | O27: =S27+W27+AA27 -> 66 | P27: =T27+X27+AB27 -> 22 | Q27: =O27-P27 -> 44 | R27: =P27*100/O27 -> 33.333333 | S27: 0 | T27: =('2 то'!$I$175) -> 1 | U27: =S27-T27 -> -1 | V27: =T27*100/S27 -> #DIV/0! | W27: 52 | X27: =('2 то'!$I$177) -> 19 | Y27: =W27-X27 -> 33 | Z27: =X27*100/W27 -> 36.538462 | AA27: 14 | AB27: =('2 то'!$I$155) -> 2 | AC27: =AA27-AB27 -> 12 | AD27: =AB27*100/AA27 -> 14.285714 | AE27: 0 | AF27: ='2 то'!$I$159 -> 0 | AG27: =AE27-AF27 -> 0 | AH27: =AF27*100/AE27 -> #DIV/0! | AI27: 0 | AJ27: ='2 то'!$I$165 -> 3 | AK27: =AI27-AJ27 -> -3 | AL27: =AJ27*100/AI27 -> #DIV/0! | AM27: 22 | AN27: ='2 то'!$I$163 -> 19 | AO27: =AM27-AN27 -> 3 | AP27: =AN27*100/AM27 -> 86.363636 | AQ27: 120 | AR27: =('2 то'!$I$171)+('2 то'!$I$173) -> 74 | AS27: =AQ27-AR27 -> 46 | AT27: =AR27*100/AQ27 -> 61.666667 | AU27: 30 | AV27: ='2 то'!$I$185 -> 30 | AW27: =AU27-AV27 -> 0 | AX27: =AV27*100/AU27 -> 100 | AY27: 12 | AZ27: ='2 то'!$I$167 -> 13 | BA27: =AY27-AZ27 -> -1 | BB27: =AZ27*100/AY27 -> 108.33333 | BC27: 1 | BD27: ='2 то'!$I$169 -> 0 | BE27: =BC27-BD27 -> 1 | BF27: =BD27*100/BC27 -> 0
B28: ИТОГО по 2 терапии | C28: =SUM(C19:C27) -> 0 | D28: =SUM(D19:D27) -> 380 | E28: =C28-D28 -> -380 | F28: =D28*100/C28 -> #DIV/0! | G28: =SUM(G19:G27) -> 0 | H28: =SUM(H19:H27) -> 0 | I28: =G28-H28 -> 0 | J28: =H28*100/G28 -> #DIV/0! | K28: =SUM(K19:K27) -> 550 | L28: =SUM(L19:L27) -> 520 | M28: =K28-L28 -> 30 | N28: =L28*100/K28 -> 94.545455 | O28: =SUM(O19:O27) -> 444 | P28: =SUM(P19:P27) -> 364 | Q28: =O28-P28 -> 80 | R28: =P28*100/O28 -> 81.981982 | S28: =SUM(S19:S27) -> 0 | T28: =SUM(T19:T27) -> 8 | U28: =S28-T28 -> -8 | V28: =T28*100/S28 -> #DIV/0! | W28: =SUM(W19:W27) -> 350 | X28: =SUM(X19:X27) -> 264 | Y28: =W28-X28 -> 86 | Z28: =X28*100/W28 -> 75.428571 | AA28: =SUM(AA19:AA27) -> 94 | AB28: =SUM(AB19:AB27) -> 92 | AC28: =AA28-AB28 -> 2 | AD28: =AB28*100/AA28 -> 97.87234 | AE28: =SUM(AE19:AE27) -> 0 | AF28: =SUM(AF19:AF27) -> 54 | AG28: =AE28-AF28 -> -54 | AH28: =AF28*100/AE28 -> #DIV/0! | AI28: =SUM(AI19:AI27) -> 0 | AJ28: =SUM(AJ19:AJ27) -> 16 | AK28: =AI28-AJ28 -> -16 | AL28: =AJ28*100/AI28 -> #DIV/0! | AM28: =SUM(AM19:AM27) -> 149 | AN28: =SUM(AN19:AN27) -> 196 | AO28: =AM28-AN28 -> -47 | AP28: =AN28*100/AM28 -> 131.54362 | AQ28: =SUM(AQ19:AQ27) -> 870 | AR28: =SUM(AR19:AR27) -> 397 | AS28: =AQ28-AR28 -> 473 | AT28: =AR28*100/AQ28 -> 45.632184 | AU28: =SUM(AU19:AU27) -> 221 | AV28: =SUM(AV19:AV27) -> 120 | AW28: =AU28-AV28 -> 101 | AX28: =AV28*100/AU28 -> 54.298643 | AY28: =SUM(AY19:AY27) -> 87 | AZ28: =SUM(AZ19:AZ27) -> 68 | BA28: =AY28-AZ28 -> 19 | BB28: =AZ28*100/AY28 -> 78.16092 | BC28: =SUM(BC19:BC27) -> 9 | BD28: =SUM(BD19:BD27) -> 2 | BE28: =BC28-BD28 -> 7 | BF28: =BD28*100/BC28 -> 22.222222
B30: Надыршина Анастасия Сергеевна - зав.отд | D30: ='3 то'!$I$5 -> 1 | H30: ='3 то'!$I$13 -> 0 | L30: ='3 то'!$I$9 -> 0 | P30: =T30+X30+AB30 -> 0 | T30: ='3 то'!$I$27 -> 0 | X30: ='3 то'!$I$29 -> 0 | AB30: ='3 то'!$I$7 -> 0 | AF30: ='3 то'!$I$11 -> 3 | AJ30: ='3 то'!$I$17 -> 2 | AN30: ='3 то'!$I$15 -> 1 | AR30: =('3 то'!$I$19)+('3 то'!$I$21) -> 0 | AV30: ='3 то'!$I$37 -> 0 | AZ30: ='3 то'!$I$23 -> 0 | BD30: ='3 то'!$I$25 -> 0
A31: 1 | B31: Аиткулов Урал Рамилевич | C31: 0 | D31: ='3 то'!$I$375 -> 120 | E31: =C31-D31 -> -120 | F31: =D31*100/C31 -> #DIV/0! | G31: 0 | H31: ='3 то'!$I$383 -> 0 | I31: =G31-H31 -> 0 | J31: =H31*100/G31 -> #DIV/0! | K31: 112 | L31: ='3 то'!$I$379 -> 62 | M31: =K31-L31 -> 50 | N31: =L31*100/K31 -> 55.357143 | O31: =S31+W31+AA31 -> 55 | P31: =T31+X31+AB31 -> 76 | Q31: =O31-P31 -> -21 | R31: =P31*100/O31 -> 138.18182 | S31: 0 | T31: =('3 то'!$I$397) -> 21 | U31: =S31-T31 -> -21 | V31: =T31*100/S31 -> #DIV/0! | W31: 55 | X31: =('3 то'!$I$399) -> 33 | Y31: =W31-X31 -> 22 | Z31: =X31*100/W31 -> 60 | AA31: 0 | AB31: =('3 то'!$I$377) -> 22 | AC31: =AA31-AB31 -> -22 | AD31: =AB31*100/AA31 -> #DIV/0! | AE31: 0 | AF31: ='3 то'!$I$381 -> 3 | AG31: =AE31-AF31 -> -3 | AH31: =AF31*100/AE31 -> #DIV/0! | AI31: 0 | AJ31: ='3 то'!$I$387 -> 5 | AK31: =AI31-AJ31 -> -5 | AL31: =AJ31*100/AI31 -> #DIV/0! | AM31: 49 | AN31: ='3 то'!$I$385 -> 28 | AO31: =AM31-AN31 -> 21 | AP31: =AN31*100/AM31 -> 57.142857 | AQ31: 455 | AR31: =('3 то'!$I$389)+('3 то'!$I$391) -> 39 | AS31: =AQ31-AR31 -> 416 | AT31: =AR31*100/AQ31 -> 8.5714286 | AU31: 122 | AV31: ='3 то'!$I$407 -> 27 | AW31: =AU31-AV31 -> 95 | AX31: =AV31*100/AU31 -> 22.131148 | AY31: 19 | AZ31: ='3 то'!$I$393 -> 13 | BA31: =AY31-AZ31 -> 6 | BB31: =AZ31*100/AY31 -> 68.421053 | BC31: 0 | BD31: ='3 то'!$I$395 -> 0 | BE31: =BC31-BD31 -> 0 | BF31: =BD31*100/BC31 -> #DIV/0!
A32: 2 | B32: Беркутова Марина Игоревна | C32: 0 | D32: ='3 то'!$I$42 -> 115 | E32: =C32-D32 -> -115 | F32: =D32*100/C32 -> #DIV/0! | G32: 0 | H32: ='3 то'!$I$50 -> 0 | I32: =G32-H32 -> 0 | J32: =H32*100/G32 -> #DIV/0! | K32: 112 | L32: ='3 то'!$I$46 -> 122 | M32: =K32-L32 -> -10 | N32: =L32*100/K32 -> 108.92857 | O32: =S32+W32+AA32 -> 55 | P32: =T32+X32+AB32 -> 77 | Q32: =O32-P32 -> -22 | R32: =P32*100/O32 -> 140 | S32: 0 | T32: =('3 то'!$I$64) -> 11 | U32: =S32-T32 -> -11 | V32: =T32*100/S32 -> #DIV/0! | W32: 55 | X32: =('3 то'!$I$66) -> 55 | Y32: =W32-X32 -> 0 | Z32: =X32*100/W32 -> 100 | AA32: 0 | AB32: =('3 то'!$I$44) -> 11 | AC32: =AA32-AB32 -> -11 | AD32: =AB32*100/AA32 -> #DIV/0! | AE32: 0 | AF32: ='3 то'!$I$48 -> 4 | AG32: =AE32-AF32 -> -4 | AH32: =AF32*100/AE32 -> #DIV/0! | AI32: 0 | AJ32: ='3 то'!$I$54 -> 0 | AK32: =AI32-AJ32 -> 0 | AL32: =AJ32*100/AI32 -> #DIV/0! | AM32: 49 | AN32: ='3 то'!$I$52 -> 66 | AO32: =AM32-AN32 -> -17 | AP32: =AN32*100/AM32 -> 134.69388 | AQ32: 455 | AR32: =('3 то'!$I$56)+('3 то'!$I$58) -> 42 | AS32: =AQ32-AR32 -> 413 | AT32: =AR32*100/AQ32 -> 9.2307692 | AU32: 122 | AV32: ='3 то'!$I$74 -> 14 | AW32: =AU32-AV32 -> 108 | AX32: =AV32*100/AU32 -> 11.47541 | AY32: 19 | AZ32: ='3 то'!$I$60 -> 19 | BA32: =AY32-AZ32 -> 0 | BB32: =AZ32*100/AY32 -> 100 | BC32: 1 | BD32: ='3 то'!$I$62 -> 1 | BE32: =BC32-BD32 -> 0 | BF32: =BD32*100/BC32 -> 100
A33: 3 | B33: Ибатуллина Аделина Олеговна | C33: 0 | D33: ='3 то'!$I$523 -> 42 | E33: =C33-D33 -> -42 | F33: =D33*100/C33 -> #DIV/0! | G33: 0 | H33: ='3 то'!$I$531 -> 0 | I33: =G33-H33 -> 0 | J33: =H33*100/G33 -> #DIV/0! | K33: 71 | L33: ='3 то'!$I$527 -> 84 | M33: =K33-L33 -> -13 | N33: =L33*100/K33 -> 118.30986 | O33: =S33+W33+AA33 -> 36 | P33: =T33+X33+AB33 -> 39 | Q33: =O33-P33 -> -3 | R33: =P33*100/O33 -> 108.33333 | S33: 0 | T33: =('3 то'!$I$545) -> 0 | U33: =S33-T33 -> 0 | V33: =T33*100/S33 -> #DIV/0! | W33: 36 | X33: =('3 то'!$I$547) -> 39 | Y33: =W33-X33 -> -3 | Z33: =X33*100/W33 -> 108.33333 | AA33: 0 | AB33: =('3 то'!$I$525) -> 0 | AC33: =AA33-AB33 -> 0 | AD33: =AB33*100/AA33 -> #DIV/0! | AE33: 0 | AF33: ='3 то'!$I$529 -> 6 | AG33: =AE33-AF33 -> -6 | AH33: =AF33*100/AE33 -> #DIV/0! | AI33: 0 | AJ33: ='3 то'!$I$535 -> 0 | AK33: =AI33-AJ33 -> 0 | AL33: =AJ33*100/AI33 -> #DIV/0! | AM33: 36 | AN33: ='3 то'!$I$533 -> 50 | AO33: =AM33-AN33 -> -14 | AP33: =AN33*100/AM33 -> 138.88889 | AQ33: 433 | AR33: =('3 то'!$I$537)+('3 то'!$I$539) -> 0 | AS33: =AQ33-AR33 -> 433 | AT33: =AR33*100/AQ33 -> 0 | AU33: 81 | AV33: ='3 то'!$I$555 -> 0 | AW33: =AU33-AV33 -> 81 | AX33: =AV33*100/AU33 -> 0 | AY33: 15 | AZ33: ='3 то'!$I$541 -> 2 | BA33: =AY33-AZ33 -> 13 | BB33: =AZ33*100/AY33 -> 13.333333 | BC33: 0 | BD33: ='3 то'!$I$543 -> 0 | BE33: =BC33-BD33 -> 0 | BF33: =BD33*100/BC33 -> #DIV/0!
A34: 4 | B34: Климина Софья Андреевна | C34: 0 | D34: ='3 то'!$I$560 -> 3 | E34: =C34-D34 -> -3 | F34: =D34*100/C34 -> #DIV/0! | G34: 0 | H34: ='3 то'!$I$568 -> 0 | I34: =G34-H34 -> 0 | J34: =H34*100/G34 -> #DIV/0! | K34: 0 | L34: ='3 то'!$I$564 -> 0 | M34: =K34-L34 -> 0 | N34: =L34*100/K34 -> #DIV/0! | O34: =S34+W34+AA34 -> 0 | P34: =T34+X34+AB34 -> 0 | Q34: =O34-P34 -> 0 | R34: =P34*100/O34 -> #DIV/0! | S34: 0 | T34: =('3 то'!$I$582) -> 0 | U34: =S34-T34 -> 0 | V34: =T34*100/S34 -> #DIV/0! | W34: 0 | X34: =('3 то'!$I$584) -> 0 | Y34: =W34-X34 -> 0 | Z34: =X34*100/W34 -> #DIV/0! | AA34: 0 | AB34: =('3 то'!$I$562) -> 0 | AC34: =AA34-AB34 -> 0 | AD34: =AB34*100/AA34 -> #DIV/0! | AE34: 0 | AF34: ='3 то'!$I$566 -> 6 | AG34: =AE34-AF34 -> -6 | AH34: =AF34*100/AE34 -> #DIV/0! | AI34: 0 | AJ34: ='3 то'!$I$572 -> 1 | AK34: =AI34-AJ34 -> -1 | AL34: =AJ34*100/AI34 -> #DIV/0! | AM34: 0 | AN34: ='3 то'!$I$570 -> 0 | AO34: =AM34-AN34 -> 0 | AP34: =AN34*100/AM34 -> #DIV/0! | AQ34: 0 | AR34: =('3 то'!$I$574)+('3 то'!$I$576) -> 0 | AS34: =AQ34-AR34 -> 0 | AT34: =AR34*100/AQ34 -> #DIV/0! | AU34: 0 | AV34: ='3 то'!$I$592 -> 1 | AW34: =AU34-AV34 -> -1 | AX34: =AV34*100/AU34 -> #DIV/0! | AY34: 0 | AZ34: ='3 то'!$I$578 -> 0 | BA34: =AY34-AZ34 -> 0 | BB34: =AZ34*100/AY34 -> #DIV/0! | BC34: 0 | BD34: ='3 то'!$I$580 -> 0 | BE34: =BC34-BD34 -> 0 | BF34: =BD34*100/BC34 -> #DIV/0!
A35: 5 | B35: Круль Стелла Владимировна д/о | C35: 0 | D35: ='3 то'!$I$153 -> 0 | E35: =C35-D35 -> 0 | F35: =D35*100/C35 -> #DIV/0! | G35: 0 | H35: ='3 то'!$I$161 -> 0 | I35: =G35-H35 -> 0 | J35: =H35*100/G35 -> #DIV/0! | K35: 0 | L35: ='3 то'!$I$157 -> 0 | M35: =K35-L35 -> 0 | N35: =L35*100/K35 -> #DIV/0! | O35: =S35+W35+AA35 -> 0 | P35: =T35+X35+AB35 -> 0 | Q35: =O35-P35 -> 0 | R35: =P35*100/O35 -> #DIV/0! | S35: 0 | T35: =('3 то'!$I$175) -> 0 | U35: =S35-T35 -> 0 | V35: =T35*100/S35 -> #DIV/0! | W35: 0 | X35: =('3 то'!$I$177) -> 0 | Y35: =W35-X35 -> 0 | Z35: =X35*100/W35 -> #DIV/0! | AA35: 0 | AB35: =('3 то'!$I$155) -> 0 | AC35: =AA35-AB35 -> 0 | AD35: =AB35*100/AA35 -> #DIV/0! | AE35: 0 | AF35: ='3 то'!$I$159 -> 0 | AG35: =AE35-AF35 -> 0 | AH35: =AF35*100/AE35 -> #DIV/0! | AI35: 0 | AJ35: ='3 то'!$I$165 -> 0 | AK35: =AI35-AJ35 -> 0 | AL35: =AJ35*100/AI35 -> #DIV/0! | AM35: 0 | AN35: ='3 то'!$I$163 -> 0 | AO35: =AM35-AN35 -> 0 | AP35: =AN35*100/AM35 -> #DIV/0! | AQ35: 0 | AR35: =('3 то'!$I$167)+('3 то'!$I$169) -> 0 | AS35: =AQ35-AR35 -> 0 | AT35: =AR35*100/AQ35 -> #DIV/0! | AU35: 0 | AV35: ='3 то'!$I$185 -> 0 | AW35: =AU35-AV35 -> 0 | AX35: =AV35*100/AU35 -> #DIV/0! | AY35: 0 | AZ35: ='3 то'!$I$171 -> 0 | BA35: =AY35-AZ35 -> 0 | BB35: =AZ35*100/AY35 -> #DIV/0! | BC35: 0 | BD35: ='3 то'!$I$173 -> 0 | BE35: =BC35-BD35 -> 0 | BF35: =BD35*100/BC35 -> #DIV/0!
A36: 6 | B36: КУРБОНЗОДА АДИБАБОНУИ ШУХРАТ | C36: 0 | D36: ='3 то'!$I$190 -> 71 | E36: =C36-D36 -> -71 | F36: =D36*100/C36 -> #DIV/0! | G36: 0 | H36: ='3 то'!$I$198 -> 0 | I36: =G36-H36 -> 0 | J36: =H36*100/G36 -> #DIV/0! | K36: 68 | L36: ='3 то'!$I$194 -> 72 | M36: =K36-L36 -> -4 | N36: =L36*100/K36 -> 105.88235 | O36: =S36+W36+AA36 -> 35 | P36: =T36+X36+AB36 -> 51 | Q36: =O36-P36 -> -16 | R36: =P36*100/O36 -> 145.71429 | S36: 0 | T36: =('3 то'!$I$212) -> 10 | U36: =S36-T36 -> -10 | V36: =T36*100/S36 -> #DIV/0! | W36: 35 | X36: =('3 то'!$I$214) -> 35 | Y36: =W36-X36 -> 0 | Z36: =X36*100/W36 -> 100 | AA36: 0 | AB36: =('3 то'!$I$192) -> 6 | AC36: =AA36-AB36 -> -6 | AD36: =AB36*100/AA36 -> #DIV/0! | AE36: 0 | AF36: ='3 то'!$I$196 -> 1 | AG36: =AE36-AF36 -> -1 | AH36: =AF36*100/AE36 -> #DIV/0! | AI36: 0 | AJ36: ='3 то'!$I$202 -> 0 | AK36: =AI36-AJ36 -> 0 | AL36: =AJ36*100/AI36 -> #DIV/0! | AM36: 20 | AN36: ='3 то'!$I$200 -> 21 | AO36: =AM36-AN36 -> -1 | AP36: =AN36*100/AM36 -> 105 | AQ36: 228 | AR36: =('3 то'!$I$204)+('3 то'!$I$206) -> 53 | AS36: =AQ36-AR36 -> 175 | AT36: =AR36*100/AQ36 -> 23.245614 | AU36: 50 | AV36: ='3 то'!$I$222 -> 40 | AW36: =AU36-AV36 -> 10 | AX36: =AV36*100/AU36 -> 80 | AY36: 10 | AZ36: ='3 то'!$I$208 -> 12 | BA36: =AY36-AZ36 -> -2 | BB36: =AZ36*100/AY36 -> 120 | BC36: 0 | BD36: ='3 то'!$I$210 -> 0 | BE36: =BC36-BD36 -> 0 | BF36: =BD36*100/BC36 -> #DIV/0!
A37: 7 | B37: Кутляхметова Назгуль Амировна | C37: 0 | D37: ='3 то'!$I$301 -> 29 | E37: =C37-D37 -> -29 | F37: =D37*100/C37 -> #DIV/0! | G37: 0 | H37: ='3 то'!$I$309 -> 0 | I37: =G37-H37 -> 0 | J37: =H37*100/G37 -> #DIV/0! | K37: 112 | L37: ='3 то'!$I$305 -> 60 | M37: =K37-L37 -> 52 | N37: =L37*100/K37 -> 53.571429 | O37: =S37+W37+AA37 -> 55 | P37: =T37+X37+AB37 -> 11 | Q37: =O37-P37 -> 44 | R37: =P37*100/O37 -> 20 | S37: 0 | T37: ='3 то'!$I$323 -> 3 | U37: =S37-T37 -> -3 | V37: =T37*100/S37 -> #DIV/0! | W37: 55 | X37: =('3 то'!$I$325) -> 8 | Y37: =W37-X37 -> 47 | Z37: =X37*100/W37 -> 14.545455 | AA37: 0 | AB37: =('3 то'!$I$303) -> 0 | AC37: =AA37-AB37 -> 0 | AD37: =AB37*100/AA37 -> #DIV/0! | AE37: 0 | AF37: ='3 то'!$I$307 -> 2 | AG37: =AE37-AF37 -> -2 | AH37: =AF37*100/AE37 -> #DIV/0! | AI37: 0 | AJ37: ='3 то'!$I$313 -> 2 | AK37: =AI37-AJ37 -> -2 | AL37: =AJ37*100/AI37 -> #DIV/0! | AM37: 49 | AN37: ='3 то'!$I$311 -> 41 | AO37: =AM37-AN37 -> 8 | AP37: =AN37*100/AM37 -> 83.673469 | AQ37: 455 | AR37: =('3 то'!$I$315)+('3 то'!$I$317) -> 24 | AS37: =AQ37-AR37 -> 431 | AT37: =AR37*100/AQ37 -> 5.2747253 | AU37: 122 | AV37: ='3 то'!$I$333 -> 14 | AW37: =AU37-AV37 -> 108 | AX37: =AV37*100/AU37 -> 11.47541 | AY37: 19 | AZ37: ='3 то'!$I$319 -> 2 | BA37: =AY37-AZ37 -> 17 | BB37: =AZ37*100/AY37 -> 10.526316 | BC37: 0 | BD37: ='3 то'!$I$321 -> 0 | BE37: =BC37-BD37 -> 0 | BF37: =BD37*100/BC37 -> #DIV/0!
A38: 8 | B38: Мухаметдинов Артур Русланович | C38: 0 | D38: ='3 то'!$I$227 -> 61 | E38: =C38-D38 -> -61 | F38: =D38*100/C38 -> #DIV/0! | G38: 0 | H38: ='3 то'!$I$235 -> 0 | I38: =G38-H38 -> 0 | J38: =H38*100/G38 -> #DIV/0! | K38: 112 | L38: ='3 то'!$I$231 -> 117 | M38: =K38-L38 -> -5 | N38: =L38*100/K38 -> 104.46429 | O38: =S38+W38+AA38 -> 55 | P38: =T38+X38+AB38 -> 76 | Q38: =O38-P38 -> -21 | R38: =P38*100/O38 -> 138.18182 | S38: 0 | T38: =('3 то'!$I$249) -> 22 | U38: =S38-T38 -> -22 | V38: =T38*100/S38 -> #DIV/0! | W38: 55 | X38: =('3 то'!$I$251) -> 53 | Y38: =W38-X38 -> 2 | Z38: =X38*100/W38 -> 96.363636 | AA38: 0 | AB38: =('3 то'!$I$229) -> 1 | AC38: =AA38-AB38 -> -1 | AD38: =AB38*100/AA38 -> #DIV/0! | AE38: 0 | AF38: ='3 то'!$I$233 -> 1 | AG38: =AE38-AF38 -> -1 | AH38: =AF38*100/AE38 -> #DIV/0! | AI38: 0 | AJ38: ='3 то'!$I$239 -> 1 | AK38: =AI38-AJ38 -> -1 | AL38: =AJ38*100/AI38 -> #DIV/0! | AM38: 49 | AN38: ='3 то'!$I$237 -> 45 | AO38: =AM38-AN38 -> 4 | AP38: =AN38*100/AM38 -> 91.836735 | AQ38: 455 | AR38: =('3 то'!$I$241)+('3 то'!$I$243) -> 45 | AS38: =AQ38-AR38 -> 410 | AT38: =AR38*100/AQ38 -> 9.8901099 | AU38: 122 | AV38: ='3 то'!$I$259 -> 29 | AW38: =AU38-AV38 -> 93 | AX38: =AV38*100/AU38 -> 23.770492 | AY38: 19 | AZ38: ='3 то'!$I$245 -> 11 | BA38: =AY38-AZ38 -> 8 | BB38: =AZ38*100/AY38 -> 57.894737 | BC38: 0 | BD38: ='3 то'!$I$247 -> 0 | BE38: =BC38-BD38 -> 0 | BF38: =BD38*100/BC38 -> #DIV/0!
A39: 9 | B39: Протасова Айгуль Салаватовна | C39: 0 | D39: ='3 то'!$I$79 -> 61 | E39: =C39-D39 -> -61 | F39: =D39*100/C39 -> #DIV/0! | G39: 0 | H39: ='3 то'!$I$87 -> 0 | I39: =G39-H39 -> 0 | J39: =H39*100/G39 -> #DIV/0! | K39: 88 | L39: ='3 то'!$I$83 -> 114 | M39: =K39-L39 -> -26 | N39: =L39*100/K39 -> 129.54545 | O39: =S39+W39+AA39 -> 36 | P39: =T39+X39+AB39 -> 33 | Q39: =O39-P39 -> 3 | R39: =P39*100/O39 -> 91.666667 | S39: 0 | T39: =('3 то'!$I$101) -> 0 | U39: =S39-T39 -> 0 | V39: =T39*100/S39 -> #DIV/0! | W39: 36 | X39: =('3 то'!$I$103) -> 33 | Y39: =W39-X39 -> 3 | Z39: =X39*100/W39 -> 91.666667 | AA39: 0 | AB39: =('3 то'!$I$81) -> 0 | AC39: =AA39-AB39 -> 0 | AD39: =AB39*100/AA39 -> #DIV/0! | AE39: 0 | AF39: ='3 то'!$I$85 -> 2 | AG39: =AE39-AF39 -> -2 | AH39: =AF39*100/AE39 -> #DIV/0! | AI39: 0 | AJ39: ='3 то'!$I$91 -> 0 | AK39: =AI39-AJ39 -> 0 | AL39: =AJ39*100/AI39 -> #DIV/0! | AM39: 40 | AN39: ='3 то'!$I$89 -> 46 | AO39: =AM39-AN39 -> -6 | AP39: =AN39*100/AM39 -> 115 | AQ39: 436 | AR39: =('3 то'!$I$93)+('3 то'!$I$95) -> 18 | AS39: =AQ39-AR39 -> 418 | AT39: =AR39*100/AQ39 -> 4.1284404 | AU39: 81 | AV39: ='3 то'!$I$111 -> 5 | AW39: =AU39-AV39 -> 76 | AX39: =AV39*100/AU39 -> 6.1728395 | AY39: 15 | AZ39: ='3 то'!$I$97 -> 19 | BA39: =AY39-AZ39 -> -4 | BB39: =AZ39*100/AY39 -> 126.66667 | BC39: 1 | BD39: ='3 то'!$I$99 -> 0 | BE39: =BC39-BD39 -> 1 | BF39: =BD39*100/BC39 -> 0
A40: 10 | B40: Тихомирова Софья Алексеевна | C40: 0 | D40: ='3 то'!$I$264 -> 78 | E40: =C40-D40 -> -78 | F40: =D40*100/C40 -> #DIV/0! | G40: 0 | H40: ='3 то'!$I$272 -> 0 | I40: =G40-H40 -> 0 | J40: =H40*100/G40 -> #DIV/0! | K40: 112 | L40: ='3 то'!$I$268 -> 172 | M40: =K40-L40 -> -60 | N40: =L40*100/K40 -> 153.57143 | O40: =S40+W40+AA40 -> 55 | P40: =T40+X40+AB40 -> 51 | Q40: =O40-P40 -> 4 | R40: =P40*100/O40 -> 92.727273 | S40: 0 | T40: =('3 то'!$I$286) -> 14 | U40: =S40-T40 -> -14 | V40: =T40*100/S40 -> #DIV/0! | W40: 55 | X40: =('3 то'!$I$288) -> 31 | Y40: =W40-X40 -> 24 | Z40: =X40*100/W40 -> 56.363636 | AA40: 0 | AB40: =('3 то'!$I$266) -> 6 | AC40: =AA40-AB40 -> -6 | AD40: =AB40*100/AA40 -> #DIV/0! | AE40: 0 | AF40: ='3 то'!$I$270 -> 4 | AG40: =AE40-AF40 -> -4 | AH40: =AF40*100/AE40 -> #DIV/0! | AI40: 0 | AJ40: ='3 то'!$I$276 -> 1 | AK40: =AI40-AJ40 -> -1 | AL40: =AJ40*100/AI40 -> #DIV/0! | AM40: 49 | AN40: ='3 то'!$I$274 -> 66 | AO40: =AM40-AN40 -> -17 | AP40: =AN40*100/AM40 -> 134.69388 | AQ40: 455 | AR40: =('3 то'!$I$278)+('3 то'!$I$280) -> 57 | AS40: =AQ40-AR40 -> 398 | AT40: =AR40*100/AQ40 -> 12.527473 | AU40: 122 | AV40: ='3 то'!$I$296 -> 21 | AW40: =AU40-AV40 -> 101 | AX40: =AV40*100/AU40 -> 17.213115 | AY40: 19 | AZ40: ='3 то'!$I$282 -> 18 | BA40: =AY40-AZ40 -> 1 | BB40: =AZ40*100/AY40 -> 94.736842 | BC40: 0 | BD40: ='3 то'!$I$284 -> 0 | BE40: =BC40-BD40 -> 0 | BF40: =BD40*100/BC40 -> #DIV/0!
A41: 11 | B41: Хакимова Юлдуз Хушеровна | C41: 0 | D41: ='3 то'!$I$597 -> 0 | E41: =C41-D41 -> 0 | F41: =D41*100/C41 -> #DIV/0! | G41: 0 | H41: ='3 то'!$I$605 -> 0 | I41: =G41-H41 -> 0 | J41: =H41*100/G41 -> #DIV/0! | K41: 0 | L41: ='3 то'!$I$601 -> 1 | M41: =K41-L41 -> -1 | N41: =L41*100/K41 -> #DIV/0! | O41: =S41+W41+AA41 -> 0 | P41: =T41+X41+AB41 -> 0 | Q41: =O41-P41 -> 0 | R41: =P41*100/O41 -> #DIV/0! | S41: 0 | T41: =('3 то'!$I$619) -> 0 | U41: =S41-T41 -> 0 | V41: =T41*100/S41 -> #DIV/0! | W41: 0 | X41: =('3 то'!$I$621) -> 0 | Y41: =W41-X41 -> 0 | Z41: =X41*100/W41 -> #DIV/0! | AA41: 0 | AB41: =('3 то'!$I$599) -> 0 | AC41: =AA41-AB41 -> 0 | AD41: =AB41*100/AA41 -> #DIV/0! | AE41: 0 | AF41: ='3 то'!$I$603 -> 0 | AG41: =AE41-AF41 -> 0 | AH41: =AF41*100/AE41 -> #DIV/0! | AI41: 0 | AJ41: ='3 то'!$I$609 -> 0 | AK41: =AI41-AJ41 -> 0 | AL41: =AJ41*100/AI41 -> #DIV/0! | AM41: 0 | AN41: ='3 то'!$I$607 -> 0 | AO41: =AM41-AN41 -> 0 | AP41: =AN41*100/AM41 -> #DIV/0! | AQ41: 0 | AR41: =('3 то'!$I$611)+('3 то'!$I$613) -> 0 | AS41: =AQ41-AR41 -> 0 | AT41: =AR41*100/AQ41 -> #DIV/0! | AU41: 0 | AV41: ='3 то'!$I$629 -> 0 | AW41: =AU41-AV41 -> 0 | AX41: =AV41*100/AU41 -> #DIV/0! | AY41: 0 | AZ41: ='3 то'!$I$615 -> 0 | BA41: =AY41-AZ41 -> 0 | BB41: =AZ41*100/AY41 -> #DIV/0! | BC41: 0 | BD41: ='3 то'!$I$617 -> 0 | BE41: =BC41-BD41 -> 0 | BF41: =BD41*100/BC41 -> #DIV/0!
B42: ИТОГО по 3 терапии | C42: =SUM(C31:C41) -> 0 | D42: =SUM(D31:D41) -> 580 | E42: =C42-D42 -> -580 | F42: =D42*100/C42 -> #DIV/0! | G42: =SUM(G31:G41) -> 0 | H42: =SUM(H31:H41) -> 0 | I42: =G42-H42 -> 0 | J42: =H42*100/G42 -> #DIV/0! | K42: =SUM(K31:K41) -> 787 | L42: =SUM(L31:L41) -> 804 | M42: =K42-L42 -> -17 | N42: =L42*100/K42 -> 102.1601 | O42: =SUM(O31:O41) -> 382 | P42: =SUM(P31:P41) -> 414 | Q42: =O42-P42 -> -32 | R42: =P42*100/O42 -> 108.37696 | S42: =SUM(S31:S41) -> 0 | T42: =SUM(T31:T41) -> 81 | U42: =S42-T42 -> -81 | V42: =T42*100/S42 -> #DIV/0! | W42: =SUM(W31:W41) -> 382 | X42: =SUM(X31:X41) -> 287 | Y42: =W42-X42 -> 95 | Z42: =X42*100/W42 -> 75.13089 | AA42: =SUM(AA31:AA41) -> 0 | AB42: =SUM(AB31:AB41) -> 46 | AC42: =AA42-AB42 -> -46 | AD42: =AB42*100/AA42 -> #DIV/0! | AE42: =SUM(AE31:AE41) -> 0 | AF42: =SUM(AF31:AF41) -> 29 | AG42: =AE42-AF42 -> -29 | AH42: =AF42*100/AE42 -> #DIV/0! | AI42: =SUM(AI31:AI41) -> 0 | AJ42: =SUM(AJ31:AJ41) -> 10 | AK42: =AI42-AJ42 -> -10 | AL42: =AJ42*100/AI42 -> #DIV/0! | AM42: =SUM(AM31:AM41) -> 341 | AN42: =SUM(AN31:AN41) -> 363 | AO42: =AM42-AN42 -> -22 | AP42: =AN42*100/AM42 -> 106.45161 | AQ42: =SUM(AQ31:AQ41) -> 3372 | AR42: =SUM(AR31:AR41) -> 278 | AS42: =AQ42-AR42 -> 3094 | AT42: =AR42*100/AQ42 -> 8.2443654 | AU42: =SUM(AU31:AU41) -> 822 | AV42: =SUM(AV31:AV41) -> 151 | AW42: =AU42-AV42 -> 671 | AX42: =AV42*100/AU42 -> 18.36983 | AY42: =SUM(AY31:AY41) -> 135 | AZ42: =SUM(AZ31:AZ41) -> 96 | BA42: =AY42-AZ42 -> 39 | BB42: =AZ42*100/AY42 -> 71.111111 | BC42: =SUM(BC31:BC41) -> 2 | BD42: =SUM(BD31:BD41) -> 1 | BE42: =BC42-BD42 -> 1 | BF42: =BD42*100/BC42 -> 50
...

Sheet Профильные
C1: =Терапевты!C1 -> ПЛАН ОБРАЩЕНИЙ И ПОСЕЩЕНИЙ за сентябрь 2025 г.
C3: Обращения *888 | G3: Диспансерное наблюдение *814 | K3: Диспансерное наблюдение (пр. 168-н) | O3: в т.ч. диспансерное наблюдение по БСК *984 | S3: Разовые по заболеванию *890 | W3: С другими целями (Ds группы Z) *934 | AB3: Обращения *865, *836 | AF3: Диспансерное наблюдение *804 | AJ3: Диспансерное наблюдение (пр. 168-н) | AN3: Разовые по заболеваниям *871 | AR3: С другими целями *932
C4: План | D4: Факт | E4: Осталось до плана | F4: % | G4: План | H4: Факт | I4: Осталось до плана | J4: % | K4: План | L4: Факт | M4: Осталось до плана | N4: % | O4: План | P4: Факт | Q4: Осталось до плана | R4: % | S4: План | T4: Факт | U4: Осталось до плана | V4: % | W4: План | X4: Факт | Y4: Осталось до плана | Z4: % | AB4: План | AC4: Факт | AD4: Осталось до плана | AE4: % | AF4: План | AG4: Факт | AH4: Осталось до плана | AI4: % | AJ4: План | AK4: Факт | AL4: Осталось до плана | AM4: % | AN4: План | AO4: Факт | AP4: Осталось до плана | AQ4: % | AR4: План | AS4: Факт | AT4: Осталось до плана | AU4: %
C5: ХИРУРГИЧЕСКОЕ ОТДЕЛЕНИЕ
B6: Крылов Дмитрий Сергеевич зав.отд, 0,5ст | C6: 0 | D6: =ХО!$I$44 -> 15 | E6: =C6-D6 -> -15 | F6: =D6*100/C6 -> #DIV/0! | G6: 137 | H6: =ХО!$I$52 -> 127 | I6: =G6-H6 -> 10 | J6: =H6*100/G6 -> 92.70073 | K6: 0 | L6: =ХО!$I$50 -> 0 | M6: =K6-L6 -> 0 | N6: =L6*100/K6 -> #DIV/0! | S6: 0 | T6: =ХО!$I$48 -> 6 | U6: =S6-T6 -> -6 | V6: =T6*100/S6 -> #DIV/0! | W6: 0 | X6: =ХО!$I$46 -> 0 | Y6: =W6-X6 -> 0 | Z6: =X6*100/W6 -> #DIV/0!
A7: 1 | B7: Буляков Ринат Мухлисович | C7: 0 | D7: =ХО!$I$5 -> 127 | F7: =D7*100/C7 -> #DIV/0! | G7: 137 | H7: =ХО!$I$13 -> 126 | J7: =H7*100/G7 -> 91.970803 | K7: 0 | L7: =ХО!$I$11 -> 0 | N7: =L7*100/K7 -> #DIV/0! | S7: 0 | T7: =ХО!$I$9 -> 12 | V7: =T7*100/S7 -> #DIV/0! | W7: 0 | X7: =ХО!$I$7 -> 0 | Z7: =X7*100/W7 -> #DIV/0!
A8: 2 | B8: Гималетдинов Ильдар Сабирьянович | C8: 0 | D8: =ХО!$I$18 -> 63 | E8: =C8-D8 -> -63 | F8: =D8*100/C8 -> #DIV/0! | G8: 137 | H8: =ХО!$I$26 -> 135 | I8: =G8-H8 -> 2 | J8: =H8*100/G8 -> 98.540146 | K8: 0 | L8: =ХО!$I$24 -> 0 | M8: =K8-L8 -> 0 | N8: =L8*100/K8 -> #DIV/0! | S8: 0 | T8: =ХО!$I$22 -> 23 | U8: =S8-T8 -> -23 | V8: =T8*100/S8 -> #DIV/0! | W8: 0 | X8: =ХО!$I$20 -> 0 | Y8: =W8-X8 -> 0 | Z8: =X8*100/W8 -> #DIV/0!
A9: 3 | B9: Литвинова Елена Валериевна | C9: 0 | D9: =ХО!$I$31 -> 49 | E9: =C9-D9 -> -49 | F9: =D9*100/C9 -> #DIV/0! | G9: 137 | H9: =ХО!$I$39 -> 170 | I9: =G9-H9 -> -33 | J9: =H9*100/G9 -> 124.08759 | K9: 0 | L9: =ХО!$I$37 -> 0 | M9: =K9-L9 -> 0 | N9: =L9*100/K9 -> #DIV/0! | S9: 0 | T9: =ХО!$I$35 -> 7 | U9: =S9-T9 -> -7 | V9: =T9*100/S9 -> #DIV/0! | W9: 0 | X9: =ХО!$I$33 -> 0 | Y9: =W9-X9 -> 0 | Z9: =X9*100/W9 -> #DIV/0!
A10: 4 | B10: Хабибрахманов Марат Фанович на м/о | C10: 0 | D10: =ХО!$I$57 -> 4 | E10: =C10-D10 -> -4 | F10: =D10*100/C10 -> #DIV/0! | G10: 0 | H10: =ХО!$I$65 -> 0 | I10: =G10-H10 -> 0 | J10: =H10*100/G10 -> #DIV/0! | K10: 0 | L10: =ХО!$I$63 -> 0 | M10: =K10-L10 -> 0 | N10: =L10*100/K10 -> #DIV/0! | S10: 0 | T10: =ХО!$I$61 -> 1 | U10: =S10-T10 -> -1 | V10: =T10*100/S10 -> #DIV/0! | W10: 0 | X10: =ХО!$I$59 -> 0 | Y10: =W10-X10 -> 0 | Z10: =X10*100/W10 -> #DIV/0!
A11: 5 | B11: Пашкова Эльвира Михайловна | C11: 0 | D11: =ХО!$I$70 -> 67 | E11: =C11-D11 -> -67 | F11: =D11*100/C11 -> #DIV/0! | G11: 137 | H11: =ХО!$I$78 -> 178 | I11: =G11-H11 -> -41 | J11: =H11*100/G11 -> 129.92701 | K11: 0 | L11: =ХО!$I$76 -> 0 | M11: =K11-L11 -> 0 | N11: =L11*100/K11 -> #DIV/0! | S11: 0 | T11: =ХО!$I$74 -> 27 | U11: =S11-T11 -> -27 | V11: =T11*100/S11 -> #DIV/0! | W11: 0 | X11: =ХО!$I$72 -> 1 | Y11: =W11-X11 -> -1 | Z11: =X11*100/W11 -> #DIV/0!
B12: Всего по хирургии | C12: =SUM(C7:C11) -> 0 | D12: =SUM(D7:D11) -> 310 | E12: =C12-D12 -> -310 | F12: =D12*100/C12 -> #DIV/0! | G12: =SUM(G7:G11) -> 548 | H12: =SUM(H7:H11) -> 609 | I12: =G12-H12 -> -61 | J12: =H12*100/G12 -> 111.13139 | K12: =SUM(K7:K11) -> 0 | L12: =SUM(L7:L11) -> 0 | M12: =K12-L12 -> 0 | N12: =L12*100/K12 -> #DIV/0! | O12: =SUM(O7:O11) -> 0 | P12: =SUM(P7:P11) -> 0 | Q12: =O12-P12 -> 0 | R12: =P12*100/O12 -> #DIV/0! | S12: =SUM(S7:S11) -> 0 | T12: =SUM(T7:T11) -> 70 | U12: =S12-T12 -> -70 | V12: =T12*100/S12 -> #DIV/0! | W12: =SUM(W7:W11) -> 0 | X12: =SUM(X7:X11) -> 1 | Y12: =W12-X12 -> -1 | Z12: =X12*100/W12 -> #DIV/0!
A14: 1 | B14: Бирюков Алексей Александрович | C14: 0 | D14: =ХО!$T$5 -> 14 | E14: =C14-D14 -> -14 | F14: =D14*100/C14 -> #DIV/0! | G14: 137 | H14: =ХО!$T$13 -> 129 | I14: =G14-H14 -> 8 | J14: =H14*100/G14 -> 94.160584 | K14: 6 | L14: =ХО!$T$11 -> 0 | M14: =K14-L14 -> 6 | N14: =L14*100/K14 -> 0 | S14: 0 | T14: =ХО!$T$9 -> 36 | U14: =S14-T14 -> -36 | V14: =T14*100/S14 -> #DIV/0! | W14: 0 | X14: =ХО!$T$7 -> 1 | Y14: =W14-X14 -> -1 | Z14: =X14*100/W14 -> #DIV/0!
A15: 2 | B15: Юмакаев Салават Дамирович | C15: 0 | D15: =ХО!$T$31 -> 35 | E15: =C15-D15 -> -35 | F15: =D15*100/C15 -> #DIV/0! | G15: 137 | H15: =ХО!$T$39 -> 235 | I15: =G15-H15 -> -98 | J15: =H15*100/G15 -> 171.53285 | K15: 6 | L15: =ХО!$T$37 -> 0 | M15: =K15-L15 -> 6 | N15: =L15*100/K15 -> 0 | S15: 0 | T15: =ХО!$T$35 -> 64 | U15: =S15-T15 -> -64 | V15: =T15*100/S15 -> #DIV/0! | W15: 0 | X15: =ХО!$T$33 -> 9 | Y15: =W15-X15 -> -9 | Z15: =X15*100/W15 -> #DIV/0!
B16: Всего по урологиии | C16: =SUM(C14:C15) -> 0 | D16: =SUM(D14:D15) -> 49 | E16: =C16-D16 -> -49 | F16: =D16*100/C16 -> #DIV/0! | G16: =SUM(G14:G15) -> 274 | H16: =SUM(H14:H15) -> 364 | I16: =G16-H16 -> -90 | J16: =H16*100/G16 -> 132.84672 | K16: =SUM(K14:K15) -> 12 | L16: =SUM(L14:L15) -> 0 | M16: =K16-L16 -> 12 | N16: =L16*100/K16 -> 0 | O16: =SUM(O14:O15) -> 0 | P16: =SUM(P14:P15) -> 0 | Q16: =O16-P16 -> 0 | R16: =P16*100/O16 -> #DIV/0! | S16: =SUM(S14:S15) -> 0 | T16: =SUM(T14:T15) -> 100 | U16: =S16-T16 -> -100 | V16: =T16*100/S16 -> #DIV/0! | W16: =SUM(W14:W15) -> 0 | X16: =SUM(X14:X15) -> 10 | Y16: =W16-X16 -> -10 | Z16: =X16*100/W16 -> #DIV/0!
A18: 1 | C18: 0 | D18: =ХО!$AE$5 -> 0 | E18: =C18-D18 -> 0 | F18: =D18*100/C18 -> #DIV/0! | G18: 0 | H18: =ХО!$AE$11 -> 0 | I18: =G18-H18 -> 0 | J18: =H18*100/G18 -> #DIV/0! | K18: 0 | L18: =ХО!$AE$9 -> 0 | M18: =K18-L18 -> 0 | N18: =L18*100/K18 -> #DIV/0! | S18: 0 | T18: =ХО!$AE$7 -> 0 | U18: =S18-T18 -> 0 | V18: =T18*100/S18 -> #DIV/0! | AB18: 72 | AC18: =ХО!$AE$5 -> 0 | AD18: =AB18-AC18 -> 72 | AE18: =AC18*100/AB18 -> 0 | AF18: 4 | AG18: =ХО!$AE$11 -> 0 | AH18: =AF18-AG18 -> 4 | AI18: =AG18*100/AF18 -> 0 | AJ18: 0 | AK18: =ХО!$AE$9 -> 0 | AL18: =AJ18-AK18 -> 0 | AM18: =AK18*100/AJ18 -> #DIV/0! | AN18: 47 | AO18: =ХО!$AE$7 -> 0 | AP18: =AN18-AO18 -> 47 | AQ18: =AO18*100/AN18 -> 0
A19: 2 | B19: Яруллин Ильгиз Талгатович | C19: 173 | D19: =ХО!$AE$27 -> 137 | E19: =C19-D19 -> 36 | F19: =D19*100/C19 -> 79.190751 | G19: 137 | H19: =ХО!$AE$33 -> 120 | I19: =G19-H19 -> 17 | J19: =H19*100/G19 -> 87.591241 | K19: 2 | L19: =ХО!$AE$31 -> 0 | M19: =K19-L19 -> 2 | N19: =L19*100/K19 -> 0 | S19: 176 | T19: =ХО!$AE$29 -> 144 | U19: =S19-T19 -> 32 | V19: =T19*100/S19 -> 81.818182 | AB19: 503 | AC19: =ХО!$AE$27 -> 137 | AD19: =AB19-AC19 -> 366 | AE19: =AC19*100/AB19 -> 27.236581 | AF19: 11 | AG19: =ХО!$AE$33 -> 120 | AH19: =AF19-AG19 -> -109 | AI19: =AG19*100/AF19 -> 1090.9091 | AJ19: 1 | AK19: =ХО!$AE$31 -> 0 | AL19: =AJ19-AK19 -> 1 | AM19: =AK19*100/AJ19 -> 0 | AN19: 313 | AO19: =ХО!$AE$29 -> 144 | AP19: =AN19-AO19 -> 169 | AQ19: =AO19*100/AN19 -> 46.00639
A20: 3 | B20: Гильмияров Эльмир Рифкатович 0,5 | C20: 88 | D20: =ХО!$AE$16 -> 83 | E20: =C20-D20 -> 5 | F20: =D20*100/C20 -> 94.318182 | G20: 69 | H20: =ХО!$AE$22 -> 68 | I20: =G20-H20 -> 1 | J20: =H20*100/G20 -> 98.550725 | K20: 1 | L20: =ХО!$AE$20 -> 0 | M20: =K20-L20 -> 1 | N20: =L20*100/K20 -> 0 | S20: 87 | T20: =ХО!$AE$18 -> 2 | U20: =S20-T20 -> 85 | V20: =T20*100/S20 -> 2.2988506 | AB20: 55 | AC20: =ХО!$AE$16 -> 83 | AD20: =AB20-AC20 -> -28 | AE20: =AC20*100/AB20 -> 150.90909 | AF20: 29 | AG20: =ХО!$AE$22 -> 68 | AH20: =AF20-AG20 -> -39 | AI20: =AG20*100/AF20 -> 234.48276 | AJ20: 1 | AK20: =ХО!$AE$20 -> 0 | AL20: =AJ20-AK20 -> 1 | AM20: =AK20*100/AJ20 -> 0 | AN20: 326 | AO20: =ХО!$AE$18 -> 2 | AP20: =AN20-AO20 -> 324 | AQ20: =AO20*100/AN20 -> 0.61349693
A21: 4 | B21: Мурзакамалов Руслан Гирфанович 0,5 | C21: 88 | D21: =ХО!$AE$38 -> 65 | E21: =C21-D21 -> 23 | F21: =D21*100/C21 -> 73.863636 | G21: 69 | H21: =ХО!$AE$44 -> 70 | I21: =G21-H21 -> -1 | J21: =H21*100/G21 -> 101.44928 | K21: 1 | L21: =ХО!$AE$42 -> 0 | M21: =K21-L21 -> 1 | N21: =L21*100/K21 -> 0 | S21: 87 | T21: =ХО!$AE$40 -> 18 | U21: =S21-T21 -> 69 | V21: =T21*100/S21 -> 20.689655 | AB21: 267 | AC21: =ХО!$AE$38 -> 65 | AD21: =AB21-AC21 -> 202 | AE21: =AC21*100/AB21 -> 24.344569 | AF21: 49 | AG21: =ХО!$AE$44 -> 70 | AH21: =AF21-AG21 -> -21 | AI21: =AG21*100/AF21 -> 142.85714 | AJ21: 1 | AK21: =ХО!$AE$42 -> 0 | AL21: =AJ21-AK21 -> 1 | AM21: =AK21*100/AJ21 -> 0 | AN21: 88 | AO21: =ХО!$AE$40 -> 18 | AP21: =AN21-AO21 -> 70 | AQ21: =AO21*100/AN21 -> 20.454545
