Workbook

Sheet Терапевты
C1: ПЛАН ОБРАЩЕНИЙ И ПОСЕЩЕНИЙ за сентябрь 2025 г.
A2: № п/п | C2: Обращения | G2: Профилактические
C3: 667888 | G3: Профосмотры 611805 | K3: Диспансерное наблюдение 667814 | O3: Диспансерное наблюдение (пр. 168-н) | S3: в т.ч. диспансерное наблюдение по сахарному диабету 667983 | W3: в т.ч. диспансерное наблюдение по БСК 667984 | AA3: в т.ч. диспансерное наблюдение по др. заболеваниям 667972 | AE3: Разовые по заболеванию 667890 | AI3: С другими целями (Ds группы Z) 667934 | AM3: Неотложка 667824 | AQ3: Диспансеризация 1 этап | AU3: Диспансеризация 2 этап | AY3: УДВН 1 этап | BC3: УДВН 2 этап
C4: План | D4: Факт | E4: Осталось до плана | F4: % | G4: План | H4: Факт | I4: Осталось до плана | J4: % | K4: План | L4: Факт | M4: Осталось до плана | N4: % | O4: План | P4: Факт | Q4: Осталось до плана | R4: % | S4: План | T4: Факт | U4: Осталось до плана | V4: % | W4: План | X4: Факт | Y4: Осталось до плана | Z4: % | AA4: План | AB4: Факт | AC4: Осталось до плана | AD4: % | AE4: План | AF4: Факт | AG4: Осталось до плана | AH4: % | AI4: План | AJ4: Факт | AK4: Осталось до плана | AL4: % | AM4: План | AN4: Факт | AO4: Осталось до плана | AP4: % | AQ4: План | AR4: Факт | AS4: Осталось до плана | AT4: % | AU4: План | AV4: Факт | AW4: Осталось до плана | AX4: % | AY4: План | AZ4: Факт | BA4: Осталось до плана | BB4: % | BC4: План | BD4: Факт | BE4: Осталось до плана | BF4: %
B5: Самситдинова Эльмира Римовна - зав.отд | C5: 0 | D5: ='1 то'!$I$338 -> 0 | E5: =C5-D5 -> 0 | F5: =D5*100/C5 -> #DIV/0! | G5: 0 | H5: ='1 то'!$I$346 -> 0 | I5: =G5-H5 -> 0 | J5: =H5*100/G5 -> #DIV/0! | K5: 0 | L5: ='1 то'!$I$342 -> 0 | M5: =K5-L5 -> 0 | N5: =L5*100/K5 -> #DIV/0! | O5: =S5+W5+AA5 -> 0 | P5: =T5+X5+AB5 -> 0 | Q5: =O5-P5 -> 0 | R5: =P5*100/O5 -> #DIV/0! | S5: 0 | T5: ='1 то'!$I$360 -> 0 | U5: =S5-T5 -> 0 | V5: =T5*100/S5 -> #DIV/0! | W5: 0 | X5: ='1 то'!$I$362 -> 0 | Y5: =W5-X5 -> 0 | Z5: =X5*100/W5 -> #DIV/0! | AA5: 0 | AB5: ='1 то'!$I$340 -> 0 | AC5: =AA5-AB5 -> 0 | AD5: =AB5*100/AA5 -> #DIV/0! | AE5: 0 | AF5: ='1 то'!$I$344 -> 1 | AG5: =AE5-AF5 -> -1 | AH5: =AF5*100/AE5 -> #DIV/0! | AI5: 0 | AJ5: ='1 то'!$I$350 -> 0 | AK5: =AI5-AJ5 -> 0 | AL5: =AJ5*100/AI5 -> #DIV/0! | AM5: 0 | AN5: ='1 то'!$I$348 -> 0 | AO5: =AM5-AN5 -> 0 | AP5: =AN5*100/AM5 -> #DIV/0! | AQ5: 0 | AR5: =('1 то'!$I$352)+('1 то'!$I$354) -> 0 | AS5: =AQ5-AR5 -> 0 | AT5: =AR5*100/AQ5 -> #DIV/0! | AU5: 0 | AV5: ='1 то'!$I$370 -> 0 | AW5: =AU5-AV5 -> 0 | AX5: =AV5*100/AU5 -> #DIV/0! | AY5: 0 | AZ5: ='1 то'!$I$356 -> 0 | BA5: =AY5-AZ5 -> 0 | BB5: =AZ5*100/AY5 -> #DIV/0! | BC5: 0 | BD5: ='1 то'!$I$358 -> 0 | BE5: =BC5-BD5 -> 0 | BF5: =BD5*100/BC5 -> #DIV/0!
A6: 1 | B6: Иванова (Алсынбаева) Нурзиля Марсовна д/о | C6: 0 | D6: ='1 то'!$I$153 -> 0 | E6: =C6-D6 -> 0 | F6: =D6*100/C6 -> #DIV/0! | G6: 0 | H6: ='1 то'!$I$161 -> 0 | I6: =G6-H6 -> 0 | J6: =H6*100/G6 -> #DIV/0! | K6: 0 | L6: ='1 то'!$I$157 -> 0 | M6: =K6-L6 -> 0 | N6: =L6*100/K6 -> #DIV/0! | O6: =S6+W6+AA6 -> 0 | P6: =T6+X6+AB6 -> 0 | Q6: =O6-P6 -> 0 | R6: =P6*100/O6 -> #DIV/0! | S6: 0 | T6: ='1 то'!$I$175 -> 0 | U6: =S6-T6 -> 0 | V6: =T6*100/S6 -> #DIV/0! | W6: 0 | X6: =('1 то'!$I$177) -> 0 | Y6: =W6-X6 -> 0 | Z6: =X6*100/W6 -> #DIV/0! | AA6: 0 | AB6: =('1 то'!$I$155) -> 0 | AC6: =AA6-AB6 -> 0 | AD6: =AB6*100/AA6 -> #DIV/0! | AE6: 0 | AF6: ='1 то'!$I$159 -> 0 | AG6: =AE6-AF6 -> 0 | AH6: =AF6*100/AE6 -> #DIV/0! | AI6: 0 | AJ6: ='1 то'!$I$165 -> 0 | AK6: =AI6-AJ6 -> 0 | AL6: =AJ6*100/AI6 -> #DIV/0! | AM6: 0 | AN6: ='1 то'!$I$163 -> 0 | AO6: =AM6-AN6 -> 0 | AP6: =AN6*100/AM6 -> #DIV/0! | AQ6: 0 | AR6: =('1 то'!$I$167)+('1 то'!$I$169) -> 0 | AS6: =AQ6-AR6 -> 0 | AT6: =AR6*100/AQ6 -> #DIV/0! | AU6: 0 | AV6: ='1 то'!$I$185 -> 0 | AW6: =AU6-AV6 -> 0 | AX6: =AV6*100/AU6 -> #DIV/0! | AY6: 0 | AZ6: ='1 то'!$I$171 -> 0 | BA6: =AY6-AZ6 -> 0 | BB6: =AZ6*100/AY6 -> #DIV/0! | BC6: 0 | BD6: ='1 то'!$I$173 -> 0 | BE6: =BC6-BD6 -> 0 | BF6: =BD6*100/BC6 -> #DIV/0!
A7: 2 | B7: Аминева Рената Сергеевна | C7: 0 | D7: ='1 то'!$I$116 -> 42 | E7: =C7-D7 -> -42 | F7: =D7*100/C7 -> #DIV/0! | G7: 0 | H7: ='1 то'!$I$124 -> 0 | I7: =G7-H7 -> 0 | J7: =H7*100/G7 -> #DIV/0! | K7: 47 | L7: ='1 то'!$I$120 -> 50 | M7: =K7-L7 -> -3 | N7: =L7*100/K7 -> 106.38298 | O7: =S7+W7+AA7 -> 54 | P7: =T7+X7+AB7 -> 54 | Q7: =O7-P7 -> 0 | R7: =P7*100/O7 -> 100 | S7: 0 | T7: ='1 то'!$I$138 -> 4 | U7: =S7-T7 -> -4 | V7: =T7*100/S7 -> #DIV/0! | W7: 50 | X7: =('1 то'!$I$140) -> 46 | Y7: =W7-X7 -> 4 | Z7: =X7*100/W7 -> 92 | AA7: 4 | AB7: =('1 то'!$I$118) -> 4 | AC7: =AA7-AB7 -> 0 | AD7: =AB7*100/AA7 -> 100 | AE7: 0 | AF7: ='1 то'!$I$122 -> 13 | AG7: =AE7-AF7 -> -13 | AH7: =AF7*100/AE7 -> #DIV/0! | AI7: 0 | AJ7: ='1 то'!$I$128 -> 17 | AK7: =AI7-AJ7 -> -17 | AL7: =AJ7*100/AI7 -> #DIV/0! | AM7: 18 | AN7: ='1 то'!$I$126 -> 41 | AO7: =AM7-AN7 -> -23 | AP7: =AN7*100/AM7 -> 227.77778 | AQ7: 101 | AR7: =('1 то'!$I$130)+('1 то'!$I$132) -> 104 | AS7: =AQ7-AR7 -> -3 | AT7: =AR7*100/AQ7 -> 102.9703 | AU7: 28 | AV7: ='1 то'!$I$148 -> 28 | AW7: =AU7-AV7 -> 0 | AX7: =AV7*100/AU7 -> 100 | AY7: 11 | AZ7: ='1 то'!$I$134 -> 11 | BA7: =AY7-AZ7 -> 0 | BB7: =AZ7*100/AY7 -> 100 | BC7: 1 | BD7: ='1 то'!$I$136 -> 0 | BE7: =BC7-BD7 -> 1 | BF7: =BD7*100/BC7 -> 0
A8: 3 | B8: Бадартдинова Зульфия Марлисовна | C8: 0 | D8: ='1 то'!$I$42 -> 69 | E8: =C8-D8 -> -69 | F8: =D8*100/C8 -> #DIV/0! | G8: 0 | H8: ='1 то'!$I$50 -> 0 | I8: =G8-H8 -> 0 | J8: =H8*100/G8 -> #DIV/0! | K8: 47 | L8: ='1 то'!$I$46 -> 54 | M8: =K8-L8 -> -7 | N8: =L8*100/K8 -> 114.89362 | O8: =S8+W8+AA8 -> 54 | P8: =T8+X8+AB8 -> 57 | Q8: =O8-P8 -> -3 | R8: =P8*100/O8 -> 105.55556 | S8: 0 | T8: ='1 то'!$I$64 -> 4 | U8: =S8-T8 -> -4 | V8: =T8*100/S8 -> #DIV/0! | W8: 50 | X8: =('1 то'!$I$66) -> 49 | Y8: =W8-X8 -> 1 | Z8: =X8*100/W8 -> 98 | AA8: 4 | AB8: =('1 то'!$I$44) -> 4 | AC8: =AA8-AB8 -> 0 | AD8: =AB8*100/AA8 -> 100 | AE8: 0 | AF8: ='1 то'!$I$48 -> 0 | AG8: =AE8-AF8 -> 0 | AH8: =AF8*100/AE8 -> #DIV/0! | AI8: 0 | AJ8: ='1 то'!$I$54 -> 0 | AK8: =AI8-AJ8 -> 0 | AL8: =AJ8*100/AI8 -> #DIV/0! | AM8: 18 | AN8: ='1 то'!$I$52 -> 44 | AO8: =AM8-AN8 -> -26 | AP8: =AN8*100/AM8 -> 244.44444 | AQ8: 101 | AR8: =('1 то'!$I$56)+('1 то'!$I$58) -> 70 | AS8: =AQ8-AR8 -> 31 | AT8: =AR8*100/AQ8 -> 69.306931 | AU8: 28 | AV8: ='1 то'!$I$74 -> 17 | AW8: =AU8-AV8 -> 11 | AX8: =AV8*100/AU8 -> 60.714286 | AY8: 11 | AZ8: ='1 то'!$I$60 -> 11 | BA8: =AY8-AZ8 -> 0 | BB8: =AZ8*100/AY8 -> 100 | BC8: 1 | BD8: ='1 то'!$I$62 -> 0 | BE8: =BC8-BD8 -> 1 | BF8: =BD8*100/BC8 -> 0
A9: 4 | B9: Билалов Ильгам Ильшатович | C9: 0 | D9: ='1 то'!$I$190 -> 55 | E9: =C9-D9 -> -55 | F9: =D9*100/C9 -> #DIV/0! | G9: 0 | H9: ='1 то'!$I$198 -> 0 | I9: =G9-H9 -> 0 | J9: =H9*100/G9 -> #DIV/0! | K9: 47 | L9: ='1 то'!$I$194 -> 60 | M9: =K9-L9 -> -13 | N9: =L9*100/K9 -> 127.65957 | O9: =S9+W9+AA9 -> 54 | P9: =T9+X9+AB9 -> 57 | Q9: =O9-P9 -> -3 | R9: =P9*100/O9 -> 105.55556 | S9: 0 | T9: ='1 то'!$I$212 -> 2 | U9: =S9-T9 -> -2 | V9: =T9*100/S9 -> #DIV/0! | W9: 50 | X9: =('1 то'!$I$214) -> 47 | Y9: =W9-X9 -> 3 | Z9: =X9*100/W9 -> 94 | AA9: 4 | AB9: =('1 то'!$I$192) -> 8 | AC9: =AA9-AB9 -> -4 | AD9: =AB9*100/AA9 -> 200 | AE9: 0 | AF9: ='1 то'!$I$196 -> 11 | AG9: =AE9-AF9 -> -11 | AH9: =AF9*100/AE9 -> #DIV/0! | AI9: 0 | AJ9: ='1 то'!$I$202 -> 8 | AK9: =AI9-AJ9 -> -8 | AL9: =AJ9*100/AI9 -> #DIV/0! | AM9: 18 | AN9: ='1 то'!$I$200 -> 24 | AO9: =AM9-AN9 -> -6 | AP9: =AN9*100/AM9 -> 133.33333 | AQ9: 101 | AR9: =('1 то'!$I$204)+('1 то'!$I$206) -> 63 | AS9: =AQ9-AR9 -> 38 | AT9: =AR9*100/AQ9 -> 62.376238 | AU9: 28 | AV9: ='1 то'!$I$222 -> 16 | AW9: =AU9-AV9 -> 12 | AX9: =AV9*100/AU9 -> 57.142857 | AY9: 11 | AZ9: ='1 то'!$I$208 -> 2 | BA9: =AY9-AZ9 -> 9 | BB9: =AZ9*100/AY9 -> 18.181818 | BC9: 1 | BD9: ='1 то'!$I$210 -> 0 | BE9: =BC9-BD9 -> 1 | BF9: =BD9*100/BC9 -> 0
A10: 5 | B10: Гилязева Зарина Раилевна | C10: 0 | D10: ='1 то'!$I$5 -> 43 | E10: =C10-D10 -> -43 | F10: =D10*100/C10 -> #DIV/0! | G10: 0 | H10: ='1 то'!$I$13 -> 0 | I10: =G10-H10 -> 0 | J10: =H10*100/G10 -> #DIV/0! | K10: 47 | L10: ='1 то'!$I$9 -> 47 | M10: =K10-L10 -> 0 | N10: =L10*100/K10 -> 100 | O10: =S10+W10+AA10 -> 54 | P10: =T10+X10+AB10 -> 42 | Q10: =O10-P10 -> 12 | R10: =P10*100/O10 -> 77.777778 | S10: 0 | T10: ='1 то'!$I$27 -> 3 | U10: =S10-T10 -> -3 | V10: =T10*100/S10 -> #DIV/0! | W10: 50 | X10: =('1 то'!$I$29) -> 35 | Y10: =W10-X10 -> 15 | Z10: =X10*100/W10 -> 70 | AA10: 4 | AB10: =('1 то'!$I$7) -> 4 | AC10: =AA10-AB10 -> 0 | AD10: =AB10*100/AA10 -> 100 | AE10: 0 | AF10: ='1 то'!$I$11 -> 50 | AG10: =AE10-AF10 -> -50 | AH10: =AF10*100/AE10 -> #DIV/0! | AI10: 0 | AJ10: ='1 то'!$I$17 -> 17 | AK10: =AI10-AJ10 -> -17 | AL10: =AJ10*100/AI10 -> #DIV/0! | AM10: 17 | AN10: ='1 то'!$I$15 -> 20 | AO10: =AM10-AN10 -> -3 | AP10: =AN10*100/AM10 -> 117.64706 | AQ10: 101 | AR10: =('1 то'!$I$19)+('1 то'!$I$21) -> 94 | AS10: =AQ10-AR10 -> 7 | AT10: =AR10*100/AQ10 -> 93.069307 | AU10: 28 | AV10: ='1 то'!$I$37 -> 30 | AW10: =AU10-AV10 -> -2 | AX10: =AV10*100/AU10 -> 107.14286 | AY10: 11 | AZ10: ='1 то'!$I$23 -> 12 | BA10: =AY10-AZ10 -> -1 | BB10: =AZ10*100/AY10 -> 109.09091 | BC10: 1 | BD10: ='1 то'!$I$25 -> 0 | BE10: =BC10-BD10 -> 1 | BF10: =BD10*100/BC10 -> 0
A11: 6 | B11: Зайнуллина Адель Маратовна | C11: 0 | D11: ='1 то'!$I$486 -> 53 | E11: =C11-D11 -> -53 | F11: =D11*100/C11 -> #DIV/0! | G11: 0 | H11: ='1 то'!$I$494 -> 0 | I11: =G11-H11 -> 0 | J11: =H11*100/G11 -> #DIV/0! | K11: 47 | L11: ='1 то'!$I$490 -> 31 | M11: =K11-L11 -> 16 | N11: =L11*100/K11 -> 65.957447 | O11: =S11+W11+AA11 -> 54 | P11: =T11+X11+AB11 -> 32 | Q11: =O11-P11 -> 22 | R11: =P11*100/O11 -> 59.259259 | S11: 0 | T11: ='1 то'!$I$508 -> 0 | U11: =S11-T11 -> 0 | V11: =T11*100/S11 -> #DIV/0! | W11: 50 | X11: ='1 то'!$I$510 -> 29 | Y11: =W11-X11 -> 21 | Z11: =X11*100/W11 -> 58 | AA11: 4 | AB11: ='1 то'!$I$488 -> 3 | AC11: =AA11-AB11 -> 1 | AD11: =AB11*100/AA11 -> 75 | AE11: 0 | AF11: ='1 то'!$I$492 -> 19 | AG11: =AE11-AF11 -> -19 | AH11: =AF11*100/AE11 -> #DIV/0! | AI11: 0 | AJ11: ='1 то'!$I$498 -> 11 | AK11: =AI11-AJ11 -> -11 | AL11: =AJ11*100/AI11 -> #DIV/0! | AM11: 17 | AN11: ='1 то'!$I$496 -> 21 | AO11: =AM11-AN11 -> -4 | AP11: =AN11*100/AM11 -> 123.52941 | AQ11: 101 | AR11: =('1 то'!$I$500)+('1 то'!$I$502) -> 102 | AS11: =AQ11-AR11 -> -1 | AT11: =AR11*100/AQ11 -> 100.9901 | AU11: 28 | AV11: ='1 то'!$I$518 -> 21 | AW11: =AU11-AV11 -> 7 | AX11: =AV11*100/AU11 -> 75 | AY11: 10 | AZ11: ='1 то'!$I$504 -> 10 | BA11: =AY11-AZ11 -> 0 | BB11: =AZ11*100/AY11 -> 100 | BC11: 0 | BD11: ='1 то'!$I$506 -> 0 | BE11: =BC11-BD11 -> 0 | BF11: =BD11*100/BC11 -> #DIV/0!
A12: 7 | B12: Кускильдина Альбина Рамилевна | C12: 0 | D12: ='1 то'!$I$412 -> 72 | E12: =C12-D12 -> -72 | F12: =D12*100/C12 -> #DIV/0! | G12: 0 | H12: ='1 то'!$I$420 -> 0 | I12: =G12-H12 -> 0 | J12: =H12*100/G12 -> #DIV/0! | K12: 47 | L12: ='1 то'!$I$416 -> 52 | M12: =K12-L12 -> -5 | N12: =L12*100/K12 -> 110.6383 | O12: =S12+W12+AA12 -> 54 | P12: =T12+X12+AB12 -> 41 | Q12: =O12-P12 -> 13 | R12: =P12*100/O12 -> 75.925926 | S12: 0 | T12: ='1 то'!$I$434 -> 0 | U12: =S12-T12 -> 0 | V12: =T12*100/S12 -> #DIV/0! | W12: 50 | X12: =('1 то'!$I$436) -> 37 | Y12: =W12-X12 -> 13 | Z12: =X12*100/W12 -> 74 | AA12: 4 | AB12: =('1 то'!$I$414) -> 4 | AC12: =AA12-AB12 -> 0 | AD12: =AB12*100/AA12 -> 100 | AE12: 0 | AF12: ='1 то'!$I$418 -> 4 | AG12: =AE12-AF12 -> -4 | AH12: =AF12*100/AE12 -> #DIV/0! | AI12: 0 | AJ12: ='1 то'!$I$424 -> 4 | AK12: =AI12-AJ12 -> -4 | AL12: =AJ12*100/AI12 -> #DIV/0! | AM12: 18 | AN12: ='1 то'!$I$422 -> 42 | AO12: =AM12-AN12 -> -24 | AP12: =AN12*100/AM12 -> 233.33333 | AQ12: 101 | AR12: =('1 то'!$I$426)+('1 то'!$I$428) -> 57 | AS12: =AQ12-AR12 -> 44 | AT12: =AR12*100/AQ12 -> 56.435644 | AU12: 28 | AV12: ='1 то'!$I$444 -> 0 | AW12: =AU12-AV12 -> 28 | AX12: =AV12*100/AU12 -> 0 | AY12: 11 | AZ12: ='1 то'!$I$430 -> 5 | BA12: =AY12-AZ12 -> 6 | BB12: =AZ12*100/AY12 -> 45.454545 | BC12: 1 | BD12: ='1 то'!$I$432 -> 0 | BE12: =BC12-BD12 -> 1 | BF12: =BD12*100/BC12 -> 0
A13: 8 | B13: Валеева (ПАВЛОВА) ЮЛИАНА СЕРГЕЕВНА д/о | C13: 0 | D13: ='1 то'!$I$79 -> 0 | E13: =C13-D13 -> 0 | F13: =D13*100/C13 -> #DIV/0! | G13: 0 | H13: ='1 то'!$I$87 -> 0 | I13: =G13-H13 -> 0 | J13: =H13*100/G13 -> #DIV/0! | K13: 0 | L13: ='1 то'!$I$83 -> 0 | M13: =K13-L13 -> 0 | N13: =L13*100/K13 -> #DIV/0! | O13: =S13+W13+AA13 -> 0 | P13: =T13+X13+AB13 -> 0 | Q13: =O13-P13 -> 0 | R13: =P13*100/O13 -> #DIV/0! | S13: 0 | T13: ='1 то'!$I$101 -> 0 | U13: =S13-T13 -> 0 | V13: =T13*100/S13 -> #DIV/0! | W13: 0 | X13: =('1 то'!$I$103) -> 0 | Y13: =W13-X13 -> 0 | Z13: =X13*100/W13 -> #DIV/0! | AA13: 0 | AB13: =('1 то'!$I$81) -> 0 | AC13: =AA13-AB13 -> 0 | AD13: =AB13*100/AA13 -> #DIV/0! | AE13: 0 | AF13: ='1 то'!$I$85 -> 0 | AG13: =AE13-AF13 -> 0 | AH13: =AF13*100/AE13 -> #DIV/0! | AI13: 0 | AJ13: ='1 то'!$I$91 -> 0 | AK13: =AI13-AJ13 -> 0 | AL13: =AJ13*100/AI13 -> #DIV/0! | AM13: 0 | AN13: ='1 то'!$I$89 -> 0 | AO13: =AM13-AN13 -> 0 | AP13: =AN13*100/AM13 -> #DIV/0! | AQ13: 0 | AR13: =('1 то'!$I$93)+('1 то'!$I$95) -> 0 | AS13: =AQ13-AR13 -> 0 | AT13: =AR13*100/AQ13 -> #DIV/0! | AU13: 0 | AV13: ='1 то'!$I$111 -> 0 | AW13: =AU13-AV13 -> 0 | AX13: =AV13*100/AU13 -> #DIV/0! | AY13: 0 | AZ13: ='1 то'!$I$97 -> 0 | BA13: =AY13-AZ13 -> 0 | BB13: =AZ13*100/AY13 -> #DIV/0! | BC13: 0 | BD13: ='1 то'!$I$99 -> 0 | BE13: =BC13-BD13 -> 0 | BF13: =BD13*100/BC13 -> #DIV/0!
A14: 9 | B14: Овчинникова Олеся Анатольевна | C14: 0 | D14: ='4 то'!$I$5 -> 44 | E14: =C14-D14 -> -44 | F14: =D14*100/C14 -> #DIV/0! | G14: 0 | H14: ='4 то'!$I$13 -> 0 | I14: =G14-H14 -> 0 | J14: =H14*100/G14 -> #DIV/0! | K14: 47 | L14: ='4 то'!$I$9 -> 25 | M14: =K14-L14 -> 22 | N14: =L14*100/K14 -> 53.191489 | O14: =S14+W14+AA14 -> 54 | P14: =T14+X14+AB14 -> 34 | Q14: =O14-P14 -> 20 | R14: =P14*100/O14 -> 62.962963 | S14: 0 | T14: =('4 то'!$I$27) -> 5 | U14: =S14-T14 -> -5 | V14: =T14*100/S14 -> #DIV/0! | W14: 50 | X14: =('4 то'!$I$29) -> 28 | Y14: =W14-X14 -> 22 | Z14: =X14*100/W14 -> 56 | AA14: 4 | AB14: =('4 то'!$I$7) -> 1 | AC14: =AA14-AB14 -> 3 | AD14: =AB14*100/AA14 -> 25 | AE14: 0 | AF14: ='4 то'!$I$11 -> 0 | AG14: =AE14-AF14 -> 0 | AH14: =AF14*100/AE14 -> #DIV/0! | AI14: 0 | AJ14: ='4 то'!$I$17 -> 0 | AK14: =AI14-AJ14 -> 0 | AL14: =AJ14*100/AI14 -> #DIV/0! | AM14: 18 | AN14: ='4 то'!$I$15 -> 28 | AO14: =AM14-AN14 -> -10 | AP14: =AN14*100/AM14 -> 155.55556 | AQ14: 101 | AR14: =('4 то'!$I$19)+('4 то'!$I$21) -> 66 | AS14: =AQ14-AR14 -> 35 | AT14: =AR14*100/AQ14 -> 65.346535 | AU14: 28 | AV14: ='4 то'!$I$37 -> 8 | AW14: =AU14-AV14 -> 20 | AX14: =AV14*100/AU14 -> 28.571429 | AY14: 11 | AZ14: ='4 то'!$I$23 -> 8 | BA14: =AY14-AZ14 -> 3 | BB14: =AZ14*100/AY14 -> 72.727273 | BC14: 1 | BD14: ='4 то'!$I$25 -> 0 | BE14: =BC14-BD14 -> 1 | BF14: =BD14*100/BC14 -> 0
A15: 10 | B15: Тухбатова Алия Валерьевна | C15: 0 | D15: ='1 то'!$I$523 -> 10 | E15: =C15-D15 -> -10 | F15: =D15*100/C15 -> #DIV/0! | G15: 0 | H15: ='1 то'!$I$531 -> 0 | I15: =G15-H15 -> 0 | J15: =H15*100/G15 -> #DIV/0! | K15: 47 | L15: ='1 то'!$I$527 -> 18 | M15: =K15-L15 -> 29 | N15: =L15*100/K15 -> 38.297872 | O15: =S15+W15+AA15 -> 54 | P15: =T15+X15+AB15 -> 22 | Q15: =O15-P15 -> 32 | R15: =P15*100/O15 -> 40.740741 | S15: 0 | T15: =('1 то'!$I$545) -> 0 | U15: =S15-T15 -> 0 | V15: =T15*100/S15 -> #DIV/0! | W15: 50 | X15: =('1 то'!$I$547) -> 19 | Y15: =W15-X15 -> 31 | Z15: =X15*100/W15 -> 38 | AA15: 4 | AB15: =('1 то'!$I$525) -> 3 | AC15: =AA15-AB15 -> 1 | AD15: =AB15*100/AA15 -> 75 | AE15: 0 | AF15: ='1 то'!$I$529 -> 22 | AG15: =AE15-AF15 -> -22 | AH15: =AF15*100/AE15 -> #DIV/0! | AI15: 0 | AJ15: ='1 то'!$I$535 -> 3 | AK15: =AI15-AJ15 -> -3 | AL15: =AJ15*100/AI15 -> #DIV/0! | AM15: 17 | AN15: ='1 то'!$I$533 -> 38 | AO15: =AM15-AN15 -> -21 | AP15: =AN15*100/AM15 -> 223.52941 | AQ15: 101 | AR15: =('1 то'!$I$537)+('1 то'!$I$539) -> 45 | AS15: =AQ15-AR15 -> 56 | AT15: =AR15*100/AQ15 -> 44.554455 | AU15: 28 | AV15: ='1 то'!$I$555 -> 6 | AW15: =AU15-AV15 -> 22 | AX15: =AV15*100/AU15 -> 21.428571 | AY15: 10 | AZ15: ='1 то'!$I$541 -> 0 | BA15: =AY15-AZ15 -> 10 | BB15: =AZ15*100/AY15 -> 0 | BC15: 0 | BD15: ='1 то'!$I$543 -> 0 | BE15: =BC15-BD15 -> 0 | BF15: =BD15*100/BC15 -> #DIV/0!
A16: 11 | B16: Шафиева Венера Альбертовна | C16: 0 | D16: ='1 то'!$I$264 -> 29 | E16: =C16-D16 -> -29 | F16: =D16*100/C16 -> #DIV/0! | G16: 0 | H16: ='1 то'!$I$272 -> 0 | I16: =G16-H16 -> 0 | J16: =H16*100/G16 -> #DIV/0! | K16: 24 | L16: ='1 то'!$I$268 -> 34 | M16: =K16-L16 -> -10 | N16: =L16*100/K16 -> 141.66667 | O16: =S16+W16+AA16 -> 30 | P16: =T16+X16+AB16 -> 32 | Q16: =O16-P16 -> -2 | R16: =P16*100/O16 -> 106.66667 | S16: 0 | T16: ='1 то'!$I$286 -> 1 | U16: =S16-T16 -> -1 | V16: =T16*100/S16 -> #DIV/0! | W16: 26 | X16: =('1 то'!$I$288) -> 26 | Y16: =W16-X16 -> 0 | Z16: =X16*100/W16 -> 100 | AA16: 4 | AB16: =('1 то'!$I$266) -> 5 | AC16: =AA16-AB16 -> -1 | AD16: =AB16*100/AA16 -> 125 | AE16: 0 | AF16: ='1 то'!$I$270 -> 1 | AG16: =AE16-AF16 -> -1 | AH16: =AF16*100/AE16 -> #DIV/0! | AI16: 0 | AJ16: ='1 то'!$I$276 -> 0 | AK16: =AI16-AJ16 -> 0 | AL16: =AJ16*100/AI16 -> #DIV/0! | AM16: 10 | AN16: ='1 то'!$I$274 -> 9 | AO16: =AM16-AN16 -> 1 | AP16: =AN16*100/AM16 -> 90 | AQ16: 50 | AR16: =('1 то'!$I$278)+('1 то'!$I$280) -> 50 | AS16: =AQ16-AR16 -> 0 | AT16: =AR16*100/AQ16 -> 100 | AU16: 16 | AV16: ='1 то'!$I$296 -> 28 | AW16: =AU16-AV16 -> -12 | AX16: =AV16*100/AU16 -> 175 | AY16: 4 | AZ16: ='1 то'!$I$282 -> 2 | BA16: =AY16-AZ16 -> 2 | BB16: =AZ16*100/AY16 -> 50 | BC16: 1 | BD16: ='1 то'!$I$284 -> 0 | BE16: =BC16-BD16 -> 1 | BF16: =BD16*100/BC16 -> 0
B17: ИТОГО по 1 терапии | C17: =SUM(C6:C16) -> 0 | D17: =SUM(D5:D16) -> 417 | E17: =C17-D17 -> -417 | F17: =D17*100/C17 -> #DIV/0! | G17: =SUM(G6:G16) -> 0 | H17: =SUM(H5:H16) -> 0 | I17: =G17-H17 -> 0 | J17: =H17*100/G17 -> #DIV/0! | K17: =SUM(K6:K16) -> 400 | L17: =SUM(L5:L16) -> 371 | M17: =K17-L17 -> 29 | N17: =L17*100/K17 -> 92.75 | O17: =SUM(O6:O16) -> 462 | P17: =SUM(P5:P16) -> 371 | Q17: =O17-P17 -> 91 | R17: =P17*100/O17 -> 80.30303 | S17: =SUM(S6:S16) -> 0 | T17: =SUM(T5:T16) -> 19 | U17: =S17-T17 -> -19 | V17: =T17*100/S17 -> #DIV/0! | W17: =SUM(W6:W16) -> 426 | X17: =SUM(X5:X16) -> 316 | Y17: =W17-X17 -> 110 | Z17: =X17*100/W17 -> 74.178404 | AA17: =SUM(AA6:AA16) -> 36 | AB17: =SUM(AB5:AB16) -> 36 | AC17: =AA17-AB17 -> 0 | AD17: =AB17*100/AA17 -> 100 | AE17: =SUM(AE6:AE16) -> 0 | AF17: =SUM(AF5:AF16) -> 121 | AG17: =AE17-AF17 -> -121 | AH17: =AF17*100/AE17 -> #DIV/0! | AI17: =SUM(AI6:AI16) -> 0 | AJ17: =SUM(AJ5:AJ16) -> 60 | AK17: =AI17-AJ17 -> -60 | AL17: =AJ17*100/AI17 -> #DIV/0! | AM17: =SUM(AM6:AM16) -> 151 | AN17: =SUM(AN5:AN16) -> 267 | AO17: =AM17-AN17 -> -116 | AP17: =AN17*100/AM17 -> 176.82119 | AQ17: =SUM(AQ6:AQ16) -> 858 | AR17: =SUM(AR5:AR16) -> 651 | AS17: =AQ17-AR17 -> 207 | AT17: =AR17*100/AQ17 -> 75.874126 | AU17: =SUM(AU6:AU16) -> 240 | AV17: =SUM(AV5:AV16) -> 154 | AW17: =AU17-AV17 -> 86 | AX17: =AV17*100/AU17 -> 64.166667 | AY17: =SUM(AY6:AY16) -> 90 | AZ17: =SUM(AZ5:AZ16) -> 61 | BA17: =AY17-AZ17 -> 29 | BB17: =AZ17*100/AY17 -> 67.777778 | BC17: =SUM(BC6:BC16) -> 7 | BD17: =SUM(BD5:BD16) -> 0 | BE17: =BC17-BD17 -> 7 | BF17: =BD17*100/BC17 -> 0
B19: Ишмаев Динислам Русланович - и.о.зав.отд. | C19: 0 | D19: ='2 то'!$I$301 -> 12 | E19: =C19-D19 -> -12 | F19: =D19*100/C19 -> #DIV/0! | G19: 0 | H19: ='2 то'!$I$309 -> 0 | I19: =G19-H19 -> 0 | J19: =H19*100/G19 -> #DIV/0! | K19: 0 | L19: ='2 то'!$I$305 -> 13 | M19: =K19-L19 -> -13 | N19: =L19*100/K19 -> #DIV/0! | O19: =S19+W19+AA19 -> 0 | P19: =T19+X19+AB19 -> 3 | Q19: =O19-P19 -> -3 | R19: =P19*100/O19 -> #DIV/0! | S19: 0 | T19: =('2 то'!$I$323) -> 0 | U19: =S19-T19 -> 0 | V19: =T19*100/S19 -> #DIV/0! | W19: 0 | X19: =('2 то'!$I$325) -> 3 | Y19: =W19-X19 -> -3 | Z19: =X19*100/W19 -> #DIV/0! | AA19: 0 | AB19: =('2 то'!$I$303) -> 0 | AC19: =AA19-AB19 -> 0 | AD19: =AB19*100/AA19 -> #DIV/0! | AE19: 0 | AF19: ='2 то'!$I$307 -> 5 | AG19: =AE19-AF19 -> -5 | AH19: =AF19*100/AE19 -> #DIV/0! | AI19: 0 | AJ19: ='2 то'!$I$313 -> 0 | AK19: =AI19-AJ19 -> 0 | AL19: =AJ19*100/AI19 -> #DIV/0! | AM19: 0 | AN19: ='2 то'!$I$311 -> 17 | AO19: =AM19-AN19 -> -17 | AP19: =AN19*100/AM19 -> #DIV/0! | AQ19: 60 | AR19: =('2 то'!$I$319)+('2 то'!$I$37) -> 26 | AS19: =AQ19-AR19 -> 34 | AT19: =AR19*100/AQ19 -> 43.333333 | AU19: 18 | AV19: ='2 то'!$I$333 -> 18 | AW19: =AU19-AV19 -> 0 | AX19: =AV19*100/AU19 -> 100 | AY19: 6 | AZ19: ='2 то'!$I$315 -> 6 | BA19: =AY19-AZ19 -> 0 | BB19: =AZ19*100/AY19 -> 100 | BC19: 1 | BD19: ='2 то'!$I$317 -> 0 | BE19: =BC19-BD19 -> 1 | BF19: =BD19*100/BC19 -> 0
A20: 1 | B20: ГАЮРОВ АЛИШЕР САЙВАЛИЕВИЧ | C20: 0 | D20: ='2 то'!$I$375 -> 66 | E20: =C20-D20 -> -66 | F20: =D20*100/C20 -> #DIV/0! | G20: 0 | H20: ='2 то'!$I$383 -> 0 | I20: =G20-H20 -> 0 | J20: =H20*100/G20 -> #DIV/0! | K20: 82 | L20: ='2 то'!$I$379 -> 80 | M20: =K20-L20 -> 2 | N20: =L20*100/K20 -> 97.560976 | O20: =S20+W20+AA20 -> 66 | P20: =T20+X20+AB20 -> 60 | Q20: =O20-P20 -> 6 | R20: =P20*100/O20 -> 90.909091 | S20: 0 | T20: ='2 то'!$I$397 -> 0 | U20: =S20-T20 -> 0 | V20: =T20*100/S20 -> #DIV/0! | W20: 52 | X20: ='2 то'!$I$399 -> 45 | Y20: =W20-X20 -> 7 | Z20: =X20*100/W20 -> 86.538462 | AA20: 14 | AB20: ='2 то'!$I$377 -> 15 | AC20: =AA20-AB20 -> -1 | AD20: =AB20*100/AA20 -> 107.14286 | AE20: 0 | AF20: ='2 то'!$I$381 -> 7 | AG20: =AE20-AF20 -> -7 | AH20: =AF20*100/AE20 -> #DIV/0! | AI20: 0 | AJ20: ='2 то'!$I$387 -> 0 | AK20: =AI20-AJ20 -> 0 | AL20: =AJ20*100/AI20 -> #DIV/0! | AM20: 22 | AN20: ='2 то'!$I$385 -> 37 | AO20: =AM20-AN20 -> -15 | AP20: =AN20*100/AM20 -> 168.18182 | AQ20: 120 | AR20: =('2 то'!$I$393)+('2 то'!$I$395) -> 73 | AS20: =AQ20-AR20 -> 47 | AT20: =AR20*100/AQ20 -> 60.833333 | AU20: 30 | AV20: ='2 то'!$I$407 -> 14 | AW20: =AU20-AV20 -> 16 | AX20: =AV20*100/AU20 -> 46.666667 | AY20: 12 | AZ20: ='2 то'!$I$389 -> 12 | BA20: =AY20-AZ20 -> 0 | BB20: =AZ20*100/AY20 -> 100 | BC20: 1 | BD20: ='2 то'!$I$391 -> 1 | BE20: =BC20-BD20 -> 0 | BF20: =BD20*100/BC20 -> 100
A21: 2 | B21: Валеева Алина Рафаилевна | C21: 0 | D21: ='2 то'!$I$42 -> 58 | E21: =C21-D21 -> -58 | F21: =D21*100/C21 -> #DIV/0! | G21: 0 | H21: ='2 то'!$I$50 -> 0 | I21: =G21-H21 -> 0 | J21: =H21*100/G21 -> #DIV/0! | K21: 82 | L21: ='2 то'!$I$46 -> 75 | M21: =K21-L21 -> 7 | N21: =L21*100/K21 -> 91.463415 | O21: =S21+W21+AA21 -> 66 | P21: =T21+X21+AB21 -> 55 | Q21: =O21-P21 -> 11 | R21: =P21*100/O21 -> 83.333333 | S21: 0 | T21: ='2 то'!$I$64 -> 0 | U21: =S21-T21 -> 0 | V21: =T21*100/S21 -> #DIV/0! | W21: 52 | X21: ='2 то'!$I$66 -> 41 | Y21: =W21-X21 -> 11 | Z21: =X21*100/W21 -> 78.846154 | AA21: 14 | AB21: ='2 то'!$I$44 -> 14 | AC21: =AA21-AB21 -> 0 | AD21: =AB21*100/AA21 -> 100 | AE21: 0 | AF21: ='2 то'!$I$48 -> 12 | AG21: =AE21-AF21 -> -12 | AH21: =AF21*100/AE21 -> #DIV/0! | AI21: 0 | AJ21: ='2 то'!$I$54 -> 3 | AK21: =AI21-AJ21 -> -3 | AL21: =AJ21*100/AI21 -> #DIV/0! | AM21: 22 | AN21: ='2 то'!$I$52 -> 28 | AO21: =AM21-AN21 -> -6 | AP21: =AN21*100/AM21 -> 127.27273 | AQ21: 120 | AR21: =('2 то'!$I$60)+('2 то'!$I$62) -> 24 | AS21: =AQ21-AR21 -> 96 | AT21: =AR21*100/AQ21 -> 20 | AU21: 30 | AV21: ='2 то'!$I$74 -> 7 | AW21: =AU21-AV21 -> 23 | AX21: =AV21*100/AU21 -> 23.333333 | AY21: 12 | AZ21: ='2 то'!$I$56 -> 3 | BA21: =AY21-AZ21 -> 9 | BB21: =AZ21*100/AY21 -> 25 | BC21: 1 | BD21: ='2 то'!$I$58 -> 0 | BE21: =BC21-BD21 -> 1 | BF21: =BD21*100/BC21 -> 0
A22: 3 | B22: Галаутдинова Зиля Гарифулловна | C22: 0 | D22: ='2 то'!$I$5 -> 77 | E22: =C22-D22 -> -77 | F22: =D22*100/C22 -> #DIV/0! | G22: 0 | H22: ='2 то'!$I$13 -> 0 | I22: =G22-H22 -> 0 | J22: =H22*100/G22 -> #DIV/0! | K22: 82 | L22: ='2 то'!$I$9 -> 96 | M22: =K22-L22 -> -14 | N22: =L22*100/K22 -> 117.07317 | O22: =S22+W22+AA22 -> 66 | P22: =T22+X22+AB22 -> 63 | Q22: =O22-P22 -> 3 | R22: =P22*100/O22 -> 95.454545 | S22: 0 | T22: =('2 то'!$I$27) -> 0 | U22: =S22-T22 -> 0 | V22: =T22*100/S22 -> #DIV/0! | W22: 52 | X22: =('2 то'!$I$29) -> 46 | Y22: =W22-X22 -> 6 | Z22: =X22*100/W22 -> 88.461538 | AA22: 14 | AB22: =('2 то'!$I$7) -> 17 | AC22: =AA22-AB22 -> -3 | AD22: =AB22*100/AA22 -> 121.42857 | AE22: 0 | AF22: ='2 то'!$I$11 -> 20 | AG22: =AE22-AF22 -> -20 | AH22: =AF22*100/AE22 -> #DIV/0! | AI22: 0 | AJ22: ='2 то'!$I$17 -> 7 | AK22: =AI22-AJ22 -> -7 | AL22: =AJ22*100/AI22 -> #DIV/0! | AM22: 22 | AN22: ='2 то'!$I$15 -> 20 | AO22: =AM22-AN22 -> 2 | AP22: =AN22*100/AM22 -> 90.909091 | AQ22: 120 | AR22: =('2 то'!$I$23)+('2 то'!$I$25) -> 27 | AS22: =AQ22-AR22 -> 93 | AT22: =AR22*100/AQ22 -> 22.5 | AU22: 30 | AV22: ='2 то'!$I$37 -> 0 | AW22: =AU22-AV22 -> 30 | AX22: =AV22*100/AU22 -> 0 | AY22: 12 | AZ22: ='2 то'!$I$19 -> 0 | BA22: =AY22-AZ22 -> 12 | BB22: =AZ22*100/AY22 -> 0 | BC22: 1 | BD22: ='2 то'!$I$21 -> 0 | BE22: =BC22-BD22 -> 1 | BF22: =BD22*100/BC22 -> 0
A23: 4 | B23: Иноземцева Дарья Дмитриевна | C23: 0 | D23: ='1 то'!$I$227 -> 19 | E23: =C23-D23 -> -19 | F23: =D23*100/C23 -> #DIV/0! | G23: 0 | H23: ='1 то'!$I$235 -> 0 | I23: =G23-H23 -> 0 | J23: =H23*100/G23 -> #DIV/0! | K23: 18 | L23: ='1 то'!$I$231 -> 19 | M23: =K23-L23 -> -1 | N23: =L23*100/K23 -> 105.55556 | O23: =S23+W23+AA23 -> 14 | P23: =T23+X23+AB23 -> 8 | Q23: =O23-P23 -> 6 | R23: =P23*100/O23 -> 57.142857 | S23: 0 | T23: ='1 то'!$I$249 -> 0 | U23: =S23-T23 -> 0 | V23: =T23*100/S23 -> #DIV/0! | W23: 11 | X23: =('1 то'!$I$251) -> 4 | Y23: =W23-X23 -> 7 | Z23: =X23*100/W23 -> 36.363636 | AA23: 3 | AB23: =('1 то'!$I$229) -> 4 | AC23: =AA23-AB23 -> -1 | AD23: =AB23*100/AA23 -> 133.33333 | AE23: 0 | AF23: ='1 то'!$I$233 -> 2 | AG23: =AE23-AF23 -> -2 | AH23: =AF23*100/AE23 -> #DIV/0! | AI23: 0 | AJ23: ='1 то'!$I$239 -> 0 | AK23: =AI23-AJ23 -> 0 | AL23: =AJ23*100/AI23 -> #DIV/0! | AM23: 5 | AN23: ='1 то'!$I$237 -> 13 | AO23: =AM23-AN23 -> -8 | AP23: =AN23*100/AM23 -> 260 | AQ23: 30 | AR23: =('1 то'!$I$241)+('1 то'!$I$243) -> 4 | AS23: =AQ23-AR23 -> 26 | AT23: =AR23*100/AQ23 -> 13.333333 | AU23: 7 | AV23: ='1 то'!$I$259 -> 0 | AW23: =AU23-AV23 -> 7 | AX23: =AV23*100/AU23 -> 0 | AY23: 3 | AZ23: ='1 то'!$I$245 -> 0 | BA23: =AY23-AZ23 -> 3 | BB23: =AZ23*100/AY23 -> 0 | BC23: 1 | BD23: ='1 то'!$I$247 -> 0 | BE23: =BC23-BD23 -> 1 | BF23: =BD23*100/BC23 -> 0
A24: 5 | B24: Исмагилова Ильмира Рашитовна | C24: 0 | D24: ='2 то'!$I$79 -> 37 | E24: =C24-D24 -> -37 | F24: =D24*100/C24 -> #DIV/0! | G24: 0 | H24: ='2 то'!$I$87 -> 0 | I24: =G24-H24 -> 0 | J24: =H24*100/G24 -> #DIV/0! | K24: 82 | L24: ='2 то'!$I$83 -> 72 | M24: =K24-L24 -> 10 | N24: =L24*100/K24 -> 87.804878 | O24: =S24+W24+AA24 -> 66 | P24: =T24+X24+AB24 -> 63 | Q24: =O24-P24 -> 3 | R24: =P24*100/O24 -> 95.454545 | S24: 0 | T24: =('2 то'!$I$101) -> 7 | U24: =S24-T24 -> -7 | V24: =T24*100/S24 -> #DIV/0! | W24: 52 | X24: =('2 то'!$I$103) -> 37 | Y24: =W24-X24 -> 15 | Z24: =X24*100/W24 -> 71.153846 | AA24: 14 | AB24: =('2 то'!$I$81) -> 19 | AC24: =AA24-AB24 -> -5 | AD24: =AB24*100/AA24 -> 135.71429 | AE24: 0 | AF24: ='2 то'!$I$85 -> 4 | AG24: =AE24-AF24 -> -4 | AH24: =AF24*100/AE24 -> #DIV/0! | AI24: 0 | AJ24: ='2 то'!$I$91 -> 0 | AK24: =AI24-AJ24 -> 0 | AL24: =AJ24*100/AI24 -> #DIV/0! | AM24: 22 | AN24: ='2 то'!$I$89 -> 18 | AO24: =AM24-AN24 -> 4 | AP24: =AN24*100/AM24 -> 81.818182 | AQ24: 120 | AR24: =('2 то'!$I$97)+('2 то'!$I$99) -> 53 | AS24: =AQ24-AR24 -> 67 | AT24: =AR24*100/AQ24 -> 44.166667 | AU24: 30 | AV24: ='2 то'!$I$111 -> 15 | AW24: =AU24-AV24 -> 15 | AX24: =AV24*100/AU24 -> 50 | AY24: 12 | AZ24: ='2 то'!$I$93 -> 12 | BA24: =AY24-AZ24 -> 0 | BB24: =AZ24*100/AY24 -> 100 | BC24: 1 | BD24: ='2 то'!$I$95 -> 1 | BE24: =BC24-BD24 -> 0 | BF24: =BD24*100/BC24 -> 100
A25: 6 | B25: Сиразетдинова Маргарита Альбертовна | C25: 0 | D25: ='2 то'!$I$338 -> 46 | E25: =C25-D25 -> -46 | F25: =D25*100/C25 -> #DIV/0! | G25: 0 | H25: ='2 то'!$I$346 -> 0 | I25: =G25-H25 -> 0 | J25: =H25*100/G25 -> #DIV/0! | K25: 40 | L25: ='2 то'!$I$342 -> 51 | M25: =K25-L25 -> -11 | N25: =L25*100/K25 -> 127.5 | O25: =S25+W25+AA25 -> 34 | P25: =T25+X25+AB25 -> 35 | Q25: =O25-P25 -> -1 | R25: =P25*100/O25 -> 102.94118 | S25: 0 | T25: =('2 то'!$I$360) -> 0 | U25: =S25-T25 -> 0 | V25: =T25*100/S25 -> #DIV/0! | W25: 27 | X25: =('2 то'!$I$362) -> 28 | Y25: =W25-X25 -> -1 | Z25: =X25*100/W25 -> 103.7037 | AA25: 7 | AB25: =('2 то'!$I$340) -> 7 | AC25: =AA25-AB25 -> 0 | AD25: =AB25*100/AA25 -> 100 | AE25: 0 | AF25: ='2 то'!$I$344 -> 4 | AG25: =AE25-AF25 -> -4 | AH25: =AF25*100/AE25 -> #DIV/0! | AI25: 0 | AJ25: ='2 то'!$I$350 -> 3 | AK25: =AI25-AJ25 -> -3 | AL25: =AJ25*100/AI25 -> #DIV/0! | AM25: 12 | AN25: ='2 то'!$I$348 -> 19 | AO25: =AM25-AN25 -> -7 | AP25: =AN25*100/AM25 -> 158.33333 | AQ25: 60 | AR25: =('2 то'!$I$356)+('2 то'!$I$358) -> 34 | AS25: =AQ25-AR25 -> 26 | AT25: =AR25*100/AQ25 -> 56.666667 | AU25: 16 | AV25: ='2 то'!$I$370 -> 16 | AW25: =AU25-AV25 -> 0 | AX25: =AV25*100/AU25 -> 100 | AY25: 6 | AZ25: ='2 то'!$I$352 -> 10 | BA25: =AY25-AZ25 -> -4 | BB25: =AZ25*100/AY25 -> 166.66667 | BC25: 1 | BD25: ='2 то'!$I$354 -> 0 | BE25: =BC25-BD25 -> 1 | BF25: =BD25*100/BC25 -> 0
A26: 7 | B26: Хайбуллина Найля Гатуфовна | C26: 0 | D26: ='2 то'!$I$264 -> 4 | E26: =C26-D26 -> -4 | F26: =D26*100/C26 -> #DIV/0! | G26: 0 | H26: ='2 то'!$I$272 -> 0 | I26: =G26-H26 -> 0 | J26: =H26*100/G26 -> #DIV/0! | K26: 82 | L26: ='2 то'!$I$268 -> 83 | M26: =K26-L26 -> -1 | N26: =L26*100/K26 -> 101.21951 | O26: =S26+W26+AA26 -> 66 | P26: =T26+X26+AB26 -> 55 | Q26: =O26-P26 -> 11 | R26: =P26*100/O26 -> 83.333333 | S26: 0 | T26: =('2 то'!$I$286) -> 0 | U26: =S26-T26 -> 0 | V26: =T26*100/S26 -> #DIV/0! | W26: 52 | X26: =('2 то'!$I$288) -> 41 | Y26: =W26-X26 -> 11 | Z26: =X26*100/W26 -> 78.846154 | AA26: 14 | AB26: =('2 то'!$I$266) -> 14 | AC26: =AA26-AB26 -> 0 | AD26: =AB26*100/AA26 -> 100 | AE26: 0 | AF26: ='2 то'!$I$270 -> 0 | AG26: =AE26-AF26 -> 0 | AH26: =AF26*100/AE26 -> #DIV/0! | AI26: 0 | AJ26: ='2 то'!$I$276 -> 0 | AK26: =AI26-AJ26 -> 0 | AL26: =AJ26*100/AI26 -> #DIV/0! | AM26: 22 | AN26: ='2 то'!$I$274 -> 25 | AO26: =AM26-AN26 -> -3 | AP26: =AN26*100/AM26 -> 113.63636 | AQ26: 120 | AR26: =('2 то'!$I$282)+('2 то'!$I$284) -> 82 | AS26: =AQ26-AR26 -> 38 | AT26: =AR26*100/AQ26 -> 68.333333 | AU26: 30 | AV26: ='2 то'!$I$296 -> 20 | AW26: =AU26-AV26 -> 10 | AX26: =AV26*100/AU26 -> 66.666667 | AY26: 12 | AZ26: ='2 то'!$I$278 -> 12 | BA26: =AY26-AZ26 -> 0 | BB26: =AZ26*100/AY26 -> 100 | BC26: 1 | BD26: ='2 то'!$I$280 -> 0 | BE26: =BC26-BD26 -> 1 | BF26: =BD26*100/BC26 -> 0
A27: 8 | B27: Яппарова Сабина Артуровна | C27: 0 | D27: ='2 то'!$I$153 -> 61 | E27: =C27-D27 -> -61 | F27: =D27*100/C27 -> #DIV/0! | G27: 0 | H27: ='2 то'!$I$161 -> 0 | I27: =G27-H27 -> 0 | J27: =H27*100/G27 -> #DIV/0! | K27: 82 | L27: ='2 то'!$I$157 -> 31 | M27: =K27-L27 -> 51 | N27: =L27*100/K27 -> 37.804878 | O27: =S27+W27+AA27 -> 66 | P27: =T27+X27+AB27 -> 22 | Q27: =O27-P27 -> 44 | R27: =P27*100/O27 -> 33.333333 | S27: 0 | T27: =('2 то'!$I$175) -> 1 | U27: =S27-T27 -> -1 | V27: =T27*100/S27 -> #DIV/0! | W27: 52 | X27: =('2 то'!$I$177) -> 19 | Y27: =W27-X27 -> 33 | Z27: =X27*100/W27 -> 36.538462 | AA27: 14 | AB27: =('2 то'!$I$155) -> 2 | AC27: =AA27-AB27 -> 12 | AD27: =AB27*100/AA27 -> 14.285714 | AE27: 0 | AF27: ='2 то'!$I$159 -> 0 | AG27: =AE27-AF27 -> 0 | AH27: =AF27*100/AE27 -> #DIV/0! | AI27: 0 | AJ27: ='2 то'!$I$165 -> 3 | AK27: =AI27-AJ27 -> -3 | AL27: =AJ27*100/AI27 -> #DIV/0! | AM27: 22 | AN27: ='2 то'!$I$163 -> 19 | AO27: =AM27-AN27 -> 3 | AP27: =AN27*100/AM27 -> 86.363636 | AQ27: 120 | AR27: =('2 то'!$I$171)+('2 то'!$I$173) -> 74 | AS27: =AQ27-AR27 -> 46 | AT27: =AR27*100/AQ27 -> 61.666667 | AU27: 30 | AV27: ='2 то'!$I$185 -> 30 | AW27: =AU27-AV27 -> 0 | AX27: =AV27*100/AU27 -> 100 | AY27: 12 | AZ27: ='2 то'!$I$167 -> 13 | BA27: =AY27-AZ27 -> -1 | BB27: =AZ27*100/AY27 -> 108.33333 | BC27: 1 | BD27: ='2 то'!$I$169 -> 0 | BE27: =BC27-BD27 -> 1 | BF27: =BD27*100/BC27 -> 0
B28: ИТОГО по 2 терапии | C28: =SUM(C19:C27) -> 0 | D28: =SUM(D19:D27) -> 380 | E28: =C28-D28 -> -380 | F28: =D28*100/C28 -> #DIV/0! | G28: =SUM(G19:G27) -> 0 | H28: =SUM(H19:H27) -> 0 | I28: =G28-H28 -> 0 | J28: =H28*100/G28 -> #DIV/0! | K28: =SUM(K19:K27) -> 550 | L28: =SUM(L19:L27) -> 520 | M28: =K28-L28 -> 30 | N28: =L28*100/K28 -> 94.545455 | O28: =SUM(O19:O27) -> 444 | P28: =SUM(P19:P27) -> 364 | Q28: =O28-P28 -> 80 | R28: =P28*100/O28 -> 81.981982 | S28: =SUM(S19:S27) -> 0 | T28: =SUM(T19:T27) -> 8 | U28: =S28-T28 -> -8 | V28: =T28*100/S28 -> #DIV/0! | W28: =SUM(W19:W27) -> 350 | X28: =SUM(X19:X27) -> 264 | Y28: =W28-X28 -> 86 | Z28: =X28*100/W28 -> 75.428571 | AA28: =SUM(AA19:AA27) -> 94 | AB28: =SUM(AB19:AB27) -> 92 | AC28: =AA28-AB28 -> 2 | AD28: =AB28*100/AA28 -> 97.87234 | AE28: =SUM(AE19:AE27) -> 0 | AF28: =SUM(AF19:AF27) -> 54 | AG28: =AE28-AF28 -> -54 | AH28: =AF28*100/AE28 -> #DIV/0! | AI28: =SUM(AI19:AI27) -> 0 | AJ28: =SUM(AJ19:AJ27) -> 16 | AK28: =AI28-AJ28 -> -16 | AL28: =AJ28*100/AI28 -> #DIV/0! | AM28: =SUM(AM19:AM27) -> 149 | AN28: =SUM(AN19:AN27) -> 196 | AO28: =AM28-AN28 -> -47 | AP28: =AN28*100/AM28 -> 131.54362 | AQ28: =SUM(AQ19:AQ27) -> 870 | AR28: =SUM(AR19:AR27) -> 397 | AS28: =AQ28-AR28 -> 473 | AT28: =AR28*100/AQ28 -> 45.632184 | AU28: =SUM(AU19:AU27) -> 221 | AV28: =SUM(AV19:AV27) -> 120 | AW28: =AU28-AV28 -> 101 | AX28: =AV28*100/AU28 -> 54.298643 | AY28: =SUM(AY19:AY27) -> 87 | AZ28: =SUM(AZ19:AZ27) -> 68 | BA28: =AY28-AZ28 -> 19 | BB28: =AZ28*100/AY28 -> 78.16092 | BC28: =SUM(BC19:BC27) -> 9 | BD28: =SUM(BD19:BD27) -> 2 | BE28: =BC28-BD28 -> 7 | BF28: =BD28*100/BC28 -> 22.222222
B30: Надыршина Анастасия Сергеевна - зав.отд | D30: ='3 то'!$I$5 -> 1 | H30: ='3 то'!$I$13 -> 0 | L30: ='3 то'!$I$9 -> 0 | P30: =T30+X30+AB30 -> 0 | T30: ='3 то'!$I$27 -> 0 | X30: ='3 то'!$I$29 -> 0 | AB30: ='3 то'!$I$7 -> 0 | AF30: ='3 то'!$I$11 -> 3 | AJ30: ='3 то'!$I$17 -> 2 | AN30: ='3 то'!$I$15 -> 1 | AR30: =('3 то'!$I$19)+('3 то'!$I$21) -> 0 | AV30: ='3 то'!$I$37 -> 0 | AZ30: ='3 то'!$I$23 -> 0 | BD30: ='3 то'!$I$25 -> 0
A31: 1 | B31: Аиткулов Урал Рамилевич | C31: 0 | D31: ='3 то'!$I$375 -> 120 | E31: =C31-D31 -> -120 | F31: =D31*100/C31 -> #DIV/0! | G31: 0 | H31: ='3 то'!$I$383 -> 0 | I31: =G31-H31 -> 0 | J31: =H31*100/G31 -> #DIV/0! | K31: 112 | L31: ='3 то'!$I$379 -> 62 | M31: =K31-L31 -> 50 | N31: =L31*100/K31 -> 55.357143 | O31: =S31+W31+AA31 -> 55 | P31: =T31+X31+AB31 -> 76 | Q31: =O31-P31 -> -21 | R31: =P31*100/O31 -> 138.18182 | S31: 0 | T31: =('3 то'!$I$397) -> 21 | U31: =S31-T31 -> -21 | V31: =T31*100/S31 -> #DIV/0! | W31: 55 | X31: =('3 то'!$I$399) -> 33 | Y31: =W31-X31 -> 22 | Z31: =X31*100/W31 -> 60 | AA31: 0 | AB31: =('3 то'!$I$377) -> 22 | AC31: =AA31-AB31 -> -22 | AD31: =AB31*100/AA31 -> #DIV/0! | AE31: 0 | AF31: ='3 то'!$I$381 -> 3 | AG31: =AE31-AF31 -> -3 | AH31: =AF31*100/AE31 -> #DIV/0! | AI31: 0 | AJ31: ='3 то'!$I$387 -> 5 | AK31: =AI31-AJ31 -> -5 | AL31: =AJ31*100/AI31 -> #DIV/0! | AM31: 49 | AN31: ='3 то'!$I$385 -> 28 | AO31: =AM31-AN31 -> 21 | AP31: =AN31*100/AM31 -> 57.142857 | AQ31: 455 | AR31: =('3 то'!$I$389)+('3 то'!$I$391) -> 39 | AS31: =AQ31-AR31 -> 416 | AT31: =AR31*100/AQ31 -> 8.5714286 | AU31: 122 | AV31: ='3 то'!$I$407 -> 27 | AW31: =AU31-AV31 -> 95 | AX31: =AV31*100/AU31 -> 22.131148 | AY31: 19 | AZ31: ='3 то'!$I$393 -> 13 | BA31: =AY31-AZ31 -> 6 | BB31: =AZ31*100/AY31 -> 68.421053 | BC31: 0 | BD31: ='3 то'!$I$395 -> 0 | BE31: =BC31-BD31 -> 0 | BF31: =BD31*100/BC31 -> #DIV/0!
A32: 2 | B32: Беркутова Марина Игоревна | C32: 0 | D32: ='3 то'!$I$42 -> 115 | E32: =C32-D32 -> -115 | F32: =D32*100/C32 -> #DIV/0! | G32: 0 | H32: ='3 то'!$I$50 -> 0 | I32: =G32-H32 -> 0 | J32: =H32*100/G32 -> #DIV/0! | K32: 112 | L32: ='3 то'!$I$46 -> 122 | M32: =K32-L32 -> -10 | N32: =L32*100/K32 -> 108.92857 | O32: =S32+W32+AA32 -> 55 | P32: =T32+X32+AB32 -> 77 | Q32: =O32-P32 -> -22 | R32: =P32*100/O32 -> 140 | S32: 0 | T32: =('3 то'!$I$64) -> 11 | U32: =S32-T32 -> -11 | V32: =T32*100/S32 -> #DIV/0! | W32: 55 | X32: =('3 то'!$I$66) -> 55 | Y32: =W32-X32 -> 0 | Z32: =X32*100/W32 -> 100 | AA32: 0 | AB32: =('3 то'!$I$44) -> 11 | AC32: =AA32-AB32 -> -11 | AD32: =AB32*100/AA32 -> #DIV/0! | AE32: 0 | AF32: ='3 то'!$I$48 -> 4 | AG32: =AE32-AF32 -> -4 | AH32: =AF32*100/AE32 -> #DIV/0! | AI32: 0 | AJ32: ='3 то'!$I$54 -> 0 | AK32: =AI32-AJ32 -> 0 | AL32: =AJ32*100/AI32 -> #DIV/0! | AM32: 49 | AN32: ='3 то'!$I$52 -> 66 | AO32: =AM32-AN32 -> -17 | AP32: =AN32*100/AM32 -> 134.69388 | AQ32: 455 | AR32: =('3 то'!$I$56)+('3 то'!$I$58) -> 42 | AS32: =AQ32-AR32 -> 413 | AT32: =AR32*100/AQ32 -> 9.2307692 | AU32: 122 | AV32: ='3 то'!$I$74 -> 14 | AW32: =AU32-AV32 -> 108 | AX32: =AV32*100/AU32 -> 11.47541 | AY32: 19 | AZ32: ='3 то'!$I$60 -> 19 | BA32: =AY32-AZ32 -> 0 | BB32: =AZ32*100/AY32 -> 100 | BC32: 1 | BD32: ='3 то'!$I$62 -> 1 | BE32: =BC32-BD32 -> 0 | BF32: =BD32*100/BC32 -> 100
A33: 3 | B33: Ибатуллина Аделина Олеговна | C33: 0 | D33: ='3 то'!$I$523 -> 42 | E33: =C33-D33 -> -42 | F33: =D33*100/C33 -> #DIV/0! | G33: 0 | H33: ='3 то'!$I$531 -> 0 | I33: =G33-H33 -> 0 | J33: =H33*100/G33 -> #DIV/0! | K33: 71 | L33: ='3 то'!$I$527 -> 84 | M33: =K33-L33 -> -13 | N33: =L33*100/K33 -> 118.30986 | O33: =S33+W33+AA33 -> 36 | P33: =T33+X33+AB33 -> 39 | Q33: =O33-P33 -> -3 | R33: =P33*100/O33 -> 108.33333 | S33: 0 | T33: =('3 то'!$I$545) -> 0 | U33: =S33-T33 -> 0 | V33: =T33*100/S33 -> #DIV/0! | W33: 36 | X33: =('3 то'!$I$547) -> 39 | Y33: =W33-X33 -> -3 | Z33: =X33*100/W33 -> 108.33333 | AA33: 0 | AB33: =('3 то'!$I$525) -> 0 | AC33: =AA33-AB33 -> 0 | AD33: =AB33*100/AA33 -> #DIV/0! | AE33: 0 | AF33: ='3 то'!$I$529 -> 6 | AG33: =AE33-AF33 -> -6 | AH33: =AF33*100/AE33 -> #DIV/0! | AI33: 0 | AJ33: ='3 то'!$I$535 -> 0 | AK33: =AI33-AJ33 -> 0 | AL33: =AJ33*100/AI33 -> #DIV/0! | AM33: 36 | AN33: ='3 то'!$I$533 -> 50 | AO33: =AM33-AN33 -> -14 | AP33: =AN33*100/AM33 -> 138.88889 | AQ33: 433 | AR33: =('3 то'!$I$537)+('3 то'!$I$539) -> 0 | AS33: =AQ33-AR33 -> 433 | AT33: =AR33*100/AQ33 -> 0 | AU33: 81 | AV33: ='3 то'!$I$555 -> 0 | AW33: =AU33-AV33 -> 81 | AX33: =AV33*100/AU33 -> 0 | AY33: 15 | AZ33: ='3 то'!$I$541 -> 2 | BA33: =AY33-AZ33 -> 13 | BB33: =AZ33*100/AY33 -> 13.333333 | BC33: 0 | BD33: ='3 то'!$I$543 -> 0 | BE33: =BC33-BD33 -> 0 | BF33: =BD33*100/BC33 -> #DIV/0!
A34: 4 | B34: Климина Софья Андреевна | C34: 0 | D34: ='3 то'!$I$560 -> 3 | E34: =C34-D34 -> -3 | F34: =D34*100/C34 -> #DIV/0! | G34: 0 | H34: ='3 то'!$I$568 -> 0 | I34: =G34-H34 -> 0 | J34: =H34*100/G34 -> #DIV/0! | K34: 0 | L34: ='3 то'!$I$564 -> 0 | M34: =K34-L34 -> 0 | N34: =L34*100/K34 -> #DIV/0! | O34: =S34+W34+AA34 -> 0 | P34: =T34+X34+AB34 -> 0 | Q34: =O34-P34 -> 0 | R34: =P34*100/O34 -> #DIV/0! | S34: 0 | T34: =('3 то'!$I$582) -> 0 | U34: =S34-T34 -> 0 | V34: =T34*100/S34 -> #DIV/0! | W34: 0 | X34: =('3 то'!$I$584) -> 0 | Y34: =W34-X34 -> 0 | Z34: =X34*100/W34 -> #DIV/0! | AA34: 0 | AB34: =('3 то'!$I$562) -> 0 | AC34: =AA34-AB34 -> 0 | AD34: =AB34*100/AA34 -> #DIV/0! | AE34: 0 | AF34: ='3 то'!$I$566 -> 6 | AG34: =AE34-AF34 -> -6 | AH34: =AF34*100/AE34 -> #DIV/0! | AI34: 0 | AJ34: ='3 то'!$I$572 -> 1 | AK34: =AI34-AJ34 -> -1 | AL34: =AJ34*100/AI34 -> #DIV/0! | AM34: 0 | AN34: ='3 то'!$I$570 -> 0 | AO34: =AM34-AN34 -> 0 | AP34: =AN34*100/AM34 -> #DIV/0! | AQ34: 0 | AR34: =('3 то'!$I$574)+('3 то'!$I$576) -> 0 | AS34: =AQ34-AR34 -> 0 | AT34: =AR34*100/AQ34 -> #DIV/0! | AU34: 0 | AV34: ='3 то'!$I$592 -> 1 | AW34: =AU34-AV34 -> -1 | AX34: =AV34*100/AU34 -> #DIV/0! | AY34: 0 | AZ34: ='3 то'!$I$578 -> 0 | BA34: =AY34-AZ34 -> 0 | BB34: =AZ34*100/AY34 -> #DIV/0! | BC34: 0 | BD34: ='3 то'!$I$580 -> 0 | BE34: =BC34-BD34 -> 0 | BF34: =BD34*100/BC34 -> #DIV/0!
A35: 5 | B35: Круль Стелла Владимировна д/о | C35: 0 | D35: ='3 то'!$I$153 -> 0 | E35: =C35-D35 -> 0 | F35: =D35*100/C35 -> #DIV/0! | G35: 0 | H35: ='3 то'!$I$161 -> 0 | I35: =G35-H35 -> 0 | J35: =H35*100/G35 -> #DIV/0! | K35: 0 | L35: ='3 то'!$I$157 -> 0 | M35: =K35-L35 -> 0 | N35: =L35*100/K35 -> #DIV/0! | O35: =S35+W35+AA35 -> 0 | P35: =T35+X35+AB35 -> 0 | Q35: =O35-P35 -> 0 | R35: =P35*100/O35 -> #DIV/0! | S35: 0 | T35: =('3 то'!$I$175) -> 0 | U35: =S35-T35 -> 0 | V35: =T35*100/S35 -> #DIV/0! | W35: 0 | X35: =('3 то'!$I$177) -> 0 | Y35: =W35-X35 -> 0 | Z35: =X35*100/W35 -> #DIV/0! | AA35: 0 | AB35: =('3 то'!$I$155) -> 0 | AC35: =AA35-AB35 -> 0 | AD35: =AB35*100/AA35 -> #DIV/0! | AE35: 0 | AF35: ='3 то'!$I$159 -> 0 | AG35: =AE35-AF35 -> 0 | AH35: =AF35*100/AE35 -> #DIV/0! | AI35: 0 | AJ35: ='3 то'!$I$165 -> 0 | AK35: =AI35-AJ35 -> 0 | AL35: =AJ35*100/AI35 -> #DIV/0! | AM35: 0 | AN35: ='3 то'!$I$163 -> 0 | AO35: =AM35-AN35 -> 0 | AP35: =AN35*100/AM35 -> #DIV/0! | AQ35: 0 | AR35: =('3 то'!$I$167)+('3 то'!$I$169) -> 0 | AS35: =AQ35-AR35 -> 0 | AT35: =AR35*100/AQ35 -> #DIV/0! | AU35: 0 | AV35: ='3 то'!$I$185 -> 0 | AW35: =AU35-AV35 -> 0 | AX35: =AV35*100/AU35 -> #DIV/0! | AY35: 0 | AZ35: ='3 то'!$I$171 -> 0 | BA35: =AY35-AZ35 -> 0 | BB35: =AZ35*100/AY35 -> #DIV/0! | BC35: 0 | BD35: ='3 то'!$I$173 -> 0 | BE35: =BC35-BD35 -> 0 | BF35: =BD35*100/BC35 -> #DIV/0!
A36: 6 | B36: КУРБОНЗОДА АДИБАБОНУИ ШУХРАТ | C36: 0 | D36: ='3 то'!$I$190 -> 71 | E36: =C36-D36 -> -71 | F36: =D36*100/C36 -> #DIV/0! | G36: 0 | H36: ='3 то'!$I$198 -> 0 | I36: =G36-H36 -> 0 | J36: =H36*100/G36 -> #DIV/0! | K36: 68 | L36: ='3 то'!$I$194 -> 72 | M36: =K36-L36 -> -4 | N36: =L36*100/K36 -> 105.88235 | O36: =S36+W36+AA36 -> 35 | P36: =T36+X36+AB36 -> 51 | Q36: =O36-P36 -> -16 | R36: =P36*100/O36 -> 145.71429 | S36: 0 | T36: =('3 то'!$I$212) -> 10 | U36: =S36-T36 -> -10 | V36: =T36*100/S36 -> #DIV/0! | W36: 35 | X36: =('3 то'!$I$214) -> 35 | Y36: =W36-X36 -> 0 | Z36: =X36*100/W36 -> 100 | AA36: 0 | AB36: =('3 то'!$I$192) -> 6 | AC36: =AA36-AB36 -> -6 | AD36: =AB36*100/AA36 -> #DIV/0! | AE36: 0 | AF36: ='3 то'!$I$196 -> 1 | AG36: =AE36-AF36 -> -1 | AH36: =AF36*100/AE36 -> #DIV/0! | AI36: 0 | AJ36: ='3 то'!$I$202 -> 0 | AK36: =AI36-AJ36 -> 0 | AL36: =AJ36*100/AI36 -> #DIV/0! | AM36: 20 | AN36: ='3 то'!$I$200 -> 21 | AO36: =AM36-AN36 -> -1 | AP36: =AN36*100/AM36 -> 105 | AQ36: 228 | AR36: =('3 то'!$I$204)+('3 то'!$I$206) -> 53 | AS36: =AQ36-AR36 -> 175 | AT36: =AR36*100/AQ36 -> 23.245614 | AU36: 50 | AV36: ='3 то'!$I$222 -> 40 | AW36: =AU36-AV36 -> 10 | AX36: =AV36*100/AU36 -> 80 | AY36: 10 | AZ36: ='3 то'!$I$208 -> 12 | BA36: =AY36-AZ36 -> -2 | BB36: =AZ36*100/AY36 -> 120 | BC36: 0 | BD36: ='3 то'!$I$210 -> 0 | BE36: =BC36-BD36 -> 0 | BF36: =BD36*100/BC36 -> #DIV/0!
A37: 7 | B37: Кутляхметова Назгуль Амировна | C37: 0 | D37: ='3 то'!$I$301 -> 29 | E37: =C37-D37 -> -29 | F37: =D37*100/C37 -> #DIV/0! | G37: 0 | H37: ='3 то'!$I$309 -> 0 | I37: =G37-H37 -> 0 | J37: =H37*100/G37 -> #DIV/0! | K37: 112 | L37: ='3 то'!$I$305 -> 60 | M37: =K37-L37 -> 52 | N37: =L37*100/K37 -> 53.571429 | O37: =S37+W37+AA37 -> 55 | P37: =T37+X37+AB37 -> 11 | Q37: =O37-P37 -> 44 | R37: =P37*100/O37 -> 20 | S37: 0 | T37: ='3 то'!$I$323 -> 3 | U37: =S37-T37 -> -3 | V37: =T37*100/S37 -> #DIV/0! | W37: 55 | X37: =('3 то'!$I$325) -> 8 | Y37: =W37-X37 -> 47 | Z37: =X37*100/W37 -> 14.545455 | AA37: 0 | AB37: =('3 то'!$I$303) -> 0 | AC37: =AA37-AB37 -> 0 | AD37: =AB37*100/AA37 -> #DIV/0! | AE37: 0 | AF37: ='3 то'!$I$307 -> 2 | AG37: =AE37-AF37 -> -2 | AH37: =AF37*100/AE37 -> #DIV/0! | AI37: 0 | AJ37: ='3 то'!$I$313 -> 2 | AK37: =AI37-AJ37 -> -2 | AL37: =AJ37*100/AI37 -> #DIV/0! | AM37: 49 | AN37: ='3 то'!$I$311 -> 41 | AO37: =AM37-AN37 -> 8 | AP37: =AN37*100/AM37 -> 83.673469 | AQ37: 455 | AR37: =('3 то'!$I$315)+('3 то'!$I$317) -> 24 | AS37: =AQ37-AR37 -> 431 | AT37: =AR37*100/AQ37 -> 5.2747253 | AU37: 122 | AV37: ='3 то'!$I$333 -> 14 | AW37: =AU37-AV37 -> 108 | AX37: =AV37*100/AU37 -> 11.47541 | AY37: 19 | AZ37: ='3 то'!$I$319 -> 2 | BA37: =AY37-AZ37 -> 17 | BB37: =AZ37*100/AY37 -> 10.526316 | BC37: 0 | BD37: ='3 то'!$I$321 -> 0 | BE37: =BC37-BD37 -> 0 | BF37: =BD37*100/BC37 -> #DIV/0!
A38: 8 | B38: Мухаметдинов Артур Русланович | C38: 0 | D38: ='3 то'!$I$227 -> 61 | E38: =C38-D38 -> -61 | F38: =D38*100/C38 -> #DIV/0! | G38: 0 | H38: ='3 то'!$I$235 -> 0 | I38: =G38-H38 -> 0 | J38: =H38*100/G38 -> #DIV/0! | K38: 112 | L38: ='3 то'!$I$231 -> 117 | M38: =K38-L38 -> -5 | N38: =L38*100/K38 -> 104.46429 | O38: =S38+W38+AA38 -> 55 | P38: =T38+X38+AB38 -> 76 | Q38: =O38-P38 -> -21 | R38: =P38*100/O38 -> 138.18182 | S38: 0 | T38: =('3 то'!$I$249) -> 22 | U38: =S38-T38 -> -22 | V38: =T38*100/S38 -> #DIV/0! | W38: 55 | X38: =('3 то'!$I$251) -> 53 | Y38: =W38-X38 -> 2 | Z38: =X38*100/W38 -> 96.363636 | AA38: 0 | AB38: =('3 то'!$I$229) -> 1 | AC38: =AA38-AB38 -> -1 | AD38: =AB38*100/AA38 -> #DIV/0! | AE38: 0 | AF38: ='3 то'!$I$233 -> 1 | AG38: =AE38-AF38 -> -1 | AH38: =AF38*100/AE38 -> #DIV/0! | AI38: 0 | AJ38: ='3 то'!$I$239 -> 1 | AK38: =AI38-AJ38 -> -1 | AL38: =AJ38*100/AI38 -> #DIV/0! | AM38: 49 | AN38: ='3 то'!$I$237 -> 45 | AO38: =AM38-AN38 -> 4 | AP38: =AN38*100/AM38 -> 91.836735 | AQ38: 455 | AR38: =('3 то'!$I$241)+('3 то'!$I$243) -> 45 | AS38: =AQ38-AR38 -> 410 | AT38: =AR38*100/AQ38 -> 9.8901099 | AU38: 122 | AV38: ='3 то'!$I$259 -> 29 | AW38: =AU38-AV38 -> 93 | AX38: =AV38*100/AU38 -> 23.770492 | AY38: 19 | AZ38: ='3 то'!$I$245 -> 11 | BA38: =AY38-AZ38 -> 8 | BB38: =AZ38*100/AY38 -> 57.894737 | BC38: 0 | BD38: ='3 то'!$I$247 -> 0 | BE38: =BC38-BD38 -> 0 | BF38: =BD38*100/BC38 -> #DIV/0!
A39: 9 | B39: Протасова Айгуль Салаватовна | C39: 0 | D39: ='3 то'!$I$79 -> 61 | E39: =C39-D39 -> -61 | F39: =D39*100/C39 -> #DIV/0! | G39: 0 | H39: ='3 то'!$I$87 -> 0 | I39: =G39-H39 -> 0 | J39: =H39*100/G39 -> #DIV/0! | K39: 88 | L39: ='3 то'!$I$83 -> 114 | M39: =K39-L39 -> -26 | N39: =L39*100/K39 -> 129.54545 | O39: =S39+W39+AA39 -> 36 | P39: =T39+X39+AB39 -> 33 | Q39: =O39-P39 -> 3 | R39: =P39*100/O39 -> 91.666667 | S39: 0 | T39: =('3 то'!$I$101) -> 0 | U39: =S39-T39 -> 0 | V39: =T39*100/S39 -> #DIV/0! | W39: 36 | X39: =('3 то'!$I$103) -> 33 | Y39: =W39-X39 -> 3 | Z39: =X39*100/W39 -> 91.666667 | AA39: 0 | AB39: =('3 то'!$I$81) -> 0 | AC39: =AA39-AB39 -> 0 | AD39: =AB39*100/AA39 -> #DIV/0! | AE39: 0 | AF39: ='3 то'!$I$85 -> 2 | AG39: =AE39-AF39 -> -2 | AH39: =AF39*100/AE39 -> #DIV/0! | AI39: 0 | AJ39: ='3 то'!$I$91 -> 0 | AK39: =AI39-AJ39 -> 0 | AL39: =AJ39*100/AI39 -> #DIV/0! | AM39: 40 | AN39: ='3 то'!$I$89 -> 46 | AO39: =AM39-AN39 -> -6 | AP39: =AN39*100/AM39 -> 115 | AQ39: 436 | AR39: =('3 то'!$I$93)+('3 то'!$I$95) -> 18 | AS39: =AQ39-AR39 -> 418 | AT39: =AR39*100/AQ39 -> 4.1284404 | AU39: 81 | AV39: ='3 то'!$I$111 -> 5 | AW39: =AU39-AV39 -> 76 | AX39: =AV39*100/AU39 -> 6.1728395 | AY39: 15 | AZ39: ='3 то'!$I$97 -> 19 | BA39: =AY39-AZ39 -> -4 | BB39: =AZ39*100/AY39 -> 126.66667 | BC39: 1 | BD39: ='3 то'!$I$99 -> 0 | BE39: =BC39-BD39 -> 1 | BF39: =BD39*100/BC39 -> 0
A40: 10 | B40: Тихомирова Софья Алексеевна | C40: 0 | D40: ='3 то'!$I$264 -> 78 | E40: =C40-D40 -> -78 | F40: =D40*100/C40 -> #DIV/0! | G40: 0 | H40: ='3 то'!$I$272 -> 0 | I40: =G40-H40 -> 0 | J40: =H40*100/G40 -> #DIV/0! | K40: 112 | L40: ='3 то'!$I$268 -> 172 | M40: =K40-L40 -> -60 | N40: =L40*100/K40 -> 153.57143 | O40: =S40+W40+AA40 -> 55 | P40: =T40+X40+AB40 -> 51 | Q40: =O40-P40 -> 4 | R40: =P40*100/O40 -> 92.727273 | S40: 0 | T40: =('3 то'!$I$286) -> 14 | U40: =S40-T40 -> -14 | V40: =T40*100/S40 -> #DIV/0! | W40: 55 | X40: =('3 то'!$I$288) -> 31 | Y40: =W40-X40 -> 24 | Z40: =X40*100/W40 -> 56.363636 | AA40: 0 | AB40: =('3 то'!$I$266) -> 6 | AC40: =AA40-AB40 -> -6 | AD40: =AB40*100/AA40 -> #DIV/0! | AE40: 0 | AF40: ='3 то'!$I$270 -> 4 | AG40: =AE40-AF40 -> -4 | AH40: =AF40*100/AE40 -> #DIV/0! | AI40: 0 | AJ40: ='3 то'!$I$276 -> 1 | AK40: =AI40-AJ40 -> -1 | AL40: =AJ40*100/AI40 -> #DIV/0! | AM40: 49 | AN40: ='3 то'!$I$274 -> 66 | AO40: =AM40-AN40 -> -17 | AP40: =AN40*100/AM40 -> 134.69388 | AQ40: 455 | AR40: =('3 то'!$I$278)+('3 то'!$I$280) -> 57 | AS40: =AQ40-AR40 -> 398 | AT40: =AR40*100/AQ40 -> 12.527473 | AU40: 122 | AV40: ='3 то'!$I$296 -> 21 | AW40: =AU40-AV40 -> 101 | AX40: =AV40*100/AU40 -> 17.213115 | AY40: 19 | AZ40: ='3 то'!$I$282 -> 18 | BA40: =AY40-AZ40 -> 1 | BB40: =AZ40*100/AY40 -> 94.736842 | BC40: 0 | BD40: ='3 то'!$I$284 -> 0 | BE40: =BC40-BD40 -> 0 | BF40: =BD40*100/BC40 -> #DIV/0!
A41: 11 | B41: Хакимова Юлдуз Хушеровна | C41: 0 | D41: ='3 то'!$I$597 -> 0 | E41: =C41-D41 -> 0 | F41: =D41*100/C41 -> #DIV/0! | G41: 0 | H41: ='3 то'!$I$605 -> 0 | I41: =G41-H41 -> 0 | J41: =H41*100/G41 -> #DIV/0! | K41: 0 | L41: ='3 то'!$I$601 -> 1 | M41: =K41-L41 -> -1 | N41: =L41*100/K41 -> #DIV/0! | O41: =S41+W41+AA41 -> 0 | P41: =T41+X41+AB41 -> 0 | Q41: =O41-P41 -> 0 | R41: =P41*100/O41 -> #DIV/0! | S41: 0 | T41: =('3 то'!$I$619) -> 0 | U41: =S41-T41 -> 0 | V41: =T41*100/S41 -> #DIV/0! | W41: 0 | X41: =('3 то'!$I$621) -> 0 | Y41: =W41-X41 -> 0 | Z41: =X41*100/W41 -> #DIV/0! | AA41: 0 | AB41: =('3 то'!$I$599) -> 0 | AC41: =AA41-AB41 -> 0 | AD41: =AB41*100/AA41 -> #DIV/0! | AE41: 0 | AF41: ='3 то'!$I$603 -> 0 | AG41: =AE41-AF41 -> 0 | AH41: =AF41*100/AE41 -> #DIV/0! | AI41: 0 | AJ41: ='3 то'!$I$609 -> 0 | AK41: =AI41-AJ41 -> 0 | AL41: =AJ41*100/AI41 -> #DIV/0! | AM41: 0 | AN41: ='3 то'!$I$607 -> 0 | AO41: =AM41-AN41 -> 0 | AP41: =AN41*100/AM41 -> #DIV/0! | AQ41: 0 | AR41: =('3 то'!$I$611)+('3 то'!$I$613) -> 0 | AS41: =AQ41-AR41 -> 0 | AT41: =AR41*100/AQ41 -> #DIV/0! | AU41: 0 | AV41: ='3 то'!$I$629 -> 0 | AW41: =AU41-AV41 -> 0 | AX41: =AV41*100/AU41 -> #DIV/0! | AY41: 0 | AZ41: ='3 то'!$I$615 -> 0 | BA41: =AY41-AZ41 -> 0 | BB41: =AZ41*100/AY41 -> #DIV/0! | BC41: 0 | BD41: ='3 то'!$I$617 -> 0 | BE41: =BC41-BD41 -> 0 | BF41: =BD41*100/BC41 -> #DIV/0!
B42: ИТОГО по 3 терапии | C42: =SUM(C31:C41) -> 0 | D42: =SUM(D31:D41) -> 580 | E42: =C42-D42 -> -580 | F42: =D42*100/C42 -> #DIV/0! | G42: =SUM(G31:G41) -> 0 | H42: =SUM(H31:H41) -> 0 | I42: =G42-H42 -> 0 | J42: =H42*100/G42 -> #DIV/0! | K42: =SUM(K31:K41) -> 787 | L42: =SUM(L31:L41) -> 804 | M42: =K42-L42 -> -17 | N42: =L42*100/K42 -> 102.1601 | O42: =SUM(O31:O41) -> 382 | P42: =SUM(P31:P41) -> 414 | Q42: =O42-P42 -> -32 | R42: =P42*100/O42 -> 108.37696 | S42: =SUM(S31:S41) -> 0 | T42: =SUM(T31:T41) -> 81 | U42: =S42-T42 -> -81 | V42: =T42*100/S42 -> #DIV/0! | W42: =SUM(W31:W41) -> 382 | X42: =SUM(X31:X41) -> 287 | Y42: =W42-X42 -> 95 | Z42: =X42*100/W42 -> 75.13089 | AA42: =SUM(AA31:AA41) -> 0 | AB42: =SUM(AB31:AB41) -> 46 | AC42: =AA42-AB42 -> -46 | AD42: =AB42*100/AA42 -> #DIV/0! | AE42: =SUM(AE31:AE41) -> 0 | AF42: =SUM(AF31:AF41) -> 29 | AG42: =AE42-AF42 -> -29 | AH42: =AF42*100/AE42 -> #DIV/0! | AI42: =SUM(AI31:AI41) -> 0 | AJ42: =SUM(AJ31:AJ41) -> 10 | AK42: =AI42-AJ42 -> -10 | AL42: =AJ42*100/AI42 -> #DIV/0! | AM42: =SUM(AM31:AM41) -> 341 | AN42: =SUM(AN31:AN41) -> 363 | AO42: =AM42-AN42 -> -22 | AP42: =AN42*100/AM42 -> 106.45161 | AQ42: =SUM(AQ31:AQ41) -> 3372 | AR42: =SUM(AR31:AR41) -> 278 | AS42: =AQ42-AR42 -> 3094 | AT42: =AR42*100/AQ42 -> 8.2443654 | AU42: =SUM(AU31:AU41) -> 822 | AV42: =SUM(AV31:AV41) -> 151 | AW42: =AU42-AV42 -> 671 | AX42: =AV42*100/AU42 -> 18.36983 | AY42: =SUM(AY31:AY41) -> 135 | AZ42: =SUM(AZ31:AZ41) -> 96 | BA42: =AY42-AZ42 -> 39 | BB42: =AZ42*100/AY42 -> 71.111111 | BC42: =SUM(BC31:BC41) -> 2 | BD42: =SUM(BD31:BD41) -> 1 | BE42: =BC42-BD42 -> 1 | BF42: =BD42*100/BC42 -> 50
B44: Даутова Гузель Мансуровна - зав. Отд. | C44: 0 | D44: ='4 то'!$I$79 -> 0 | E44: =C44-D44 -> 0 | F44: =D44*100/C44 -> #DIV/0! | G44: 0 | H44: ='4 то'!$I$87 -> 0 | I44: =G44-H44 -> 0 | J44: =H44*100/G44 -> #DIV/0! | K44: 0 | L44: ='4 то'!$I$83 -> 0 | M44: =K44-L44 -> 0 | N44: =L44*100/K44 -> #DIV/0! | O44: =S44+W44+AA44 -> 0 | P44: =T44+X44+AB44 -> 0 | Q44: =O44-P44 -> 0 | R44: =P44*100/O44 -> #DIV/0! | S44: 0 | T44: =('4 то'!$I$101) -> 0 | U44: =S44-T44 -> 0 | V44: =T44*100/S44 -> #DIV/0! | W44: 0 | X44: =('4 то'!$I$103) -> 0 | Y44: =W44-X44 -> 0 | Z44: =X44*100/W44 -> #DIV/0! | AA44: 0 | AB44: =('4 то'!$I$81) -> 0 | AC44: =AA44-AB44 -> 0 | AD44: =AB44*100/AA44 -> #DIV/0! | AE44: 0 | AF44: ='4 то'!$I$85 -> 1 | AG44: =AE44-AF44 -> -1 | AH44: =AF44*100/AE44 -> #DIV/0! | AI44: 0 | AJ44: ='4 то'!$I$91 -> 0 | AK44: =AI44-AJ44 -> 0 | AL44: =AJ44*100/AI44 -> #DIV/0! | AM44: 0 | AN44: ='4 то'!$I$89 -> 1 | AO44: =AM44-AN44 -> -1 | AP44: =AN44*100/AM44 -> #DIV/0! | AQ44: 0 | AR44: =('4 то'!$I$93)+('4 то'!$I$95) -> 0 | AS44: =AQ44-AR44 -> 0 | AT44: =AR44*100/AQ44 -> #DIV/0! | AU44: 0 | AV44: ='4 то'!$I$111 -> 0 | AW44: =AU44-AV44 -> 0 | AX44: =AV44*100/AU44 -> #DIV/0! | AY44: 0 | AZ44: ='4 то'!$I$97 -> 0 | BA44: =AY44-AZ44 -> 0 | BB44: =AZ44*100/AY44 -> #DIV/0! | BC44: 0 | BD44: ='4 то'!$I$99 -> 0 | BE44: =BC44-BD44 -> 0 | BF44: =BD44*100/BC44 -> #DIV/0!
A45: 1 | B45: Булудян Милена Эдвардовна | C45: 0 | D45: ='4 то'!$I$475 -> 27 | E45: =C45-D45 -> -27 | F45: =D45*100/C45 -> #DIV/0! | G45: 0 | H45: ='4 то'!$I$483 -> 0 | I45: =G45-H45 -> 0 | J45: =H45*100/G45 -> #DIV/0! | K45: 108 | L45: ='4 то'!$I$479 -> 51 | M45: =K45-L45 -> 57 | N45: =L45*100/K45 -> 47.222222 | O45: =S45+W45+AA45 -> 53 | P45: =T45+X45+AB45 -> 49 | Q45: =O45-P45 -> 4 | R45: =P45*100/O45 -> 92.45283 | S45: 0 | T45: ='4 то'!$I$497 -> 0 | U45: =S45-T45 -> 0 | V45: =T45*100/S45 -> #DIV/0! | W45: 51 | X45: =('4 то'!$I$499) -> 49 | Y45: =W45-X45 -> 2 | Z45: =X45*100/W45 -> 96.078431 | AA45: 2 | AB45: =('4 то'!$I$4779) -> 0 | AC45: =AA45-AB45 -> 2 | AD45: =AB45*100/AA45 -> 0 | AE45: 0 | AF45: ='4 то'!$I$481 -> 3 | AG45: =AE45-AF45 -> -3 | AH45: =AF45*100/AE45 -> #DIV/0! | AI45: 0 | AJ45: ='4 то'!$I$487 -> 2 | AK45: =AI45-AJ45 -> -2 | AL45: =AJ45*100/AI45 -> #DIV/0! | AM45: 30 | AN45: ='4 то'!$I$485 -> 95 | AO45: =AM45-AN45 -> -65 | AP45: =AN45*100/AM45 -> 316.66667 | AQ45: 136 | AR45: =('4 то'!$I$489)+('4 то'!$I$491) -> 139 | AS45: =AQ45-AR45 -> -3 | AT45: =AR45*100/AQ45 -> 102.20588 | AU45: 36 | AV45: ='4 то'!$I$507 -> 31 | AW45: =AU45-AV45 -> 5 | AX45: =AV45*100/AU45 -> 86.111111 | AY45: 18 | AZ45: ='4 то'!$I$493 -> 0 | BA45: =AY45-AZ45 -> 18 | BB45: =AZ45*100/AY45 -> 0 | BC45: 1 | BD45: ='4 то'!$I$495 -> 0 | BE45: =BC45-BD45 -> 1 | BF45: =BD45*100/BC45 -> 0
A46: 2 | B46: Гареева Лидия Расимовна | C46: 0 | D46: ='4 то'!$I$583 -> 26 | E46: =C46-D46 -> -26 | F46: =D46*100/C46 -> #DIV/0! | G46: 0 | H46: ='4 то'!$I$591 -> 0 | I46: =G46-H46 -> 0 | J46: =H46*100/G46 -> #DIV/0! | K46: 108 | L46: ='4 то'!$I$587 -> 54 | M46: =K46-L46 -> 54 | N46: =L46*100/K46 -> 50 | O46: =S46+W46+AA46 -> 53 | P46: =T46+X46+AB46 -> 35 | Q46: =O46-P46 -> 18 | R46: =P46*100/O46 -> 66.037736 | S46: 0 | T46: ='4 то'!$I$605 -> 0 | U46: =S46-T46 -> 0 | V46: =T46*100/S46 -> #DIV/0! | W46: 51 | X46: ='4 то'!$I$607 -> 35 | Y46: =W46-X46 -> 16 | Z46: =X46*100/W46 -> 68.627451 | AA46: 2 | AB46: ='4 то'!$I$585 -> 0 | AC46: =AA46-AB46 -> 2 | AD46: =AB46*100/AA46 -> 0 | AE46: 0 | AF46: ='4 то'!$I$589 -> 5 | AG46: =AE46-AF46 -> -5 | AH46: =AF46*100/AE46 -> #DIV/0! | AI46: 0 | AJ46: ='4 то'!$I$595 -> 1 | AK46: =AI46-AJ46 -> -1 | AL46: =AJ46*100/AI46 -> #DIV/0! | AM46: 30 | AN46: ='4 то'!$I$593 -> 35 | AO46: =AM46-AN46 -> -5 | AP46: =AN46*100/AM46 -> 116.66667 | AQ46: 136 | AR46: =('4 то'!$I$597)+('4 то'!$I$599) -> 80 | AS46: =AQ46-AR46 -> 56 | AT46: =AR46*100/AQ46 -> 58.823529 | AU46: 36 | AV46: ='4 то'!$I$615 -> 25 | AW46: =AU46-AV46 -> 11 | AX46: =AV46*100/AU46 -> 69.444444 | AY46: 18 | AZ46: ='4 то'!$I$601 -> 0 | BA46: =AY46-AZ46 -> 18 | BB46: =AZ46*100/AY46 -> 0 | BC46: 1 | BD46: ='4 то'!$I$603 -> 0 | BE46: =BC46-BD46 -> 1 | BF46: =BD46*100/BC46 -> 0
A47: 3 | B47: Гусейнова Сабира ЗАТАЛИ КЫЗЫ | C47: 0 | D47: ='4 то'!$I$187 -> 0 | E47: =C47-D47 -> 0 | F47: =D47*100/C47 -> #DIV/0! | G47: 0 | H47: ='4 то'!$I$195 -> 0 | I47: =G47-H47 -> 0 | J47: =H47*100/G47 -> #DIV/0! | K47: 108 | L47: ='4 то'!$I$191 -> 51 | M47: =K47-L47 -> 57 | N47: =L47*100/K47 -> 47.222222 | O47: =S47+W47+AA47 -> 53 | P47: =T47+X47+AB47 -> 14 | Q47: =O47-P47 -> 39 | R47: =P47*100/O47 -> 26.415094 | S47: 0 | T47: ='4 то'!$I$209 -> 0 | U47: =S47-T47 -> 0 | V47: =T47*100/S47 -> #DIV/0! | W47: 51 | X47: =('4 то'!$I$211) -> 14 | Y47: =W47-X47 -> 37 | Z47: =X47*100/W47 -> 27.45098 | AA47: 2 | AB47: =('4 то'!$I$189) -> 0 | AC47: =AA47-AB47 -> 2 | AD47: =AB47*100/AA47 -> 0 | AE47: 0 | AF47: ='4 то'!$I$193 -> 0 | AG47: =AE47-AF47 -> 0 | AH47: =AF47*100/AE47 -> #DIV/0! | AI47: 0 | AJ47: ='4 то'!$I$199 -> 0 | AK47: =AI47-AJ47 -> 0 | AL47: =AJ47*100/AI47 -> #DIV/0! | AM47: 30 | AN47: ='4 то'!$I$197 -> 26 | AO47: =AM47-AN47 -> 4 | AP47: =AN47*100/AM47 -> 86.666667 | AQ47: 136 | AR47: =('4 то'!$I$201)+('4 то'!$I$203) -> 134 | AS47: =AQ47-AR47 -> 2 | AT47: =AR47*100/AQ47 -> 98.529412 | AU47: 36 | AV47: ='4 то'!$I$219 -> 33 | AW47: =AU47-AV47 -> 3 | AX47: =AV47*100/AU47 -> 91.666667 | AY47: 18 | AZ47: ='4 то'!$I$205 -> 13 | BA47: =AY47-AZ47 -> 5 | BB47: =AZ47*100/AY47 -> 72.222222 | BC47: 1 | BD47: ='4 то'!$I$207 -> 0 | BE47: =BC47-BD47 -> 1 | BF47: =BD47*100/BC47 -> 0
A48: 4 | B48: ЁРОВ БАХТОВАР ШАМСИДДИНОВИЧ | C48: 0 | D48: ='4 то'!$I$259 -> 41 | E48: =C48-D48 -> -41 | F48: =D48*100/C48 -> #DIV/0! | G48: 0 | H48: ='4 то'!$I$267 -> 0 | I48: =G48-H48 -> 0 | J48: =H48*100/G48 -> #DIV/0! | K48: 108 | L48: ='4 то'!$I$263 -> 109 | M48: =K48-L48 -> -1 | N48: =L48*100/K48 -> 100.92593 | O48: =S48+W48+AA48 -> 52 | P48: =T48+X48+AB48 -> 68 | Q48: =O48-P48 -> -16 | R48: =P48*100/O48 -> 130.76923 | S48: 0 | T48: =('4 то'!$I$281) -> 3 | U48: =S48-T48 -> -3 | V48: =T48*100/S48 -> #DIV/0! | W48: 51 | X48: =('4 то'!$I$283) -> 65 | Y48: =W48-X48 -> -14 | Z48: =X48*100/W48 -> 127.45098 | AA48: 1 | AB48: =('4 то'!$I$261) -> 0 | AC48: =AA48-AB48 -> 1 | AD48: =AB48*100/AA48 -> 0 | AE48: 0 | AF48: ='4 то'!$I$265 -> 11 | AG48: =AE48-AF48 -> -11 | AH48: =AF48*100/AE48 -> #DIV/0! | AI48: 0 | AJ48: ='4 то'!$I$271 -> 5 | AK48: =AI48-AJ48 -> -5 | AL48: =AJ48*100/AI48 -> #DIV/0! | AM48: 30 | AN48: ='4 то'!$I$269 -> 30 | AO48: =AM48-AN48 -> 0 | AP48: =AN48*100/AM48 -> 100 | AQ48: 136 | AR48: =('4 то'!$I$273)+('4 то'!$I$275) -> 80 | AS48: =AQ48-AR48 -> 56 | AT48: =AR48*100/AQ48 -> 58.823529 | AU48: 36 | AV48: ='4 то'!$I$291 -> 3 | AW48: =AU48-AV48 -> 33 | AX48: =AV48*100/AU48 -> 8.3333333 | AY48: 18 | AZ48: ='4 то'!$I$277 -> 4 | BA48: =AY48-AZ48 -> 14 | BB48: =AZ48*100/AY48 -> 22.222222 | BC48: 0 | BD48: ='4 то'!$I$279 -> 0 | BE48: =BC48-BD48 -> 0 | BF48: =BD48*100/BC48 -> #DIV/0!
A49: 5 | B49: Загидуллина Элина Ильмировна | C49: 0 | D49: ='4 то'!$I$619 -> 33 | E49: =C49-D49 -> -33 | F49: =D49*100/C49 -> #DIV/0! | G49: 0 | H49: ='4 то'!$I$627 -> 0 | I49: =G49-H49 -> 0 | J49: =H49*100/G49 -> #DIV/0! | K49: 108 | L49: ='4 то'!$I$623 -> 61 | M49: =K49-L49 -> 47 | N49: =L49*100/K49 -> 56.481481 | O49: =S49+W49+AA49 -> 53 | P49: =T49+X49+AB49 -> 16 | Q49: =O49-P49 -> 37 | R49: =P49*100/O49 -> 30.188679 | S49: 0 | T49: =('4 то'!$I$641) -> 1 | U49: =S49-T49 -> -1 | V49: =T49*100/S49 -> #DIV/0! | W49: 51 | X49: =('4 то'!$I$643) -> 13 | Y49: =W49-X49 -> 38 | Z49: =X49*100/W49 -> 25.490196 | AA49: 2 | AB49: =('4 то'!$I$621) -> 2 | AC49: =AA49-AB49 -> 0 | AD49: =AB49*100/AA49 -> 100 | AE49: 0 | AF49: ='4 то'!$I$625 -> 1 | AG49: =AE49-AF49 -> -1 | AH49: =AF49*100/AE49 -> #DIV/0! | AI49: 0 | AJ49: ='4 то'!$I$631 -> 21 | AK49: =AI49-AJ49 -> -21 | AL49: =AJ49*100/AI49 -> #DIV/0! | AM49: 30 | AN49: ='4 то'!$I$629 -> 43 | AO49: =AM49-AN49 -> -13 | AP49: =AN49*100/AM49 -> 143.33333 | AQ49: 136 | AR49: =('4 то'!$I$633)+('4 то'!$I$635) -> 0 | AS49: =AQ49-AR49 -> 136 | AT49: =AR49*100/AQ49 -> 0 | AU49: 36 | AV49: ='4 то'!$I$651 -> 0 | AW49: =AU49-AV49 -> 36 | AX49: =AV49*100/AU49 -> 0 | AY49: 18 | AZ49: ='4 то'!$I$637 -> 0 | BA49: =AY49-AZ49 -> 18 | BB49: =AZ49*100/AY49 -> 0 | BC49: 1 | BD49: ='4 то'!$I$639 -> 0 | BE49: =BC49-BD49 -> 1 | BF49: =BD49*100/BC49 -> 0
A50: 6 | B50: ИСЯНТАЕВА ГЮЗЕЛИЯ ИЛЬШАТОВНА | C50: 0 | D50: ='4 то'!$I$403 -> 34 | E50: =C50-D50 -> -34 | F50: =D50*100/C50 -> #DIV/0! | G50: 0 | H50: ='4 то'!$I$411 -> 0 | I50: =G50-H50 -> 0 | J50: =H50*100/G50 -> #DIV/0! | K50: 108 | L50: ='4 то'!$I$407 -> 121 | M50: =K50-L50 -> -13 | N50: =L50*100/K50 -> 112.03704 | O50: =S50+W50+AA50 -> 53 | P50: =T50+X50+AB50 -> 26 | Q50: =O50-P50 -> 27 | R50: =P50*100/O50 -> 49.056604 | S50: 0 | T50: =('4 то'!$I$425) -> 0 | U50: =S50-T50 -> 0 | V50: =T50*100/S50 -> #DIV/0! | W50: 51 | X50: =('4 то'!$I$427) -> 26 | Y50: =W50-X50 -> 25 | Z50: =X50*100/W50 -> 50.980392 | AA50: 2 | AB50: =('4 то'!$I$405) -> 0 | AC50: =AA50-AB50 -> 2 | AD50: =AB50*100/AA50 -> 0 | AE50: 0 | AF50: ='4 то'!$I$409 -> 0 | AG50: =AE50-AF50 -> 0 | AH50: =AF50*100/AE50 -> #DIV/0! | AI50: 0 | AJ50: ='4 то'!$I$415 -> 0 | AK50: =AI50-AJ50 -> 0 | AL50: =AJ50*100/AI50 -> #DIV/0! | AM50: 30 | AN50: ='4 то'!$I$413 -> 32 | AO50: =AM50-AN50 -> -2 | AP50: =AN50*100/AM50 -> 106.66667 | AQ50: 136 | AR50: =('4 то'!$I$417)+('4 то'!$I$419) -> 81 | AS50: =AQ50-AR50 -> 55 | AT50: =AR50*100/AQ50 -> 59.558824 | AU50: 36 | AV50: ='4 то'!$I$435 -> 10 | AW50: =AU50-AV50 -> 26 | AX50: =AV50*100/AU50 -> 27.777778 | AY50: 18 | AZ50: ='4 то'!$I$421 -> 22 | BA50: =AY50-AZ50 -> -4 | BB50: =AZ50*100/AY50 -> 122.22222 | BC50: 1 | BD50: ='4 то'!$I$423 -> 0 | BE50: =BC50-BD50 -> 1 | BF50: =BD50*100/BC50 -> 0
A51: 7 | B51: Мухаметова Руслана Мансуровна | C51: 0 | D51: ='4 то'!$I$511 -> 117 | E51: =C51-D51 -> -117 | F51: =D51*100/C51 -> #DIV/0! | G51: 0 | H51: ='4 то'!$I$519 -> 0 | I51: =G51-H51 -> 0 | J51: =H51*100/G51 -> #DIV/0! | K51: 108 | L51: ='4 то'!$I$515 -> 128 | M51: =K51-L51 -> -20 | N51: =L51*100/K51 -> 118.51852 | O51: =S51+W51+AA51 -> 53 | P51: =T51+X51+AB51 -> 41 | Q51: =O51-P51 -> 12 | R51: =P51*100/O51 -> 77.358491 | S51: 0 | T51: =('4 то'!$I$533) -> 4 | U51: =S51-T51 -> -4 | V51: =T51*100/S51 -> #DIV/0! | W51: 51 | X51: =('4 то'!$I$535) -> 37 | Y51: =W51-X51 -> 14 | Z51: =X51*100/W51 -> 72.54902 | AA51: 2 | AB51: =('4 то'!$I$513) -> 0 | AC51: =AA51-AB51 -> 2 | AD51: =AB51*100/AA51 -> 0 | AE51: 0 | AF51: ='4 то'!$I$517 -> 0 | AG51: =AE51-AF51 -> 0 | AH51: =AF51*100/AE51 -> #DIV/0! | AI51: 0 | AJ51: ='4 то'!$I$523 -> 0 | AK51: =AI51-AJ51 -> 0 | AL51: =AJ51*100/AI51 -> #DIV/0! | AM51: 30 | AN51: ='4 то'!$I$521 -> 54 | AO51: =AM51-AN51 -> -24 | AP51: =AN51*100/AM51 -> 180 | AQ51: 136 | AR51: =('4 то'!$I$525)+('4 то'!$I$527) -> 3 | AS51: =AQ51-AR51 -> 133 | AT51: =AR51*100/AQ51 -> 2.2058824 | AU51: 36 | AV51: ='4 то'!$I$543 -> 0 | AW51: =AU51-AV51 -> 36 | AX51: =AV51*100/AU51 -> 0 | AY51: 18 | AZ51: ='4 то'!$I$529 -> 30 | BA51: =AY51-AZ51 -> -12 | BB51: =AZ51*100/AY51 -> 166.66667 | BC51: 1 | BD51: ='4 то'!$I$531 -> 0 | BE51: =BC51-BD51 -> 1 | BF51: =BD51*100/BC51 -> 0
A52: 8 | B52: Насретдинова Алина Радмировна | C52: 0 | D52: ='4 то'!$I$547 -> 66 | E52: =C52-D52 -> -66 | F52: =D52*100/C52 -> #DIV/0! | G52: 0 | H52: ='4 то'!$I$555 -> 0 | I52: =G52-H52 -> 0 | J52: =H52*100/G52 -> #DIV/0! | K52: 108 | L52: ='4 то'!$I$551 -> 118 | M52: =K52-L52 -> -10 | N52: =L52*100/K52 -> 109.25926 | O52: =S52+W52+AA52 -> 53 | P52: =T52+X52+AB52 -> 57 | Q52: =O52-P52 -> -4 | R52: =P52*100/O52 -> 107.54717 | S52: 0 | T52: =('4 то'!$I$569) -> 1 | U52: =S52-T52 -> -1 | V52: =T52*100/S52 -> #DIV/0! | W52: 51 | X52: =('4 то'!$I$571) -> 54 | Y52: =W52-X52 -> -3 | Z52: =X52*100/W52 -> 105.88235 | AA52: 2 | AB52: =('4 то'!$I$549) -> 2 | AC52: =AA52-AB52 -> 0 | AD52: =AB52*100/AA52 -> 100 | AE52: 0 | AF52: ='4 то'!$I$553 -> 0 | AG52: =AE52-AF52 -> 0 | AH52: =AF52*100/AE52 -> #DIV/0! | AI52: 0 | AJ52: ='4 то'!$I$559 -> 0 | AK52: =AI52-AJ52 -> 0 | AL52: =AJ52*100/AI52 -> #DIV/0! | AM52: 30 | AN52: ='4 то'!$I$557 -> 105 | AO52: =AM52-AN52 -> -75 | AP52: =AN52*100/AM52 -> 350 | AQ52: 136 | AR52: =('4 то'!$I$561)+('4 то'!$I$563) -> 8 | AS52: =AQ52-AR52 -> 128 | AT52: =AR52*100/AQ52 -> 5.8823529 | AU52: 36 | AV52: ='4 то'!$I$579 -> 2 | AW52: =AU52-AV52 -> 34 | AX52: =AV52*100/AU52 -> 5.5555556 | AY52: 18 | AZ52: ='4 то'!$I$565 -> 4 | BA52: =AY52-AZ52 -> 14 | BB52: =AZ52*100/AY52 -> 22.222222 | BC52: 1 | BD52: ='4 то'!$I$567 -> 0 | BE52: =BC52-BD52 -> 1 | BF52: =BD52*100/BC52 -> 0
A53: 9 | B53: ПУГАЧЕВА Виктория Андреевна д/о | C53: 0 | D53: ='4 то'!$I$367 -> 0 | E53: =C53-D53 -> 0 | F53: =D53*100/C53 -> #DIV/0! | G53: 0 | H53: ='4 то'!$I$375 -> 0 | I53: =G53-H53 -> 0 | J53: =H53*100/G53 -> #DIV/0! | K53: 0 | L53: ='4 то'!$I$371 -> 0 | M53: =K53-L53 -> 0 | N53: =L53*100/K53 -> #DIV/0! | O53: =S53+W53+AA53 -> 0 | P53: =T53+X53+AB53 -> 0 | Q53: =O53-P53 -> 0 | R53: =P53*100/O53 -> #DIV/0! | S53: 0 | T53: =('4 то'!$I$389) -> 0 | U53: =S53-T53 -> 0 | V53: =T53*100/S53 -> #DIV/0! | W53: 0 | X53: =('4 то'!$I$391) -> 0 | Y53: =W53-X53 -> 0 | Z53: =X53*100/W53 -> #DIV/0! | AA53: 0 | AB53: =('4 то'!$I$369) -> 0 | AC53: =AA53-AB53 -> 0 | AD53: =AB53*100/AA53 -> #DIV/0! | AE53: 0 | AF53: ='4 то'!$I$373 -> 0 | AG53: =AE53-AF53 -> 0 | AH53: =AF53*100/AE53 -> #DIV/0! | AI53: 0 | AJ53: ='4 то'!$I$379 -> 0 | AK53: =AI53-AJ53 -> 0 | AL53: =AJ53*100/AI53 -> #DIV/0! | AM53: 0 | AN53: ='4 то'!$I$377 -> 0 | AO53: =AM53-AN53 -> 0 | AP53: =AN53*100/AM53 -> #DIV/0! | AQ53: 0 | AR53: =('4 то'!$I$381)+('4 то'!$I$383) -> 0 | AS53: =AQ53-AR53 -> 0 | AT53: =AR53*100/AQ53 -> #DIV/0! | AU53: 0 | AV53: ='4 то'!$I$399 -> 0 | AW53: =AU53-AV53 -> 0 | AX53: =AV53*100/AU53 -> #DIV/0! | AY53: 0 | AZ53: ='4 то'!$I$385 -> 0 | BA53: =AY53-AZ53 -> 0 | BB53: =AZ53*100/AY53 -> #DIV/0! | BC53: 0 | BD53: ='4 то'!$I$387 -> 0 | BE53: =BC53-BD53 -> 0 | BF53: =BD53*100/BC53 -> #DIV/0!
A54: 10 | B54: Халикова Наиля Марсовна | C54: 0 | D54: ='4 то'!$I$42 -> 9 | E54: =C54-D54 -> -9 | F54: =D54*100/C54 -> #DIV/0! | G54: 0 | H54: ='4 то'!$I$50 -> 0 | I54: =G54-H54 -> 0 | J54: =H54*100/G54 -> #DIV/0! | K54: 108 | L54: ='4 то'!$I$46 -> 113 | M54: =K54-L54 -> -5 | N54: =L54*100/K54 -> 104.62963 | O54: =S54+W54+AA54 -> 53 | P54: =T54+X54+AB54 -> 45 | Q54: =O54-P54 -> 8 | R54: =P54*100/O54 -> 84.90566 | S54: 0 | T54: =('4 то'!$I$64) -> 0 | U54: =S54-T54 -> 0 | V54: =T54*100/S54 -> #DIV/0! | W54: 51 | X54: =('4 то'!$I$66) -> 45 | Y54: =W54-X54 -> 6 | Z54: =X54*100/W54 -> 88.235294 | AA54: 2 | AB54: =('4 то'!$I$44) -> 0 | AC54: =AA54-AB54 -> 2 | AD54: =AB54*100/AA54 -> 0 | AE54: 0 | AF54: ='4 то'!$I$48 -> 1 | AG54: =AE54-AF54 -> -1 | AH54: =AF54*100/AE54 -> #DIV/0! | AI54: 0 | AJ54: ='4 то'!$I$54 -> 0 | AK54: =AI54-AJ54 -> 0 | AL54: =AJ54*100/AI54 -> #DIV/0! | AM54: 30 | AN54: ='4 то'!$I$52 -> 36 | AO54: =AM54-AN54 -> -6 | AP54: =AN54*100/AM54 -> 120 | AQ54: 136 | AR54: =('4 то'!$I$56)+('4 то'!$I$58) -> 0 | AS54: =AQ54-AR54 -> 136 | AT54: =AR54*100/AQ54 -> 0 | AU54: 36 | AV54: ='4 то'!$I$74 -> 0 | AW54: =AU54-AV54 -> 36 | AX54: =AV54*100/AU54 -> 0 | AY54: 18 | AZ54: ='4 то'!$I$60 -> 18 | BA54: =AY54-AZ54 -> 0 | BB54: =AZ54*100/AY54 -> 100 | BC54: 1 | BD54: ='4 то'!$I$62 -> 0 | BE54: =BC54-BD54 -> 1 | BF54: =BD54*100/BC54 -> 0
A55: 11 | B55: Ягудина Регина Айдаровна | C55: 0 | D55: ='4 то'!$I$439 -> 57 | E55: =C55-D55 -> -57 | F55: =D55*100/C55 -> #DIV/0! | G55: 0 | H55: ='4 то'!$I$447 -> 0 | I55: =G55-H55 -> 0 | J55: =H55*100/G55 -> #DIV/0! | K55: 108 | L55: ='4 то'!$I$443 -> 81 | M55: =K55-L55 -> 27 | N55: =L55*100/K55 -> 75 | O55: =S55+W55+AA55 -> 53 | P55: =T55+X55+AB55 -> 27 | Q55: =O55-P55 -> 26 | R55: =P55*100/O55 -> 50.943396 | S55: 0 | T55: =('4 то'!$I$461) -> 2 | U55: =S55-T55 -> -2 | V55: =T55*100/S55 -> #DIV/0! | W55: 51 | X55: =('4 то'!$I$463) -> 25 | Y55: =W55-X55 -> 26 | Z55: =X55*100/W55 -> 49.019608 | AA55: 2 | AB55: =('4 то'!$I$441) -> 0 | AC55: =AA55-AB55 -> 2 | AD55: =AB55*100/AA55 -> 0 | AE55: 0 | AF55: ='4 то'!$I$445 -> 0 | AG55: =AE55-AF55 -> 0 | AH55: =AF55*100/AE55 -> #DIV/0! | AI55: 0 | AJ55: ='4 то'!$I$451 -> 0 | AK55: =AI55-AJ55 -> 0 | AL55: =AJ55*100/AI55 -> #DIV/0! | AM55: 30 | AN55: ='4 то'!$I$449 -> 18 | AO55: =AM55-AN55 -> 12 | AP55: =AN55*100/AM55 -> 60 | AQ55: 136 | AR55: =('4 то'!$I$453)+('4 то'!$I$455) -> 59 | AS55: =AQ55-AR55 -> 77 | AT55: =AR55*100/AQ55 -> 43.382353 | AU55: 36 | AV55: ='4 то'!$I$471 -> 7 | AW55: =AU55-AV55 -> 29 | AX55: =AV55*100/AU55 -> 19.444444 | AY55: 18 | AZ55: ='4 то'!$I$457 -> 0 | BA55: =AY55-AZ55 -> 18 | BB55: =AZ55*100/AY55 -> 0 | BC55: 1 | BD55: ='4 то'!$I$459 -> 0 | BE55: =BC55-BD55 -> 1 | BF55: =BD55*100/BC55 -> 0
B56: ИТОГО по 4 терапии | C56: =SUM(C44:C55) -> 0 | D56: =SUM(D44:D55) -> 410 | E56: =C56-D56 -> -410 | F56: =D56*100/C56 -> #DIV/0! | G56: =SUM(G44:G55) -> 0 | H56: =SUM(H44:H55) -> 0 | I56: =G56-H56 -> 0 | J56: =H56*100/G56 -> #DIV/0! | K56: =SUM(K44:K55) -> 1080 | L56: =SUM(L44:L55) -> 887 | M56: =K56-L56 -> 193 | N56: =L56*100/K56 -> 82.12963 | O56: =SUM(O44:O55) -> 529 | P56: =SUM(P44:P55) -> 378 | Q56: =O56-P56 -> 151 | R56: =P56*100/O56 -> 71.455577 | S56: =SUM(S44:S55) -> 0 | T56: =SUM(T44:T55) -> 11 | U56: =S56-T56 -> -11 | V56: =T56*100/S56 -> #DIV/0! | W56: =SUM(W44:W55) -> 510 | X56: =SUM(X44:X55) -> 363 | Y56: =W56-X56 -> 147 | Z56: =X56*100/W56 -> 71.176471 | AA56: =SUM(AA44:AA55) -> 19 | AB56: =SUM(AB44:AB55) -> 4 | AC56: =AA56-AB56 -> 15 | AD56: =AB56*100/AA56 -> 21.052632 | AE56: =SUM(AE44:AE55) -> 0 | AF56: =SUM(AF44:AF55) -> 22 | AG56: =AE56-AF56 -> -22 | AH56: =AF56*100/AE56 -> #DIV/0! | AI56: =SUM(AI44:AI55) -> 0 | AJ56: =SUM(AJ44:AJ55) -> 29 | AK56: =AI56-AJ56 -> -29 | AL56: =AJ56*100/AI56 -> #DIV/0! | AM56: =SUM(AM44:AM55) -> 300 | AN56: =SUM(AN44:AN55) -> 475 | AO56: =AM56-AN56 -> -175 | AP56: =AN56*100/AM56 -> 158.33333 | AQ56: =SUM(AQ44:AQ55) -> 1360 | AR56: =SUM(AR44:AR55) -> 584 | AS56: =AQ56-AR56 -> 776 | AT56: =AR56*100/AQ56 -> 42.941176 | AU56: =SUM(AU44:AU55) -> 360 | AV56: =SUM(AV44:AV55) -> 111 | AW56: =AU56-AV56 -> 249 | AX56: =AV56*100/AU56 -> 30.833333 | AY56: =SUM(AY44:AY55) -> 180 | AZ56: =SUM(AZ44:AZ55) -> 91 | BA56: =AY56-AZ56 -> 89 | BB56: =AZ56*100/AY56 -> 50.555556 | BC56: =SUM(BC44:BC55) -> 9 | BD56: =SUM(BD44:BD55) -> 0 | BE56: =BC56-BD56 -> 9 | BF56: =BD56*100/BC56 -> 0
B58: Рахимова Гульназ Ралифовна зав.то | C58: 0 | D58: ='5 то'!$I$75 -> 0 | F58: =D58*100/C58 -> #DIV/0! | G58: 0 | H58: ='5 то'!$I$83 -> 0 | J58: =H58*100/G58 -> #DIV/0! | K58: 0 | L58: ='5 то'!$I$79 -> 0 | N58: =L58*100/K58 -> #DIV/0! | O58: =S58+W58+AA58 -> 0 | P58: =T58+X58+AB58 -> 0 | R58: =P58*100/O58 -> #DIV/0! | S58: 0 | T58: =('5 то'!$I$97) -> 0 | V58: =T58*100/S58 -> #DIV/0! | W58: 0 | X58: =('5 то'!$I$99) -> 0 | Z58: =X58*100/W58 -> #DIV/0! | AA58: 0 | AB58: =('5 то'!$I$77) -> 0 | AD58: =AB58*100/AA58 -> #DIV/0! | AE58: 0 | AF58: ='5 то'!$I$81 -> 0 | AH58: =AF58*100/AE58 -> #DIV/0! | AI58: 0 | AJ58: ='5 то'!$I$87 -> 0 | AL58: =AJ58*100/AI58 -> #DIV/0! | AM58: 0 | AN58: ='5 то'!$I$85 -> 0 | AP58: =AN58*100/AM58 -> #DIV/0! | AQ58: 0 | AR58: =('5 то'!$I$89)+('5 то'!$I$91) -> 0 | AT58: =AR58*100/AQ58 -> #DIV/0! | AU58: 0 | AV58: ='5 то'!$I$105 -> 0 | AX58: =AV58*100/AU58 -> #DIV/0! | AY58: 0 | AZ58: ='5 то'!$I$93 -> 0 | BB58: =AZ58*100/AY58 -> #DIV/0! | BC58: 0 | BD58: ='5 то'!$I$95 -> 0 | BF58: =BD58*100/BC58 -> #DIV/0!
A59: 1 | B59: ГАРИФУЛЛИНА (Ахметова) Гульнур Альфиратовна д/о | C59: 0 | D59: ='5 то'!$I$285 -> 0 | E59: =C59-D59 -> 0 | F59: =D59*100/C59 -> #DIV/0! | G59: 0 | H59: ='5 то'!$I$293 -> 0 | I59: =G59-H59 -> 0 | J59: =H59*100/G59 -> #DIV/0! | K59: 0 | L59: ='5 то'!$I$289 -> 0 | M59: =K59-L59 -> 0 | N59: =L59*100/K59 -> #DIV/0! | O59: =S59+W59+AA59 -> 0 | P59: =T59+X59+AB59 -> 0 | Q59: =O59-P59 -> 0 | R59: =P59*100/O59 -> #DIV/0! | S59: 0 | T59: ='5 то'!$I$307 -> 0 | U59: =S59-T59 -> 0 | V59: =T59*100/S59 -> #DIV/0! | W59: 0 | X59: ='5 то'!$I$309 -> 0 | Y59: =W59-X59 -> 0 | Z59: =X59*100/W59 -> #DIV/0! | AA59: 0 | AB59: ='5 то'!$I$287 -> 0 | AC59: =AA59-AB59 -> 0 | AD59: =AB59*100/AA59 -> #DIV/0! | AE59: 0 | AF59: ='5 то'!$I$291 -> 0 | AG59: =AE59-AF59 -> 0 | AH59: =AF59*100/AE59 -> #DIV/0! | AI59: 0 | AJ59: ='5 то'!$I$297 -> 0 | AK59: =AI59-AJ59 -> 0 | AL59: =AJ59*100/AI59 -> #DIV/0! | AM59: 0 | AN59: ='5 то'!$I$295 -> 0 | AO59: =AM59-AN59 -> 0 | AP59: =AN59*100/AM59 -> #DIV/0! | AQ59: 0 | AR59: =('5 то'!$I$299)+('5 то'!$I$301) -> 0 | AS59: =AQ59-AR59 -> 0 | AT59: =AR59*100/AQ59 -> #DIV/0! | AU59: 0 | AV59: ='5 то'!$I$315 -> 0 | AW59: =AU59-AV59 -> 0 | AX59: =AV59*100/AU59 -> #DIV/0! | AY59: 0 | AZ59: ='5 то'!$I$303 -> 0 | BA59: =AY59-AZ59 -> 0 | BB59: =AZ59*100/AY59 -> #DIV/0! | BC59: 0 | BD59: ='5 то'!$I$305 -> 0 | BE59: =BC59-BD59 -> 0 | BF59: =BD59*100/BC59 -> #DIV/0!
A60: 2 | B60: Газимова Альбина Азатовна | C60: 0 | D60: ='5 то'!$I$5 -> 95 | E60: =C60-D60 -> -95 | F60: =D60*100/C60 -> #DIV/0! | G60: 0 | H60: ='5 то'!$I$13 -> 0 | I60: =G60-H60 -> 0 | J60: =H60*100/G60 -> #DIV/0! | K60: 120 | L60: ='5 то'!$I$9 -> 164 | M60: =K60-L60 -> -44 | N60: =L60*100/K60 -> 136.66667 | O60: =S60+W60+AA60 -> 84 | P60: =T60+X60+AB60 -> 72 | Q60: =O60-P60 -> 12 | R60: =P60*100/O60 -> 85.714286 | S60: 0 | T60: =('5 то'!$I$27) -> 1 | U60: =S60-T60 -> -1 | V60: =T60*100/S60 -> #DIV/0! | W60: 75 | X60: =('5 то'!$I$29) -> 61 | Y60: =W60-X60 -> 14 | Z60: =X60*100/W60 -> 81.333333 | AA60: 9 | AB60: =('5 то'!$I$7) -> 10 | AC60: =AA60-AB60 -> -1 | AD60: =AB60*100/AA60 -> 111.11111 | AE60: 0 | AF60: ='5 то'!$I$11 -> 23 | AG60: =AE60-AF60 -> -23 | AH60: =AF60*100/AE60 -> #DIV/0! | AI60: 0 | AJ60: ='5 то'!$I$17 -> 7 | AK60: =AI60-AJ60 -> -7 | AL60: =AJ60*100/AI60 -> #DIV/0! | AM60: 32 | AN60: ='5 то'!$I$15 -> 72 | AO60: =AM60-AN60 -> -40 | AP60: =AN60*100/AM60 -> 225 | AQ60: 260 | AR60: =('5 то'!$I$19)+('5 то'!$I$21) -> 57 | AS60: =AQ60-AR60 -> 203 | AT60: =AR60*100/AQ60 -> 21.923077 | AU60: 75 | AV60: ='5 то'!$I$35 -> 3 | AW60: =AU60-AV60 -> 72 | AX60: =AV60*100/AU60 -> 4 | AY60: 18 | AZ60: ='5 то'!$I$23 -> 17 | BA60: =AY60-AZ60 -> 1 | BB60: =AZ60*100/AY60 -> 94.444444 | BC60: 1 | BD60: ='5 то'!$I$25 -> 0 | BE60: =BC60-BD60 -> 1 | BF60: =BD60*100/BC60 -> 0
A61: 3 | B61: Идрисова Зульфия Избардовна | C61: 0 | D61: ='5 то'!$I$425 -> 1 | E61: =C61-D61 -> -1 | F61: =D61*100/C61 -> #DIV/0! | G61: 0 | H61: ='5 то'!$I$433 -> 0 | I61: =G61-H61 -> 0 | J61: =H61*100/G61 -> #DIV/0! | K61: 0 | L61: ='5 то'!$I$429 -> 6 | M61: =K61-L61 -> -6 | N61: =L61*100/K61 -> #DIV/0! | O61: =S61+W61+AA61 -> 0 | P61: =T61+X61+AB61 -> 4 | Q61: =O61-P61 -> -4 | R61: =P61*100/O61 -> #DIV/0! | S61: 0 | T61: =('5 то'!$I$447) -> 1 | U61: =S61-T61 -> -1 | V61: =T61*100/S61 -> #DIV/0! | W61: 0 | X61: =('5 то'!$I$449) -> 3 | Y61: =W61-X61 -> -3 | Z61: =X61*100/W61 -> #DIV/0! | AA61: 0 | AB61: =('5 то'!$I$427) -> 0 | AC61: =AA61-AB61 -> 0 | AD61: =AB61*100/AA61 -> #DIV/0! | AE61: 0 | AF61: ='5 то'!$I$431 -> 7 | AG61: =AE61-AF61 -> -7 | AH61: =AF61*100/AE61 -> #DIV/0! | AI61: 0 | AJ61: ='5 то'!$I$437 -> 0 | AK61: =AI61-AJ61 -> 0 | AL61: =AJ61*100/AI61 -> #DIV/0! | AM61: 0 | AN61: ='5 то'!$I$435 -> 7 | AO61: =AM61-AN61 -> -7 | AP61: =AN61*100/AM61 -> #DIV/0! | AQ61: 0 | AR61: =('5 то'!$I$439)+('5 то'!$I$441) -> 0 | AS61: =AQ61-AR61 -> 0 | AT61: =AR61*100/AQ61 -> #DIV/0! | AU61: 0 | AV61: ='5 то'!$I$455 -> 0 | AW61: =AU61-AV61 -> 0 | AX61: =AV61*100/AU61 -> #DIV/0! | AY61: 0 | AZ61: ='5 то'!$I$443 -> 0 | BA61: =AY61-AZ61 -> 0 | BB61: =AZ61*100/AY61 -> #DIV/0! | BC61: 0 | BD61: ='5 то'!$I$445 -> 0 | BE61: =BC61-BD61 -> 0 | BF61: =BD61*100/BC61 -> #DIV/0!
A62: 4 | B62: ИМАЕВА ВАЛЕРИЯ АНДРЕЕВНА | C62: 0 | D62: ='5 то'!$I$355 -> 37 | E62: =C62-D62 -> -37 | F62: =D62*100/C62 -> #DIV/0! | G62: 0 | H62: ='5 то'!$I$363 -> 0 | I62: =G62-H62 -> 0 | J62: =H62*100/G62 -> #DIV/0! | K62: 120 | L62: ='5 то'!$I$359 -> 17 | M62: =K62-L62 -> 103 | N62: =L62*100/K62 -> 14.166667 | O62: =S62+W62+AA62 -> 84 | P62: =T62+X62+AB62 -> 57 | Q62: =O62-P62 -> 27 | R62: =P62*100/O62 -> 67.857143 | S62: 0 | T62: =('5 то'!$I$377) -> 1 | U62: =S62-T62 -> -1 | V62: =T62*100/S62 -> #DIV/0! | W62: 75 | X62: =('5 то'!$I$379) -> 55 | Y62: =W62-X62 -> 20 | Z62: =X62*100/W62 -> 73.333333 | AA62: 9 | AB62: =('5 то'!$I$357) -> 1 | AC62: =AA62-AB62 -> 8 | AD62: =AB62*100/AA62 -> 11.111111 | AE62: 0 | AF62: ='5 то'!$I$361 -> 34 | AG62: =AE62-AF62 -> -34 | AH62: =AF62*100/AE62 -> #DIV/0! | AI62: 0 | AJ62: ='5 то'!$I$367 -> 0 | AK62: =AI62-AJ62 -> 0 | AL62: =AJ62*100/AI62 -> #DIV/0! | AM62: 32 | AN62: ='5 то'!$I$365 -> 55 | AO62: =AM62-AN62 -> -23 | AP62: =AN62*100/AM62 -> 171.875 | AQ62: 260 | AR62: =('5 то'!$I$369)+('5 то'!$I$371) -> 34 | AS62: =AQ62-AR62 -> 226 | AT62: =AR62*100/AQ62 -> 13.076923 | AU62: 75 | AV62: ='5 то'!$I$385 -> 2 | AW62: =AU62-AV62 -> 73 | AX62: =AV62*100/AU62 -> 2.6666667 | AY62: 14 | AZ62: ='5 то'!$I$373 -> 3 | BA62: =AY62-AZ62 -> 11 | BB62: =AZ62*100/AY62 -> 21.428571 | BC62: 1 | BD62: ='5 то'!$I$375 -> 0 | BE62: =BC62-BD62 -> 1 | BF62: =BD62*100/BC62 -> 0
A63: 5 | B63: МЕШРАМ Рузалина Фидарисовна | C63: 0 | D63: ='5 то'!$I$320 -> 30 | E63: =C63-D63 -> -30 | F63: =D63*100/C63 -> #DIV/0! | G63: 0 | H63: ='5 то'!$I$328 -> 0 | I63: =G63-H63 -> 0 | J63: =H63*100/G63 -> #DIV/0! | K63: 120 | L63: ='5 то'!$I$324 -> 108 | M63: =K63-L63 -> 12 | N63: =L63*100/K63 -> 90 | O63: =S63+W63+AA63 -> 82 | P63: =T63+X63+AB63 -> 91 | Q63: =O63-P63 -> -9 | R63: =P63*100/O63 -> 110.97561 | S63: 0 | T63: =('5 то'!$I$342) -> 15 | U63: =S63-T63 -> -15 | V63: =T63*100/S63 -> #DIV/0! | W63: 75 | X63: =('5 то'!$I$344) -> 69 | Y63: =W63-X63 -> 6 | Z63: =X63*100/W63 -> 92 | AA63: 7 | AB63: =('5 то'!$I$322) -> 7 | AC63: =AA63-AB63 -> 0 | AD63: =AB63*100/AA63 -> 100 | AE63: 0 | AF63: ='5 то'!$I$326 -> 21 | AG63: =AE63-AF63 -> -21 | AH63: =AF63*100/AE63 -> #DIV/0! | AI63: 0 | AJ63: ='5 то'!$I$332 -> 0 | AK63: =AI63-AJ63 -> 0 | AL63: =AJ63*100/AI63 -> #DIV/0! | AM63: 32 | AN63: ='5 то'!$I$330 -> 49 | AO63: =AM63-AN63 -> -17 | AP63: =AN63*100/AM63 -> 153.125 | AQ63: 220 | AR63: =('5 то'!$I$334)+('5 то'!$I$336) -> 29 | AS63: =AQ63-AR63 -> 191 | AT63: =AR63*100/AQ63 -> 13.181818 | AU63: 50 | AV63: ='5 то'!$I$350 -> 10 | AW63: =AU63-AV63 -> 40 | AX63: =AV63*100/AU63 -> 20 | AY63: 14 | AZ63: ='5 то'!$I$338 -> 14 | BA63: =AY63-AZ63 -> 0 | BB63: =AZ63*100/AY63 -> 100 | BC63: 1 | BD63: ='5 то'!$I$340 -> 0 | BE63: =BC63-BD63 -> 1 | BF63: =BD63*100/BC63 -> 0
A64: 6 | B64: Муллагалиева Альфинур Айнуровна | C64: 0 | D64: ='5 то'!$I$40 -> 86 | E64: =C64-D64 -> -86 | F64: =D64*100/C64 -> #DIV/0! | G64: 0 | H64: ='5 то'!$I$48 -> 0 | I64: =G64-H64 -> 0 | J64: =H64*100/G64 -> #DIV/0! | K64: 120 | L64: ='5 то'!$I$44 -> 86 | M64: =K64-L64 -> 34 | N64: =L64*100/K64 -> 71.666667 | O64: =S64+W64+AA64 -> 84 | P64: =T64+X64+AB64 -> 46 | Q64: =O64-P64 -> 38 | R64: =P64*100/O64 -> 54.761905 | S64: 0 | T64: =('5 то'!$I$62) -> 2 | U64: =S64-T64 -> -2 | V64: =T64*100/S64 -> #DIV/0! | W64: 75 | X64: =('5 то'!$I$64) -> 37 | Y64: =W64-X64 -> 38 | Z64: =X64*100/W64 -> 49.333333 | AA64: 9 | AB64: =('5 то'!$I$42) -> 7 | AC64: =AA64-AB64 -> 2 | AD64: =AB64*100/AA64 -> 77.777778 | AE64: 0 | AF64: ='5 то'!$I$46 -> 57 | AG64: =AE64-AF64 -> -57 | AH64: =AF64*100/AE64 -> #DIV/0! | AI64: 0 | AJ64: ='5 то'!$I$52 -> 3 | AK64: =AI64-AJ64 -> -3 | AL64: =AJ64*100/AI64 -> #DIV/0! | AM64: 32 | AN64: ='5 то'!$I$50 -> 40 | AO64: =AM64-AN64 -> -8 | AP64: =AN64*100/AM64 -> 125 | AQ64: 260 | AR64: =('5 то'!$I$54)+('5 то'!$I$56) -> 34 | AS64: =AQ64-AR64 -> 226 | AT64: =AR64*100/AQ64 -> 13.076923 | AU64: 75 | AV64: ='5 то'!$I$70 -> 4 | AW64: =AU64-AV64 -> 71 | AX64: =AV64*100/AU64 -> 5.3333333 | AY64: 18 | AZ64: ='5 то'!$I$58 -> 3 | BA64: =AY64-AZ64 -> 15 | BB64: =AZ64*100/AY64 -> 16.666667 | BC64: 1 | BD64: ='5 то'!$I$60 -> 0 | BE64: =BC64-BD64 -> 1 | BF64: =BD64*100/BC64 -> 0
A65: 7 | B65: Садртдинова Рузиля Фердауисовна | C65: 0 | D65: ='5 то'!$I$390 -> 20 | E65: =C65-D65 -> -20 | F65: =D65*100/C65 -> #DIV/0! | G65: 0 | H65: ='5 то'!$I$398 -> 0 | I65: =G65-H65 -> 0 | J65: =H65*100/G65 -> #DIV/0! | K65: 120 | L65: ='5 то'!$I$394 -> 129 | M65: =K65-L65 -> -9 | N65: =L65*100/K65 -> 107.5 | O65: =S65+W65+AA65 -> 84 | P65: =T65+X65+AB65 -> 101 | Q65: =O65-P65 -> -17 | R65: =P65*100/O65 -> 120.2381 | S65: 0 | T65: =('5 то'!$I$412) -> 0 | U65: =S65-T65 -> 0 | V65: =T65*100/S65 -> #DIV/0! | W65: 75 | X65: =('5 то'!$I$414) -> 87 | Y65: =W65-X65 -> -12 | Z65: =X65*100/W65 -> 116 | AA65: 9 | AB65: =('5 то'!$I$392) -> 14 | AC65: =AA65-AB65 -> -5 | AD65: =AB65*100/AA65 -> 155.55556 | AE65: 0 | AF65: ='5 то'!$I$396 -> 2 | AG65: =AE65-AF65 -> -2 | AH65: =AF65*100/AE65 -> #DIV/0! | AI65: 0 | AJ65: ='5 то'!$I$402 -> 5 | AK65: =AI65-AJ65 -> -5 | AL65: =AJ65*100/AI65 -> #DIV/0! | AM65: 32 | AN65: ='5 то'!$I$400 -> 50 | AO65: =AM65-AN65 -> -18 | AP65: =AN65*100/AM65 -> 156.25 | AQ65: 260 | AR65: =('5 то'!$I$404)+('5 то'!$I$406) -> 60 | AS65: =AQ65-AR65 -> 200 | AT65: =AR65*100/AQ65 -> 23.076923 | AU65: 75 | AV65: ='5 то'!$I$420 -> 28 | AW65: =AU65-AV65 -> 47 | AX65: =AV65*100/AU65 -> 37.333333 | AY65: 16 | AZ65: ='5 то'!$I$408 -> 9 | BA65: =AY65-AZ65 -> 7 | BB65: =AZ65*100/AY65 -> 56.25 | BC65: 1 | BD65: ='5 то'!$I$410 -> 0 | BE65: =BC65-BD65 -> 1 | BF65: =BD65*100/BC65 -> 0
A66: 8 | B66: ХАЙРУЛЛИНА Мария Сергеевна д/о | C66: 0 | D66: ='5 то'!$I$215 -> 0 | E66: =C66-D66 -> 0 | F66: =D66*100/C66 -> #DIV/0! | G66: 0 | H66: ='5 то'!$I$223 -> 0 | I66: =G66-H66 -> 0 | J66: =H66*100/G66 -> #DIV/0! | K66: 0 | L66: ='5 то'!$I$219 -> 0 | M66: =K66-L66 -> 0 | N66: =L66*100/K66 -> #DIV/0! | O66: =S66+W66+AA66 -> 0 | P66: =T66+X66+AB66 -> 0 | Q66: =O66-P66 -> 0 | R66: =P66*100/O66 -> #DIV/0! | S66: 0 | T66: =('5 то'!$I$237) -> 0 | U66: =S66-T66 -> 0 | V66: =T66*100/S66 -> #DIV/0! | W66: 0 | X66: =('5 то'!$I$239) -> 0 | Y66: =W66-X66 -> 0 | Z66: =X66*100/W66 -> #DIV/0! | AA66: 0 | AB66: =('5 то'!$I$217) -> 0 | AC66: =AA66-AB66 -> 0 | AD66: =AB66*100/AA66 -> #DIV/0! | AE66: 0 | AF66: ='5 то'!$I$221 -> 0 | AG66: =AE66-AF66 -> 0 | AH66: =AF66*100/AE66 -> #DIV/0! | AI66: 0 | AJ66: ='5 то'!$I$227 -> 0 | AK66: =AI66-AJ66 -> 0 | AL66: =AJ66*100/AI66 -> #DIV/0! | AM66: 0 | AN66: ='5 то'!$I$225 -> 0 | AO66: =AM66-AN66 -> 0 | AP66: =AN66*100/AM66 -> #DIV/0! | AQ66: 0 | AR66: =('5 то'!$I$229)+('5 то'!$I$231) -> 0 | AS66: =AQ66-AR66 -> 0 | AT66: =AR66*100/AQ66 -> #DIV/0! | AU66: 0 | AV66: ='5 то'!$I$245 -> 0 | AW66: =AU66-AV66 -> 0 | AX66: =AV66*100/AU66 -> #DIV/0! | AY66: 0 | AZ66: ='5 то'!$I$233 -> 0 | BA66: =AY66-AZ66 -> 0 | BB66: =AZ66*100/AY66 -> #DIV/0! | BC66: 0 | BD66: ='5 то'!$I$235 -> 0 | BE66: =BC66-BD66 -> 0 | BF66: =BD66*100/BC66 -> #DIV/0!
B67: ИТОГО по 5 терапии | C67: =SUM(C59:C66) -> 0 | D67: =SUM(D59:D66) -> 269 | E67: =C67-D67 -> -269 | F67: =D67*100/C67 -> #DIV/0! | G67: =SUM(G59:G66) -> 0 | H67: =SUM(H59:H66) -> 0 | I67: =G67-H67 -> 0 | J67: =H67*100/G67 -> #DIV/0! | K67: =SUM(K59:K66) -> 600 | L67: =SUM(L59:L66) -> 510 | M67: =K67-L67 -> 90 | N67: =L67*100/K67 -> 85 | O67: =SUM(O59:O66) -> 418 | P67: =SUM(P59:P66) -> 371 | Q67: =O67-P67 -> 47 | R67: =P67*100/O67 -> 88.755981 | S67: =SUM(S59:S66) -> 0 | T67: =SUM(T59:T66) -> 20 | U67: =S67-T67 -> -20 | V67: =T67*100/S67 -> #DIV/0! | W67: =SUM(W59:W66) -> 375 | X67: =SUM(X59:X66) -> 312 | Y67: =W67-X67 -> 63 | Z67: =X67*100/W67 -> 83.2 | AA67: =SUM(AA59:AA66) -> 43 | AB67: =SUM(AB59:AB66) -> 39 | AC67: =AA67-AB67 -> 4 | AD67: =AB67*100/AA67 -> 90.697674 | AE67: =SUM(AE59:AE66) -> 0 | AF67: =SUM(AF59:AF66) -> 144 | AG67: =AE67-AF67 -> -144 | AH67: =AF67*100/AE67 -> #DIV/0! | AI67: =SUM(AI59:AI66) -> 0 | AJ67: =SUM(AJ59:AJ66) -> 15 | AK67: =AI67-AJ67 -> -15 | AL67: =AJ67*100/AI67 -> #DIV/0! | AM67: =SUM(AM59:AM66) -> 160 | AN67: =SUM(AN59:AN66) -> 273 | AO67: =AM67-AN67 -> -113 | AP67: =AN67*100/AM67 -> 170.625 | AQ67: =SUM(AQ59:AQ66) -> 1260 | AR67: =SUM(AR59:AR66) -> 214 | AS67: =AQ67-AR67 -> 1046 | AT67: =AR67*100/AQ67 -> 16.984127 | AU67: =SUM(AU59:AU66) -> 350 | AV67: =SUM(AV59:AV66) -> 47 | AW67: =AU67-AV67 -> 303 | AX67: =AV67*100/AU67 -> 13.428571 | AY67: =SUM(AY59:AY66) -> 80 | AZ67: =SUM(AZ59:AZ66) -> 46 | BA67: =AY67-AZ67 -> 34 | BB67: =AZ67*100/AY67 -> 57.5 | BC67: =SUM(BC59:BC66) -> 5 | BD67: =SUM(BD59:BD66) -> 0 | BE67: =BC67-BD67 -> 5 | BF67: =BD67*100/BC67 -> 0
B69: Ценева Ольга Георгиевна - зав.отд | C69: 0 | D69: ='6 то'!$I$5 -> 0 | G69: 0 | H69: ='6 то'!$I$13 -> 0 | K69: 0 | L69: ='6 то'!$I$9 -> 0 | O69: =S69+W69+AA69 -> 0 | P69: =T69+X69+AB69 -> 0 | S69: 0 | T69: =('6 то'!$I$27) -> 0 | W69: 0 | X69: ='6 то'!$I$29 -> 0 | AA69: 0 | AB69: ='6 то'!$I$7 -> 0 | AE69: 0 | AF69: ='6 то'!$I$11 -> 1 | AI69: 0 | AJ69: ='6 то'!$I$17 -> 0 | AM69: 0 | AN69: ='6 то'!$I$15 -> 0 | AQ69: 0 | AR69: =('6 то'!$I$19)+('6 то'!$I$21) -> 0 | AU69: 0 | AV69: ='6 то'!$I$35 -> 0 | AY69: 0 | AZ69: ='6 то'!$I$23 -> 0 | BC69: 0 | BD69: ='6 то'!$I$25 -> 0
A70: 1 | B70: Зайнуллина (Арасланова) Альфия Каримовна д/о | C70: 0 | D70: ='6 то'!$I$285 -> 0 | E70: =C70-D70 -> 0 | F70: =D70*100/C70 -> #DIV/0! | G70: 0 | H70: ='6 то'!$I$293 -> 0 | I70: =G70-H70 -> 0 | J70: =H70*100/G70 -> #DIV/0! | K70: 0 | L70: ='6 то'!$I$289 -> 0 | M70: =K70-L70 -> 0 | N70: =L70*100/K70 -> #DIV/0! | O70: =S70+W70+AA70 -> 0 | P70: =T70+X70+AB70 -> 0 | Q70: =O70-P70 -> 0 | R70: =P70*100/O70 -> #DIV/0! | S70: 0 | T70: =('6 то'!$I$307) -> 0 | U70: =S70-T70 -> 0 | V70: =T70*100/S70 -> #DIV/0! | W70: 0 | X70: =('6 то'!$I$309) -> 0 | Y70: =W70-X70 -> 0 | Z70: =X70*100/W70 -> #DIV/0! | AA70: 0 | AB70: =('6 то'!$I$287) -> 0 | AC70: =AA70-AB70 -> 0 | AD70: =AB70*100/AA70 -> #DIV/0! | AE70: 0 | AF70: ='6 то'!$I$291 -> 0 | AG70: =AE70-AF70 -> 0 | AH70: =AF70*100/AE70 -> #DIV/0! | AI70: 0 | AJ70: ='6 то'!$I$297 -> 0 | AK70: =AI70-AJ70 -> 0 | AL70: =AJ70*100/AI70 -> #DIV/0! | AM70: 0 | AN70: ='6 то'!$I$295 -> 0 | AO70: =AM70-AN70 -> 0 | AP70: =AN70*100/AM70 -> #DIV/0! | AQ70: 0 | AR70: =('6 то'!$I$299)+('6 то'!$I$301) -> 0 | AS70: =AQ70-AR70 -> 0 | AT70: =AR70*100/AQ70 -> #DIV/0! | AU70: 0 | AV70: ='6 то'!$I$315 -> 0 | AW70: =AU70-AV70 -> 0 | AX70: =AV70*100/AU70 -> #DIV/0! | AY70: 0 | AZ70: ='6 то'!$I$303 -> 0 | BA70: =AY70-AZ70 -> 0 | BB70: =AZ70*100/AY70 -> #DIV/0! | BC70: 0 | BD70: ='6 то'!$I$305 -> 0 | BE70: =BC70-BD70 -> 0 | BF70: =BD70*100/BC70 -> #DIV/0!
A71: 2 | B71: Закирова Эльвина Земфировна д/о | C71: 0 | D71: ='6 то'!$I$319 -> 0 | E71: =C71-D71 -> 0 | F71: =D71*100/C71 -> #DIV/0! | G71: 0 | H71: ='6 то'!$I$327 -> 0 | I71: =G71-H71 -> 0 | J71: =H71*100/G71 -> #DIV/0! | K71: 0 | L71: ='6 то'!$I$323 -> 0 | M71: =K71-L71 -> 0 | N71: =L71*100/K71 -> #DIV/0! | O71: =S71+W71+AA71 -> 0 | P71: =T71+X71+AB71 -> 0 | Q71: =O71-P71 -> 0 | R71: =P71*100/O71 -> #DIV/0! | S71: 0 | T71: =('6 то'!$I$341) -> 0 | U71: =S71-T71 -> 0 | V71: =T71*100/S71 -> #DIV/0! | W71: 0 | X71: =('6 то'!$I$343) -> 0 | Y71: =W71-X71 -> 0 | Z71: =X71*100/W71 -> #DIV/0! | AA71: 0 | AB71: =('6 то'!$I$321) -> 0 | AC71: =AA71-AB71 -> 0 | AD71: =AB71*100/AA71 -> #DIV/0! | AE71: 0 | AF71: ='6 то'!$I$325 -> 0 | AG71: =AE71-AF71 -> 0 | AH71: =AF71*100/AE71 -> #DIV/0! | AI71: 0 | AJ71: ='6 то'!$I$331 -> 0 | AK71: =AI71-AJ71 -> 0 | AL71: =AJ71*100/AI71 -> #DIV/0! | AM71: 0 | AN71: ='6 то'!$I$329 -> 0 | AO71: =AM71-AN71 -> 0 | AP71: =AN71*100/AM71 -> #DIV/0! | AQ71: 0 | AR71: =('6 то'!$I$333)+('6 то'!$I$335) -> 0 | AS71: =AQ71-AR71 -> 0 | AT71: =AR71*100/AQ71 -> #DIV/0! | AU71: 0 | AV71: ='6 то'!$I$349 -> 0 | AW71: =AU71-AV71 -> 0 | AX71: =AV71*100/AU71 -> #DIV/0! | AY71: 0 | AZ71: ='6 то'!$I$337 -> 0 | BA71: =AY71-AZ71 -> 0 | BB71: =AZ71*100/AY71 -> #DIV/0! | BC71: 0 | BD71: ='6 то'!$I$339 -> 0 | BE71: =BC71-BD71 -> 0 | BF71: =BD71*100/BC71 -> #DIV/0!
A72: 3 | B72: Идрисова Эльвира Науфановна | C72: 0 | D72: ='6 то'!$I$75 -> 58 | E72: =C72-D72 -> -58 | F72: =D72*100/C72 -> #DIV/0! | G72: 0 | H72: ='6 то'!$I$83 -> 0 | I72: =G72-H72 -> 0 | J72: =H72*100/G72 -> #DIV/0! | K72: 119 | L72: ='6 то'!$I$79 -> 95 | M72: =K72-L72 -> 24 | N72: =L72*100/K72 -> 79.831933 | O72: 13 | P72: =T72+X72+AB72 -> 77 | Q72: =O72-P72 -> -64 | R72: =P72*100/O72 -> 592.30769 | S72: 0 | T72: =('6 то'!$I$97) -> 8 | U72: =S72-T72 -> -8 | V72: =T72*100/S72 -> #DIV/0! | W72: 71 | X72: =('6 то'!$I$99) -> 51 | Y72: =W72-X72 -> 20 | Z72: =X72*100/W72 -> 71.830986 | AA72: 12 | AB72: =('6 то'!$I$77) -> 18 | AC72: =AA72-AB72 -> -6 | AD72: =AB72*100/AA72 -> 150 | AE72: 0 | AF72: ='6 то'!$I$81 -> 46 | AG72: =AE72-AF72 -> -46 | AH72: =AF72*100/AE72 -> #DIV/0! | AI72: 0 | AJ72: ='6 то'!$I$87 -> 23 | AK72: =AI72-AJ72 -> -23 | AL72: =AJ72*100/AI72 -> #DIV/0! | AM72: 37 | AN72: ='6 то'!$I$85 -> 24 | AO72: =AM72-AN72 -> 13 | AP72: =AN72*100/AM72 -> 64.864865 | AQ72: 216 | AR72: =('6 то'!$I$89)+('6 то'!$I$91) -> 49 | AS72: =AQ72-AR72 -> 167 | AT72: =AR72*100/AQ72 -> 22.685185 | AU72: 40 | AV72: ='6 то'!$I$105 -> 23 | AW72: =AU72-AV72 -> 17 | AX72: =AV72*100/AU72 -> 57.5 | AY72: 17 | AZ72: ='6 то'!$I$93 -> 17 | BA72: =AY72-AZ72 -> 0 | BB72: =AZ72*100/AY72 -> 100 | BC72: 0 | BD72: ='6 то'!$I$95 -> 0 | BE72: =BC72-BD72 -> 0 | BF72: =BD72*100/BC72 -> #DIV/0!
A73: 4 | B73: Кузнецова Светлана Николаевна | C73: 0 | D73: ='6 то'!$I$110 -> 105 | E73: =C73-D73 -> -105 | F73: =D73*100/C73 -> #DIV/0! | G73: 0 | H73: ='6 то'!$I$118 -> 0 | I73: =G73-H73 -> 0 | J73: =H73*100/G73 -> #DIV/0! | K73: 55 | L73: ='6 то'!$I$114 -> 75 | M73: =K73-L73 -> -20 | N73: =L73*100/K73 -> 136.36364 | O73: =S73+W73+AA73 -> 77 | P73: =T73+X73+AB73 -> 86 | Q73: =O73-P73 -> -9 | R73: =P73*100/O73 -> 111.68831 | S73: 0 | T73: =('6 то'!$I$132) -> 13 | U73: =S73-T73 -> -13 | V73: =T73*100/S73 -> #DIV/0! | W73: 71 | X73: =('6 то'!$I$134) -> 67 | Y73: =W73-X73 -> 4 | Z73: =X73*100/W73 -> 94.366197 | AA73: 6 | AB73: =('6 то'!$I$112) -> 6 | AC73: =AA73-AB73 -> 0 | AD73: =AB73*100/AA73 -> 100 | AE73: 0 | AF73: ='6 то'!$I$116 -> 8 | AG73: =AE73-AF73 -> -8 | AH73: =AF73*100/AE73 -> #DIV/0! | AI73: 0 | AJ73: ='6 то'!$I$122 -> 54 | AK73: =AI73-AJ73 -> -54 | AL73: =AJ73*100/AI73 -> #DIV/0! | AM73: 17 | AN73: ='6 то'!$I$120 -> 26 | AO73: =AM73-AN73 -> -9 | AP73: =AN73*100/AM73 -> 152.94118 | AQ73: 220 | AR73: =('6 то'!$I$124)+('6 то'!$I$126) -> 61 | AS73: =AQ73-AR73 -> 159 | AT73: =AR73*100/AQ73 -> 27.727273 | AU73: 40 | AV73: ='6 то'!$I$140 -> 21 | AW73: =AU73-AV73 -> 19 | AX73: =AV73*100/AU73 -> 52.5 | AY73: 13 | AZ73: ='6 то'!$I$128 -> 13 | BA73: =AY73-AZ73 -> 0 | BB73: =AZ73*100/AY73 -> 100 | BC73: 0 | BD73: ='6 то'!$I$130 -> 0 | BE73: =BC73-BD73 -> 0 | BF73: =BD73*100/BC73 -> #DIV/0!
A74: 4 | B74: КУЛУЕВА РАЛИНА РАДИКОВНА | C74: 0 | D74: ='6 то'!$I$523 -> 46 | E74: =C74-D74 -> -46 | F74: =D74*100/C74 -> #DIV/0! | G74: 0 | H74: ='6 то'!$I$531 -> 0 | I74: =G74-H74 -> 0 | J74: =H74*100/G74 -> #DIV/0! | K74: 74 | L74: ='6 то'!$I$527 -> 36 | M74: =K74-L74 -> 38 | N74: =L74*100/K74 -> 48.648649 | O74: =S74+W74+AA74 -> 82 | P74: =T74+X74+AB74 -> 57 | Q74: =O74-P74 -> 25 | R74: =P74*100/O74 -> 69.512195 | S74: 0 | T74: =('6 то'!$I$545) -> 1 | U74: =S74-T74 -> -1 | V74: =T74*100/S74 -> #DIV/0! | W74: 71 | X74: =('6 то'!$I$547) -> 47 | Y74: =W74-X74 -> 24 | Z74: =X74*100/W74 -> 66.197183 | AA74: 11 | AB74: =('6 то'!$I$525) -> 9 | AC74: =AA74-AB74 -> 2 | AD74: =AB74*100/AA74 -> 81.818182 | AE74: 0 | AF74: ='6 то'!$I$529 -> 25 | AG74: =AE74-AF74 -> -25 | AH74: =AF74*100/AE74 -> #DIV/0! | AI74: 0 | AJ74: ='6 то'!$I$535 -> 22 | AK74: =AI74-AJ74 -> -22 | AL74: =AJ74*100/AI74 -> #DIV/0! | AM74: 39 | AN74: ='6 то'!$I$533 -> 24 | AO74: =AM74-AN74 -> 15 | AP74: =AN74*100/AM74 -> 61.538462 | AQ74: 111 | AR74: =('6 то'!$I$537)+('6 то'!$I$539) -> 36 | AS74: =AQ74-AR74 -> 75 | AT74: =AR74*100/AQ74 -> 32.432432 | AU74: 31 | AV74: ='6 то'!$I$553 -> 29 | AW74: =AU74-AV74 -> 2 | AX74: =AV74*100/AU74 -> 93.548387 | AY74: 13 | AZ74: ='6 то'!$I$541 -> 11 | BA74: =AY74-AZ74 -> 2 | BB74: =AZ74*100/AY74 -> 84.615385 | BC74: 0 | BD74: ='6 то'!$I$543 -> 0 | BE74: =BC74-BD74 -> 0 | BF74: =BD74*100/BC74 -> #DIV/0!
A75: 5 | B75: Минетдинова Эльвина Раисовна | C75: 0 | D75: ='6 то'!$I$557 -> 19 | E75: =C75-D75 -> -19 | F75: =D75*100/C75 -> #DIV/0! | G75: 0 | H75: ='6 то'!$I$565 -> 0 | I75: =G75-H75 -> 0 | J75: =H75*100/G75 -> #DIV/0! | K75: 71 | L75: ='6 то'!$I$561 -> 19 | M75: =K75-L75 -> 52 | N75: =L75*100/K75 -> 26.760563 | O75: 13 | P75: =T75+X75+AB75 -> 53 | Q75: =O75-P75 -> -40 | R75: =P75*100/O75 -> 407.69231 | S75: 0 | T75: =('6 то'!$I$579) -> 3 | U75: =S75-T75 -> -3 | V75: =T75*100/S75 -> #DIV/0! | W75: 71 | X75: =('6 то'!$I$581) -> 44 | Y75: =W75-X75 -> 27 | Z75: =X75*100/W75 -> 61.971831 | AA75: 8 | AB75: =('6 то'!$I$559) -> 6 | AC75: =AA75-AB75 -> 2 | AD75: =AB75*100/AA75 -> 75 | AE75: 0 | AF75: ='6 то'!$I$563 -> 12 | AG75: =AE75-AF75 -> -12 | AH75: =AF75*100/AE75 -> #DIV/0! | AI75: 0 | AJ75: ='6 то'!$I$569 -> 16 | AK75: =AI75-AJ75 -> -16 | AL75: =AJ75*100/AI75 -> #DIV/0! | AM75: 39 | AN75: ='6 то'!$I$567 -> 13 | AO75: =AM75-AN75 -> 26 | AP75: =AN75*100/AM75 -> 33.333333 | AQ75: 111 | AR75: =('6 то'!$I$571)+('6 то'!$I$573) -> 1 | AS75: =AQ75-AR75 -> 110 | AT75: =AR75*100/AQ75 -> 0.9009009 | AU75: 31 | AV75: ='6 то'!$I$587 -> 2 | AW75: =AU75-AV75 -> 29 | AX75: =AV75*100/AU75 -> 6.4516129 | AY75: 13 | AZ75: ='6 то'!$I$575 -> 2 | BA75: =AY75-AZ75 -> 11 | BB75: =AZ75*100/AY75 -> 15.384615 | BC75: 0 | BD75: ='6 то'!$I$577 -> 0 | BE75: =BC75-BD75 -> 0 | BF75: =BD75*100/BC75 -> #DIV/0!
A76: 5 | B76: Насибуллин Данияр Рамилевич | C76: 0 | D76: ='6 то'!$I$421 -> 40 | E76: =C76-D76 -> -40 | F76: =D76*100/C76 -> #DIV/0! | G76: 0 | H76: ='6 то'!$I$429 -> 0 | I76: =G76-H76 -> 0 | J76: =H76*100/G76 -> #DIV/0! | K76: 74 | L76: ='6 то'!$I$425 -> 97 | M76: =K76-L76 -> -23 | N76: =L76*100/K76 -> 131.08108 | O76: 13 | P76: =T76+X76+AB76 -> 105 | Q76: =O76-P76 -> -92 | R76: =P76*100/O76 -> 807.69231 | S76: 0 | T76: =('6 то'!$I$443) -> 13 | U76: =S76-T76 -> -13 | V76: =T76*100/S76 -> #DIV/0! | W76: 71 | X76: =('6 то'!$I$445) -> 75 | Y76: =W76-X76 -> -4 | Z76: =X76*100/W76 -> 105.6338 | AA76: 13 | AB76: =('6 то'!$I$423) -> 17 | AC76: =AA76-AB76 -> -4 | AD76: =AB76*100/AA76 -> 130.76923 | AE76: 0 | AF76: ='6 то'!$I$427 -> 22 | AG76: =AE76-AF76 -> -22 | AH76: =AF76*100/AE76 -> #DIV/0! | AI76: 0 | AJ76: ='6 то'!$I$433 -> 18 | AK76: =AI76-AJ76 -> -18 | AL76: =AJ76*100/AI76 -> #DIV/0! | AM76: 31 | AN76: ='6 то'!$I$431 -> 18 | AO76: =AM76-AN76 -> 13 | AP76: =AN76*100/AM76 -> 58.064516 | AQ76: 250 | AR76: =('6 то'!$I$435)+('6 то'!$I$437) -> 29 | AS76: =AQ76-AR76 -> 221 | AT76: =AR76*100/AQ76 -> 11.6 | AU76: 35 | AV76: ='6 то'!$I$451 -> 24 | AW76: =AU76-AV76 -> 11 | AX76: =AV76*100/AU76 -> 68.571429 | AY76: 17 | AZ76: ='6 то'!$I$439 -> 17 | BA76: =AY76-AZ76 -> 0 | BB76: =AZ76*100/AY76 -> 100 | BC76: 0 | BD76: ='6 то'!$I$441 -> 0 | BE76: =BC76-BD76 -> 0 | BF76: =BD76*100/BC76 -> #DIV/0!
A77: 6 | B77: Нургалиева Регина Робертовна | C77: 0 | D77: ='6 то'!$I$489 -> 34 | E77: =C77-D77 -> -34 | F77: =D77*100/C77 -> #DIV/0! | G77: 0 | H77: ='6 то'!$I$497 -> 0 | I77: =G77-H77 -> 0 | J77: =H77*100/G77 -> #DIV/0! | K77: 34 | L77: ='6 то'!$I$493 -> 44 | M77: =K77-L77 -> -10 | N77: =L77*100/K77 -> 129.41176 | O77: =S77+W77+AA77 -> 77 | P77: =T77+X77+AB77 -> 60 | Q77: =O77-P77 -> 17 | R77: =P77*100/O77 -> 77.922078 | S77: 0 | T77: =('6 то'!$I$511) -> 6 | U77: =S77-T77 -> -6 | V77: =T77*100/S77 -> #DIV/0! | W77: 71 | X77: =('6 то'!$I$513) -> 46 | Y77: =W77-X77 -> 25 | Z77: =X77*100/W77 -> 64.788732 | AA77: 6 | AB77: =('6 то'!$I$491) -> 8 | AC77: =AA77-AB77 -> -2 | AD77: =AB77*100/AA77 -> 133.33333 | AE77: 0 | AF77: ='6 то'!$I$495 -> 16 | AG77: =AE77-AF77 -> -16 | AH77: =AF77*100/AE77 -> #DIV/0! | AI77: 0 | AJ77: ='6 то'!$I$501 -> 34 | AK77: =AI77-AJ77 -> -34 | AL77: =AJ77*100/AI77 -> #DIV/0! | AM77: 35 | AN77: ='6 то'!$I$499 -> 58 | AO77: =AM77-AN77 -> -23 | AP77: =AN77*100/AM77 -> 165.71429 | AQ77: 201 | AR77: =('6 то'!$I$503)+('6 то'!$I$505) -> 47 | AS77: =AQ77-AR77 -> 154 | AT77: =AR77*100/AQ77 -> 23.383085 | AU77: 31 | AV77: ='6 то'!$I$519 -> 24 | AW77: =AU77-AV77 -> 7 | AX77: =AV77*100/AU77 -> 77.419355 | AY77: 17 | AZ77: ='6 то'!$I$507 -> 7 | BA77: =AY77-AZ77 -> 10 | BB77: =AZ77*100/AY77 -> 41.176471 | BC77: 0 | BD77: ='6 то'!$I$509 -> 0 | BE77: =BC77-BD77 -> 0 | BF77: =BD77*100/BC77 -> #DIV/0!
A78: 7 | B78: Петкевич Елена Николаевна | C78: 0 | D78: ='6 то'!$I$145 -> 25 | E78: =C78-D78 -> -25 | F78: =D78*100/C78 -> #DIV/0! | G78: 0 | H78: ='6 то'!$I$153 -> 0 | I78: =G78-H78 -> 0 | J78: =H78*100/G78 -> #DIV/0! | K78: 68 | L78: ='6 то'!$I$149 -> 70 | M78: =K78-L78 -> -2 | N78: =L78*100/K78 -> 102.94118 | O78: 13 | P78: =T78+X78+AB78 -> 98 | Q78: =O78-P78 -> -85 | R78: =P78*100/O78 -> 753.84615 | S78: 0 | T78: =('6 то'!$I$167) -> 16 | U78: =S78-T78 -> -16 | V78: =T78*100/S78 -> #DIV/0! | W78: 70 | X78: =('6 то'!$I$169) -> 70 | Y78: =W78-X78 -> 0 | Z78: =X78*100/W78 -> 100 | AA78: -1 | AB78: =('6 то'!$I$147) -> 12 | AC78: =AA78-AB78 -> -13 | AD78: =AB78*100/AA78 -> -1200 | AE78: 0 | AF78: ='6 то'!$I$151 -> 18 | AG78: =AE78-AF78 -> -18 | AH78: =AF78*100/AE78 -> #DIV/0! | AI78: 0 | AJ78: ='6 то'!$I$157 -> 9 | AK78: =AI78-AJ78 -> -9 | AL78: =AJ78*100/AI78 -> #DIV/0! | AM78: 30 | AN78: ='6 то'!$I$155 -> 26 | AO78: =AM78-AN78 -> 4 | AP78: =AN78*100/AM78 -> 86.666667 | AQ78: 220 | AR78: =('6 то'!$I$159)+('6 то'!$I$161) -> 47 | AS78: =AQ78-AR78 -> 173 | AT78: =AR78*100/AQ78 -> 21.363636 | AU78: 40 | AV78: ='6 то'!$I$175 -> 31 | AW78: =AU78-AV78 -> 9 | AX78: =AV78*100/AU78 -> 77.5 | AY78: 17 | AZ78: ='6 то'!$I$163 -> 18 | BA78: =AY78-AZ78 -> -1 | BB78: =AZ78*100/AY78 -> 105.88235 | BC78: 0 | BD78: ='6 то'!$I$165 -> 0 | BE78: =BC78-BD78 -> 0 | BF78: =BD78*100/BC78 -> #DIV/0!
A79: 8 | B79: РАЧЕНКОВА ОЛЬГА | C79: 0 | D79: ='6 то'!$I$455 -> 36 | E79: =C79-D79 -> -36 | F79: =D79*100/C79 -> #DIV/0! | G79: 0 | H79: ='6 то'!$I$463 -> 0 | I79: =G79-H79 -> 0 | J79: =H79*100/G79 -> #DIV/0! | K79: 75 | L79: ='6 то'!$I$459 -> 39 | M79: =K79-L79 -> 36 | N79: =L79*100/K79 -> 52 | O79: =S79+W79+AA79 -> 77 | P79: =T79+X79+AB79 -> 29 | Q79: =O79-P79 -> 48 | R79: =P79*100/O79 -> 37.662338 | S79: 0 | T79: =('6 то'!$I$477) -> 5 | U79: =S79-T79 -> -5 | V79: =T79*100/S79 -> #DIV/0! | W79: 70 | X79: =('6 то'!$I$479) -> 18 | Y79: =W79-X79 -> 52 | Z79: =X79*100/W79 -> 25.714286 | AA79: 7 | AB79: =('6 то'!$I$457) -> 6 | AC79: =AA79-AB79 -> 1 | AD79: =AB79*100/AA79 -> 85.714286 | AE79: 0 | AF79: ='6 то'!$I$461 -> 29 | AG79: =AE79-AF79 -> -29 | AH79: =AF79*100/AE79 -> #DIV/0! | AI79: 0 | AJ79: ='6 то'!$I$467 -> 19 | AK79: =AI79-AJ79 -> -19 | AL79: =AJ79*100/AI79 -> #DIV/0! | AM79: 10 | AN79: ='6 то'!$I$465 -> 28 | AO79: =AM79-AN79 -> -18 | AP79: =AN79*100/AM79 -> 280 | AQ79: 204 | AR79: =('6 то'!$I$469)+('6 то'!$I$471) -> 16 | AS79: =AQ79-AR79 -> 188 | AT79: =AR79*100/AQ79 -> 7.8431373 | AU79: 33 | AV79: ='6 то'!$I$485 -> 8 | AW79: =AU79-AV79 -> 25 | AX79: =AV79*100/AU79 -> 24.242424 | AY79: 17 | AZ79: ='6 то'!$I$473 -> 7 | BA79: =AY79-AZ79 -> 10 | BB79: =AZ79*100/AY79 -> 41.176471 | BC79: 0 | BD79: ='6 то'!$I$475 -> 0 | BE79: =BC79-BD79 -> 0 | BF79: =BD79*100/BC79 -> #DIV/0!
A80: 9 | B80: ФАРХАТОВА МОХИНОРА ФУРКАТОВНА | C80: 0 | D80: ='6 то'!$I$353 -> 63 | E80: =C80-D80 -> -63 | F80: =D80*100/C80 -> #DIV/0! | G80: 0 | H80: ='6 то'!$I$361 -> 0 | I80: =G80-H80 -> 0 | J80: =H80*100/G80 -> #DIV/0! | K80: 135 | L80: ='6 то'!$I$357 -> 67 | M80: =K80-L80 -> 68 | N80: =L80*100/K80 -> 49.62963 | O80: 13 | P80: =T80+X80+AB80 -> 39 | Q80: =O80-P80 -> -26 | R80: =P80*100/O80 -> 300 | S80: 0 | T80: =('6 то'!$I$375) -> 4 | U80: =S80-T80 -> -4 | V80: =T80*100/S80 -> #DIV/0! | W80: 71 | X80: =('6 то'!$I$377) -> 26 | Y80: =W80-X80 -> 45 | Z80: =X80*100/W80 -> 36.619718 | AA80: 15 | AB80: =('6 то'!$I$355) -> 9 | AC80: =AA80-AB80 -> 6 | AD80: =AB80*100/AA80 -> 60 | AE80: 0 | AF80: ='6 то'!$I$359 -> 1 | AG80: =AE80-AF80 -> -1 | AH80: =AF80*100/AE80 -> #DIV/0! | AI80: 0 | AJ80: ='6 то'!$I$365 -> 9 | AK80: =AI80-AJ80 -> -9 | AL80: =AJ80*100/AI80 -> #DIV/0! | AM80: 37 | AN80: ='6 то'!$I$363 -> 27 | AO80: =AM80-AN80 -> 10 | AP80: =AN80*100/AM80 -> 72.972973 | AQ80: 220 | AR80: =('6 то'!$I$367)+('6 то'!$I$369) -> 0 | AS80: =AQ80-AR80 -> 220 | AT80: =AR80*100/AQ80 -> 0 | AU80: 55 | AV80: ='6 то'!$I$383 -> 9 | AW80: =AU80-AV80 -> 46 | AX80: =AV80*100/AU80 -> 16.363636 | AY80: 21 | AZ80: ='6 то'!$I$371 -> 8 | BA80: =AY80-AZ80 -> 13 | BB80: =AZ80*100/AY80 -> 38.095238 | BC80: 0 | BD80: ='6 то'!$I$373 -> 0 | BE80: =BC80-BD80 -> 0 | BF80: =BD80*100/BC80 -> #DIV/0!
A81: 10 | B81: Хатмуллина Юлия Ишдавлетовна д/о | C81: 0 | D81: ='6 то'!$I$181 -> 0 | E81: =C81-D81 -> 0 | F81: =D81*100/C81 -> #DIV/0! | G81: 0 | H81: ='6 то'!$I$189 -> 0 | I81: =G81-H81 -> 0 | J81: =H81*100/G81 -> #DIV/0! | K81: 0 | L81: ='6 то'!$I$185 -> 0 | M81: =K81-L81 -> 0 | N81: =L81*100/K81 -> #DIV/0! | O81: =S81+W81+AA81 -> 0 | P81: =T81+X81+AB81 -> 0 | Q81: =O81-P81 -> 0 | R81: =P81*100/O81 -> #DIV/0! | S81: 0 | T81: =('6 то'!$I$203) -> 0 | U81: =S81-T81 -> 0 | V81: =T81*100/S81 -> #DIV/0! | W81: 0 | X81: =('6 то'!$I$205) -> 0 | Y81: =W81-X81 -> 0 | Z81: =X81*100/W81 -> #DIV/0! | AA81: 0 | AB81: =('6 то'!$I$183) -> 0 | AC81: =AA81-AB81 -> 0 | AD81: =AB81*100/AA81 -> #DIV/0! | AE81: 0 | AF81: ='6 то'!$I$187 -> 0 | AG81: =AE81-AF81 -> 0 | AH81: =AF81*100/AE81 -> #DIV/0! | AI81: 0 | AJ81: ='6 то'!$I$193 -> 0 | AK81: =AI81-AJ81 -> 0 | AL81: =AJ81*100/AI81 -> #DIV/0! | AM81: 0 | AN81: ='6 то'!$I$191 -> 0 | AO81: =AM81-AN81 -> 0 | AP81: =AN81*100/AM81 -> #DIV/0! | AQ81: 0 | AR81: =('6 то'!$I$195)+('6 то'!$I$197) -> 0 | AS81: =AQ81-AR81 -> 0 | AT81: =AR81*100/AQ81 -> #DIV/0! | AU81: 0 | AV81: ='6 то'!$I$211 -> 0 | AW81: =AU81-AV81 -> 0 | AX81: =AV81*100/AU81 -> #DIV/0! | AY81: 0 | AZ81: ='6 то'!$I$199 -> 0 | BA81: =AY81-AZ81 -> 0 | BB81: =AZ81*100/AY81 -> #DIV/0! | BC81: 0 | BD81: ='6 то'!$I$201 -> 0 | BE81: =BC81-BD81 -> 0 | BF81: =BD81*100/BC81 -> #DIV/0!
A82: 11 | B82: Шайхисламова Ляля Сибагатулловна | C82: 0 | D82: ='6 то'!$I$251 -> 43 | E82: =C82-D82 -> -43 | F82: =D82*100/C82 -> #DIV/0! | G82: 0 | H82: ='6 то'!$I$259 -> 0 | I82: =G82-H82 -> 0 | J82: =H82*100/G82 -> #DIV/0! | K82: 46 | L82: ='6 то'!$I$255 -> 55 | M82: =K82-L82 -> -9 | N82: =L82*100/K82 -> 119.56522 | O82: 13 | P82: =T82+X82+AB82 -> 51 | Q82: =O82-P82 -> -38 | R82: =P82*100/O82 -> 392.30769 | S82: 0 | T82: =('6 то'!$I$273) -> 2 | U82: =S82-T82 -> -2 | V82: =T82*100/S82 -> #DIV/0! | W82: 71 | X82: =('6 то'!$I$275) -> 37 | Y82: =W82-X82 -> 34 | Z82: =X82*100/W82 -> 52.112676 | AA82: 12 | AB82: =('6 то'!$I$253) -> 12 | AC82: =AA82-AB82 -> 0 | AD82: =AB82*100/AA82 -> 100 | AE82: 0 | AF82: ='6 то'!$I$257 -> 23 | AG82: =AE82-AF82 -> -23 | AH82: =AF82*100/AE82 -> #DIV/0! | AI82: 0 | AJ82: ='6 то'!$I$263 -> 20 | AK82: =AI82-AJ82 -> -20 | AL82: =AJ82*100/AI82 -> #DIV/0! | AM82: 20 | AN82: ='6 то'!$I$261 -> 22 | AO82: =AM82-AN82 -> -2 | AP82: =AN82*100/AM82 -> 110 | AQ82: 220 | AR82: =('6 то'!$I$265)+('6 то'!$I$267) -> 12 | AS82: =AQ82-AR82 -> 208 | AT82: =AR82*100/AQ82 -> 5.4545455 | AU82: 39 | AV82: ='6 то'!$I$281 -> 6 | AW82: =AU82-AV82 -> 33 | AX82: =AV82*100/AU82 -> 15.384615 | AY82: 13 | AZ82: ='6 то'!$I$269 -> 6 | BA82: =AY82-AZ82 -> 7 | BB82: =AZ82*100/AY82 -> 46.153846 | BC82: 0 | BD82: ='6 то'!$I$271 -> 0 | BE82: =BC82-BD82 -> 0 | BF82: =BD82*100/BC82 -> #DIV/0!
A83: 12 | B83: Ямаева Диана Альбертовна | C83: 0 | D83: ='6 то'!$I$387 -> 45 | E83: =C83-D83 -> -45 | F83: =D83*100/C83 -> #DIV/0! | G83: 0 | H83: ='6 то'!$I$395 -> 0 | I83: =G83-H83 -> 0 | J83: =H83*100/G83 -> #DIV/0! | K83: 18 | L83: ='6 то'!$I$391 -> 69 | M83: =K83-L83 -> -51 | N83: =L83*100/K83 -> 383.33333 | O83: =S83+W83+AA83 -> 84 | P83: =T83+X83+AB83 -> 60 | Q83: =O83-P83 -> 24 | R83: =P83*100/O83 -> 71.428571 | S83: 0 | T83: =('6 то'!$I$409) -> 14 | U83: =S83-T83 -> -14 | V83: =T83*100/S83 -> #DIV/0! | W83: 71 | X83: =('6 то'!$I$411) -> 29 | Y83: =W83-X83 -> 42 | Z83: =X83*100/W83 -> 40.84507 | AA83: 13 | AB83: =('6 то'!$I$389) -> 17 | AC83: =AA83-AB83 -> -4 | AD83: =AB83*100/AA83 -> 130.76923 | AE83: 0 | AF83: ='6 то'!$I$393 -> 34 | AG83: =AE83-AF83 -> -34 | AH83: =AF83*100/AE83 -> #DIV/0! | AI83: 0 | AJ83: ='6 то'!$I$399 -> 41 | AK83: =AI83-AJ83 -> -41 | AL83: =AJ83*100/AI83 -> #DIV/0! | AM83: 64 | AN83: ='6 то'!$I$397 -> 64 | AO83: =AM83-AN83 -> 0 | AP83: =AN83*100/AM83 -> 100 | AQ83: 220 | AR83: =('6 то'!$I$401)+('6 то'!$I$403) -> 32 | AS83: =AQ83-AR83 -> 188 | AT83: =AR83*100/AQ83 -> 14.545455 | AU83: 40 | AV83: ='6 то'!$I$417 -> 40 | AW83: =AU83-AV83 -> 0 | AX83: =AV83*100/AU83 -> 100 | AY83: 13 | AZ83: ='6 то'!$I$405 -> 11 | BA83: =AY83-AZ83 -> 2 | BB83: =AZ83*100/AY83 -> 84.615385 | BC83: 0 | BD83: ='6 то'!$I$407 -> 0 | BE83: =BC83-BD83 -> 0 | BF83: =BD83*100/BC83 -> #DIV/0!
B84: ИТОГО по 6 терапии | C84: =SUM(C69:C83) -> 0 | D84: =SUM(D69:D83) -> 514 | E84: =C84-D84 -> -514 | F84: =D84*100/C84 -> #DIV/0! | G84: =SUM(G69:G83) -> 0 | H84: =SUM(H69:H83) -> 0 | I84: =G84-H84 -> 0 | J84: =H84*100/G84 -> #DIV/0! | K84: =SUM(K69:K83) -> 769 | L84: =SUM(L69:L83) -> 666 | M84: =K84-L84 -> 103 | N84: =L84*100/K84 -> 86.605982 | O84: =SUM(O69:O83) -> 475 | P84: =SUM(P69:P83) -> 715 | Q84: =O84-P84 -> -240 | R84: =P84*100/O84 -> 150.52632 | S84: =SUM(S69:S83) -> 0 | T84: =SUM(T69:T83) -> 85 | U84: =S84-T84 -> -85 | V84: =T84*100/S84 -> #DIV/0! | W84: =SUM(W69:W83) -> 779 | X84: =SUM(X69:X83) -> 510 | Y84: =W84-X84 -> 269 | Z84: =X84*100/W84 -> 65.468549 | AA84: =SUM(AA69:AA83) -> 102 | AB84: =SUM(AB69:AB83) -> 120 | AC84: =AA84-AB84 -> -18 | AD84: =AB84*100/AA84 -> 117.64706 | AE84: =SUM(AE69:AE83) -> 0 | AF84: =SUM(AF69:AF83) -> 235 | AG84: =AE84-AF84 -> -235 | AH84: =AF84*100/AE84 -> #DIV/0! | AI84: =SUM(AI69:AI83) -> 0 | AJ84: =SUM(AJ69:AJ83) -> 265 | AK84: =AI84-AJ84 -> -265 | AL84: =AJ84*100/AI84 -> #DIV/0! | AM84: =SUM(AM69:AM83) -> 359 | AN84: =SUM(AN69:AN83) -> 330 | AO84: =AM84-AN84 -> 29 | AP84: =AN84*100/AM84 -> 91.922006 | AQ84: =SUM(AQ69:AQ83) -> 2193 | AR84: =SUM(AR69:AR83) -> 330 | AS84: =AQ84-AR84 -> 1863 | AT84: =AR84*100/AQ84 -> 15.04788 | AU84: =SUM(AU69:AU83) -> 415 | AV84: =SUM(AV69:AV83) -> 217 | AW84: =AU84-AV84 -> 198 | AX84: =AV84*100/AU84 -> 52.289157 | AY84: =SUM(AY69:AY83) -> 171 | AZ84: =SUM(AZ69:AZ83) -> 117 | BA84: =AY84-AZ84 -> 54 | BB84: =AZ84*100/AY84 -> 68.421053 | BC84: =SUM(BC69:BC83) -> 0 | BD84: =SUM(BD69:BD83) -> 0 | BE84: =BC84-BD84 -> 0 | BF84: =BD84*100/BC84 -> #DIV/0!
G86: ПМО | K86: в т.ч. ПМО на месте работы или учебы | AQ86: Диспансеризация 1 этап | AU86: Диспансеризация 2 этап | AY86: в т.ч. ДВН 1 этап на месте работы или учебы
G87: План | H87: Факт | J87: % вып | K87: План | L87: Факт | N87: % вып | AQ87: План | AR87: Факт | AT87: % вып | AU87: План | AV87: Факт | AX87: % вып | AY87: План | AZ87: Факт | BB87: % вып
B88: Отделение профилактики | G88: =SUM(G90:G96) -> 560 | H88: =SUM(H90:H96) -> 464 | I88: =G88-H88 -> 96 | J88: =H88*100/G88 -> 82.857143 | K88: =SUM(K90:K96) -> 250 | L88: =SUM(L90:L96) -> 15 | M88: =K88-L88 -> 235 | N88: =L88*100/K88 -> 6 | AQ88: =SUM(AQ90:AQ96) -> 660 | AR88: =SUM(AR90:AR96) -> 566 | AS88: =AQ88-AR88 -> 94 | AT88: =AR88*100/AQ88 -> 85.757576 | AU88: =SUM(AU90:AU96) -> 0 | AV88: =SUM(AV90:AV96) -> 0 | AW88: =AU88-AV88 -> 0 | AX88: =AV88*100/AU88 -> #DIV/0! | AY88: =SUM(AY90:AY96) -> 20 | AZ88: =SUM(AZ90:AZ96) -> 25 | BA88: =AY88-AZ88 -> -5 | BB88: =AZ88*100/AY88 -> 125
B90: Бикташева ИЛЬМИРА САМАТОВНА | G90: 0 | H90: ='1 то'!$AG$106+'1 то'!$AG$108 -> 1 | I90: =G90-H90 -> -1 | J90: =H90*100/G90 -> #DIV/0! | K90: 0 | L90: ='1 то'!$AG$108 -> 0 | M90: =K90-L90 -> 0 | N90: =L90*100/K90 -> #DIV/0! | AQ90: 0 | AR90: =('1 то'!$AG$114)+('1 то'!$AG$116)+'1 то'!$AG$110+'1 то'!$AG$112 -> 0 | AS90: =AQ90-AR90 -> 0 | AT90: =AR90*100/AQ90 -> #DIV/0! | AU90: 0 | AV90: ='1 то'!$AG$118 -> 0 | AW90: =AU90-AV90 -> 0 | AX90: =AV90*100/AU90 -> #DIV/0! | AY90: 0 | AZ90: =('1 то'!$AG$114)+('1 то'!$AG$116) -> 0 | BA90: =AY90-AZ90 -> 0 | BB90: =AZ90*100/AY90 -> #DIV/0!
B91: Попова (Ахъяруллина) Гульназ Рамиловна зав.отд. д/о | G91: 0 | H91: ='1 то'!$AG$26+'1 то'!$AG$28 -> 0 | I91: =G91-H91 -> 0 | J91: =H91*100/G91 -> #DIV/0! | K91: 0 | L91: ='1 то'!$AG$28 -> 0 | M91: =K91-L91 -> 0 | N91: =L91*100/K91 -> #DIV/0! | AQ91: 0 | AR91: =('1 то'!$AG$82)+('1 то'!$AG$84)+'1 то'!$AG$86+'1 то'!$AG$88 -> 0 | AS91: =AQ91-AR91 -> 0 | AT91: =AR91*100/AQ91 -> #DIV/0! | AU91: 0 | AV91: ='1 то'!$AG$90 -> 0 | AW91: =AU91-AV91 -> 0 | AX91: =AV91*100/AU91 -> #DIV/0! | AY91: 0 | AZ91: =+'1 то'!$AG$86+'1 то'!$AG$88 -> 0 | BA91: =AY91-AZ91 -> 0 | BB91: =AZ91*100/AY91 -> #DIV/0!
B92: Низамова Светлана Ильгизовна | G92: 0 | H92: ='1 то'!$AG$122+'1 то'!$AG$124 -> 40 | I92: =G92-H92 -> -40 | J92: =H92*100/G92 -> #DIV/0! | K92: 0 | L92: ='1 то'!$AG$124 -> 9 | M92: =K92-L92 -> -9 | N92: =L92*100/K92 -> #DIV/0! | AQ92: 0 | AR92: =('1 то'!$AG$126)+('1 то'!$AG$128)+'1 то'!$AG$130+'1 то'!$AG$132 -> 10 | AS92: =AQ92-AR92 -> -10 | AT92: =AR92*100/AQ92 -> #DIV/0! | AU92: 0 | AV92: ='1 то'!$AG$134 -> 0 | AW92: =AU92-AV92 -> 0 | AX92: =AV92*100/AU92 -> #DIV/0! | AY92: 0 | AZ92: =('1 то'!$AG$130)+('1 то'!$AG$132) -> 1 | BA92: =AY92-AZ92 -> -1 | BB92: =AZ92*100/AY92 -> #DIV/0!
B93: Никифорова Ольга Николаевна | G93: 280 | H93: ='1 то'!$AG$7+'1 то'!$AG$5 -> 175 | I93: =G93-H93 -> 105 | J93: =H93*100/G93 -> 62.5 | K93: 125 | L93: ='1 то'!$AG$7 -> 2 | M93: =K93-L93 -> 123 | N93: =L93*100/K93 -> 1.6 | AQ93: 330 | AR93: =('1 то'!$AG$50)+('1 то'!$AG$52)+'1 то'!$AG$46+'1 то'!$AG$48 -> 239 | AS93: =AQ93-AR93 -> 91 | AT93: =AR93*100/AQ93 -> 72.424242 | AU93: 0 | AV93: ='1 то'!$AG$54 -> 0 | AW93: =AU93-AV93 -> 0 | AX93: =AV93*100/AU93 -> #DIV/0! | AY93: 10 | AZ93: =('1 то'!$AG$50)+('1 то'!$AG$52) -> 6 | BA93: =AY93-AZ93 -> 4 | BB93: =AZ93*100/AY93 -> 60
B94: Галлямшина Рита Масгудовна в военкомате | G94: 0 | H94: ='1 то'!$AG$19+'1 то'!$AG$21 -> 0 | I94: =G94-H94 -> 0 | J94: =H94*100/G94 -> #DIV/0! | K94: 0 | L94: ='1 то'!$AG$21 -> 0 | M94: =K94-L94 -> 0 | N94: =L94*100/K94 -> #DIV/0! | AQ94: 0 | AR94: =('1 то'!$AG$60)+('1 то'!$AG$58)+'1 то'!$AG$62+'1 то'!$AG$64 -> 0 | AS94: =AQ94-AR94 -> 0 | AT94: =AR94*100/AQ94 -> #DIV/0! | AU94: 0 | AV94: ='1 то'!$AG$66 -> 0 | AW94: =AU94-AV94 -> 0 | AX94: =AV94*100/AU94 -> #DIV/0! | AY94: 0 | AZ94: ='1 то'!$AG$62+'1 то'!$AG$64 -> 0 | BA94: =AY94-AZ94 -> 0 | BB94: =AZ94*100/AY94 -> #DIV/0!
B95: АМИРОВА ЭЛЬЗА РИНАТОВНА 0,5ст д/о | G95: 0 | H95: ='1 то'!$AG$40+'1 то'!$AG$42 -> 0 | I95: =G95-H95 -> 0 | J95: =H95*100/G95 -> #DIV/0! | K95: 0 | L95: ='1 то'!$AG$42 -> 0 | M95: =K95-L95 -> 0 | N95: =L95*100/K95 -> #DIV/0! | AQ95: 0 | AR95: =('1 то'!$AG$70)+('1 то'!$AG$72)+'1 то'!$AG$74+'1 то'!$AG$76 -> 0 | AS95: =AQ95-AR95 -> 0 | AT95: =AR95*100/AQ95 -> #DIV/0! | AU95: 0 | AV95: ='1 то'!$AG$78 -> 0 | AW95: =AU95-AV95 -> 0 | AX95: =AV95*100/AU95 -> #DIV/0! | AY95: 0 | AZ95: ='1 то'!$AG$74+'1 то'!$AG$76 -> 0 | BA95: =AY95-AZ95 -> 0 | BB95: =AZ95*100/AY95 -> #DIV/0!
B96: Сафина Гульфира Минибулатовна | G96: 280 | H96: ='1 то'!$AG$33+'1 то'!$AG$35 -> 248 | I96: =G96-H96 -> 32 | J96: =H96*100/G96 -> 88.571429 | K96: 125 | L96: ='1 то'!$AG$35 -> 4 | M96: =K96-L96 -> 121 | N96: =L96*100/K96 -> 3.2 | AQ96: 330 | AR96: =('1 то'!$AG$94)+('1 то'!$AG$96)+'1 то'!$AG$98+'1 то'!$AG$100 -> 317 | AS96: =AQ96-AR96 -> 13 | AT96: =AR96*100/AQ96 -> 96.060606 | AU96: 0 | AV96: ='1 то'!$AG$102 -> 0 | AW96: =AU96-AV96 -> 0 | AX96: =AV96*100/AU96 -> #DIV/0! | AY96: 10 | AZ96: ='1 то'!$AG$98+'1 то'!$AG$100 -> 18 | BA96: =AY96-AZ96 -> -8 | BB96: =AZ96*100/AY96 -> 180
S97: * 600992 | W97: *600993 | AA97: *600994
A98: 11 | B98: Шакирова Ирина Ирековна д/о | C98: 0 | D98: =Др.ТО!$I$36 -> 0 | E98: =C98-D98 -> 0 | F98: =D98*100/C98 -> #DIV/0! | G98: 0 | H98: =Др.ТО!$I$42 -> 0 | I98: =G98-H98 -> 0 | J98: =H98*100/G98 -> #DIV/0! | K98: 0 | L98: =Др.ТО!$I$38 -> 0 | M98: =K98-L98 -> 0 | N98: =L98*100/K98 -> #DIV/0! | O98: =S98+W98+AA98 -> 0 | P98: =T98+X98+AB98 -> 0 | Q98: =O98-P98 -> 0 | R98: =P98*100/O98 -> #DIV/0! | S98: 0 | T98: =Др.ТО!$I$56 -> 0 | U98: =S98-T98 -> 0 | V98: =T98*100/S98 -> #DIV/0! | W98: 0 | X98: =Др.ТО!$I$58 -> 0 | Y98: =W98-X98 -> 0 | Z98: =X98*100/W98 -> #DIV/0! | AA98: 0 | AB98: =Др.ТО!$I$60 -> 0 | AC98: =AA98-AB98 -> 0 | AD98: =AB98*100/AA98 -> #DIV/0! | AE98: 0 | AF98: =Др.ТО!$I$40 -> 0 | AG98: =AE98-AF98 -> 0 | AH98: =AF98*100/AE98 -> #DIV/0! | AI98: 0 | AJ98: =Др.ТО!$I$46 -> 0 | AK98: =AI98-AJ98 -> 0 | AL98: =AJ98*100/AI98 -> #DIV/0! | AM98: 0 | AN98: =Др.ТО!$I$44 -> 0 | AO98: =AM98-AN98 -> 0 | AP98: =AN98*100/AM98 -> #DIV/0! | AQ98: 0 | AR98: =(Др.ТО!$I$48)+(Др.ТО!$I$50) -> 0 | AS98: =AQ98-AR98 -> 0 | AT98: =AR98*100/AQ98 -> #DIV/0! | AU98: 0 | AV98: =Др.ТО!$I$62 -> 0 | AW98: =AU98-AV98 -> 0 | AX98: =AV98*100/AU98 -> #DIV/0! | AY98: 0 | AZ98: =Др.ТО!$I$52 -> 0 | BA98: =AY98-AZ98 -> 0 | BB98: =AZ98*100/AY98 -> #DIV/0! | BC98: 0 | BD98: =Др.ТО!$I$54 -> 0 | BE98: =BC98-BD98 -> 0 | BF98: =BD98*100/BC98 -> #DIV/0!
A99: 12 | B99: Стрижнева Рита Равилевна | C99: 0 | D99: =Др.ТО!$I$6 -> 0 | E99: =C99-D99 -> 0 | F99: =D99*100/C99 -> #DIV/0! | G99: 0 | H99: =Др.ТО!$I$12 -> 0 | I99: =G99-H99 -> 0 | J99: =H99*100/G99 -> #DIV/0! | K99: 0 | L99: =Др.ТО!$I$8 -> 0 | M99: =K99-L99 -> 0 | N99: =L99*100/K99 -> #DIV/0! | O99: =S99+W99+AA99 -> 64 | P99: =T99+X99+AB99 -> 0 | Q99: =O99-P99 -> 64 | R99: =P99*100/O99 -> 0 | S99: 0 | T99: =Др.ТО!$I$26 -> 0 | U99: =S99-T99 -> 0 | V99: =T99*100/S99 -> #DIV/0! | W99: 25 | X99: =Др.ТО!$I$28 -> 0 | Y99: =W99-X99 -> 25 | Z99: =X99*100/W99 -> 0 | AA99: 39 | AB99: =Др.ТО!$I$30 -> 0 | AC99: =AA99-AB99 -> 39 | AD99: =AB99*100/AA99 -> 0 | AE99: 0 | AF99: =Др.ТО!$I$10 -> 0 | AG99: =AE99-AF99 -> 0 | AH99: =AF99*100/AE99 -> #DIV/0! | AI99: 0 | AJ99: =Др.ТО!$I$16 -> 55 | AK99: =AI99-AJ99 -> -55 | AL99: =AJ99*100/AI99 -> #DIV/0! | AM99: 0 | AN99: =Др.ТО!$I$14 -> 0 | AO99: =AM99-AN99 -> 0 | AP99: =AN99*100/AM99 -> #DIV/0! | AQ99: 0 | AR99: =(Др.ТО!$I$18)+(Др.ТО!$I$20) -> 0 | AS99: =AQ99-AR99 -> 0 | AT99: =AR99*100/AQ99 -> #DIV/0! | AU99: 0 | AV99: =Др.ТО!$I$32 -> 0 | AW99: =AU99-AV99 -> 0 | AX99: =AV99*100/AU99 -> #DIV/0! | AY99: 0 | AZ99: =Др.ТО!$I$22 -> 0 | BA99: =AY99-AZ99 -> 0 | BB99: =AZ99*100/AY99 -> #DIV/0! | BC99: 0 | BD99: =Др.ТО!$I$24 -> 0 | BE99: =BC99-BD99 -> 0 | BF99: =BD99*100/BC99 -> #DIV/0!
B101: Кабинет НП | AM101: =SUM(AM102:AM109) -> 2609 | AN101: =SUM(AN102:AN109) -> 2385 | AO101: =AM101-AN101 -> 224 | AP101: =AN101*100/AM101 -> 91.414335
A102: 1 | AN102: ='1 то'!$U$22 -> 0 | AO102: =AM102-AN102 -> 0 | AP102: =AN102*100/AM102 -> #DIV/0!
A103: 2 | B103: Бурмистрова Евгения Леонидовна | AM103: =291+1 -> 292 | AN103: ='1 то'!$U$15 -> 288 | AO103: =AM103-AN103 -> 4 | AP103: =AN103*100/AM103 -> 98.630137
A104: 3 | B104: Шамсутдинова Айгуль Камиловна 0,5 | AM104: =145-5 -> 140 | AN104: ='1 то'!$U$10 -> 102 | AO104: =AM104-AN104 -> 38 | AP104: =AN104*100/AM104 -> 72.857143
A105: 4 | B105: Николаев Владимир Валерьевич - фельдшер | AM105: =291-17 -> 274 | AN105: ='1 то'!$U$70 -> 265 | AO105: =AM105-AN105 -> 9 | AP105: =AN105*100/AM105 -> 96.715328
A106: 5 | B106: Трегубов Олег Николаевич - фельдшер | AM106: =291-152 -> 139 | AN106: ='1 то'!$U$58 -> 348 | AO106: =AM106-AN106 -> -209 | AP106: =AN106*100/AM106 -> 250.35971
A107: 6 | B107: Симонян Макич Алешович - фельдшер | AM107: =291+911 -> 1202 | AN107: ='1 то'!$U$30 -> 894 | AO107: =AM107-AN107 -> 308 | AP107: =AN107*100/AM107 -> 74.37604
A108: 7 | B108: Юсупов Ильназ Харисович - фельдшер | AM108: =291+271 -> 562 | AN108: ='1 то'!$U$35 -> 488 | AO108: =AM108-AN108 -> 74 | AP108: =AN108*100/AM108 -> 86.83274
...

Sheet Профильные
C1: =Терапевты!C1 -> ПЛАН ОБРАЩЕНИЙ И ПОСЕЩЕНИЙ за сентябрь 2025 г.
C3: Обращения *888 | G3: Диспансерное наблюдение *814 | K3: Диспансерное наблюдение (пр. 168-н) | O3: в т.ч. диспансерное наблюдение по БСК *984 | S3: Разовые по заболеванию *890 | W3: С другими целями (Ds группы Z) *934 | AB3: Обращения *865, *836 | AF3: Диспансерное наблюдение *804 | AJ3: Диспансерное наблюдение (пр. 168-н) | AN3: Разовые по заболеваниям *871 | AR3: С другими целями *932
C4: План | D4: Факт | E4: Осталось до плана | F4: % | G4: План | H4: Факт | I4: Осталось до плана | J4: % | K4: План | L4: Факт | M4: Осталось до плана | N4: % | O4: План | P4: Факт | Q4: Осталось до плана | R4: % | S4: План | T4: Факт | U4: Осталось до плана | V4: % | W4: План | X4: Факт | Y4: Осталось до плана | Z4: % | AB4: План | AC4: Факт | AD4: Осталось до плана | AE4: % | AF4: План | AG4: Факт | AH4: Осталось до плана | AI4: % | AJ4: План | AK4: Факт | AL4: Осталось до плана | AM4: % | AN4: План | AO4: Факт | AP4: Осталось до плана | AQ4: % | AR4: План | AS4: Факт | AT4: Осталось до плана | AU4: %
C5: ХИРУРГИЧЕСКОЕ ОТДЕЛЕНИЕ
B6: Крылов Дмитрий Сергеевич зав.отд, 0,5ст | C6: 0 | D6: =ХО!$I$44 -> 15 | E6: =C6-D6 -> -15 | F6: =D6*100/C6 -> #DIV/0! | G6: 137 | H6: =ХО!$I$52 -> 127 | I6: =G6-H6 -> 10 | J6: =H6*100/G6 -> 92.70073 | K6: 0 | L6: =ХО!$I$50 -> 0 | M6: =K6-L6 -> 0 | N6: =L6*100/K6 -> #DIV/0! | S6: 0 | T6: =ХО!$I$48 -> 6 | U6: =S6-T6 -> -6 | V6: =T6*100/S6 -> #DIV/0! | W6: 0 | X6: =ХО!$I$46 -> 0 | Y6: =W6-X6 -> 0 | Z6: =X6*100/W6 -> #DIV/0!
A7: 1 | B7: Буляков Ринат Мухлисович | C7: 0 | D7: =ХО!$I$5 -> 127 | F7: =D7*100/C7 -> #DIV/0! | G7: 137 | H7: =ХО!$I$13 -> 126 | J7: =H7*100/G7 -> 91.970803 | K7: 0 | L7: =ХО!$I$11 -> 0 | N7: =L7*100/K7 -> #DIV/0! | S7: 0 | T7: =ХО!$I$9 -> 12 | V7: =T7*100/S7 -> #DIV/0! | W7: 0 | X7: =ХО!$I$7 -> 0 | Z7: =X7*100/W7 -> #DIV/0!
A8: 2 | B8: Гималетдинов Ильдар Сабирьянович | C8: 0 | D8: =ХО!$I$18 -> 63 | E8: =C8-D8 -> -63 | F8: =D8*100/C8 -> #DIV/0! | G8: 137 | H8: =ХО!$I$26 -> 135 | I8: =G8-H8 -> 2 | J8: =H8*100/G8 -> 98.540146 | K8: 0 | L8: =ХО!$I$24 -> 0 | M8: =K8-L8 -> 0 | N8: =L8*100/K8 -> #DIV/0! | S8: 0 | T8: =ХО!$I$22 -> 23 | U8: =S8-T8 -> -23 | V8: =T8*100/S8 -> #DIV/0! | W8: 0 | X8: =ХО!$I$20 -> 0 | Y8: =W8-X8 -> 0 | Z8: =X8*100/W8 -> #DIV/0!
A9: 3 | B9: Литвинова Елена Валериевна | C9: 0 | D9: =ХО!$I$31 -> 49 | E9: =C9-D9 -> -49 | F9: =D9*100/C9 -> #DIV/0! | G9: 137 | H9: =ХО!$I$39 -> 170 | I9: =G9-H9 -> -33 | J9: =H9*100/G9 -> 124.08759 | K9: 0 | L9: =ХО!$I$37 -> 0 | M9: =K9-L9 -> 0 | N9: =L9*100/K9 -> #DIV/0! | S9: 0 | T9: =ХО!$I$35 -> 7 | U9: =S9-T9 -> -7 | V9: =T9*100/S9 -> #DIV/0! | W9: 0 | X9: =ХО!$I$33 -> 0 | Y9: =W9-X9 -> 0 | Z9: =X9*100/W9 -> #DIV/0!
A10: 4 | B10: Хабибрахманов Марат Фанович на м/о | C10: 0 | D10: =ХО!$I$57 -> 4 | E10: =C10-D10 -> -4 | F10: =D10*100/C10 -> #DIV/0! | G10: 0 | H10: =ХО!$I$65 -> 0 | I10: =G10-H10 -> 0 | J10: =H10*100/G10 -> #DIV/0! | K10: 0 | L10: =ХО!$I$63 -> 0 | M10: =K10-L10 -> 0 | N10: =L10*100/K10 -> #DIV/0! | S10: 0 | T10: =ХО!$I$61 -> 1 | U10: =S10-T10 -> -1 | V10: =T10*100/S10 -> #DIV/0! | W10: 0 | X10: =ХО!$I$59 -> 0 | Y10: =W10-X10 -> 0 | Z10: =X10*100/W10 -> #DIV/0!
A11: 5 | B11: Пашкова Эльвира Михайловна | C11: 0 | D11: =ХО!$I$70 -> 67 | E11: =C11-D11 -> -67 | F11: =D11*100/C11 -> #DIV/0! | G11: 137 | H11: =ХО!$I$78 -> 178 | I11: =G11-H11 -> -41 | J11: =H11*100/G11 -> 129.92701 | K11: 0 | L11: =ХО!$I$76 -> 0 | M11: =K11-L11 -> 0 | N11: =L11*100/K11 -> #DIV/0! | S11: 0 | T11: =ХО!$I$74 -> 27 | U11: =S11-T11 -> -27 | V11: =T11*100/S11 -> #DIV/0! | W11: 0 | X11: =ХО!$I$72 -> 1 | Y11: =W11-X11 -> -1 | Z11: =X11*100/W11 -> #DIV/0!
B12: Всего по хирургии | C12: =SUM(C7:C11) -> 0 | D12: =SUM(D7:D11) -> 310 | E12: =C12-D12 -> -310 | F12: =D12*100/C12 -> #DIV/0! | G12: =SUM(G7:G11) -> 548 | H12: =SUM(H7:H11) -> 609 | I12: =G12-H12 -> -61 | J12: =H12*100/G12 -> 111.13139 | K12: =SUM(K7:K11) -> 0 | L12: =SUM(L7:L11) -> 0 | M12: =K12-L12 -> 0 | N12: =L12*100/K12 -> #DIV/0! | O12: =SUM(O7:O11) -> 0 | P12: =SUM(P7:P11) -> 0 | Q12: =O12-P12 -> 0 | R12: =P12*100/O12 -> #DIV/0! | S12: =SUM(S7:S11) -> 0 | T12: =SUM(T7:T11) -> 70 | U12: =S12-T12 -> -70 | V12: =T12*100/S12 -> #DIV/0! | W12: =SUM(W7:W11) -> 0 | X12: =SUM(X7:X11) -> 1 | Y12: =W12-X12 -> -1 | Z12: =X12*100/W12 -> #DIV/0!
A14: 1 | B14: Бирюков Алексей Александрович | C14: 0 | D14: =ХО!$T$5 -> 14 | E14: =C14-D14 -> -14 | F14: =D14*100/C14 -> #DIV/0! | G14: 137 | H14: =ХО!$T$13 -> 129 | I14: =G14-H14 -> 8 | J14: =H14*100/G14 -> 94.160584 | K14: 6 | L14: =ХО!$T$11 -> 0 | M14: =K14-L14 -> 6 | N14: =L14*100/K14 -> 0 | S14: 0 | T14: =ХО!$T$9 -> 36 | U14: =S14-T14 -> -36 | V14: =T14*100/S14 -> #DIV/0! | W14: 0 | X14: =ХО!$T$7 -> 1 | Y14: =W14-X14 -> -1 | Z14: =X14*100/W14 -> #DIV/0!
A15: 2 | B15: Юмакаев Салават Дамирович | C15: 0 | D15: =ХО!$T$31 -> 35 | E15: =C15-D15 -> -35 | F15: =D15*100/C15 -> #DIV/0! | G15: 137 | H15: =ХО!$T$39 -> 235 | I15: =G15-H15 -> -98 | J15: =H15*100/G15 -> 171.53285 | K15: 6 | L15: =ХО!$T$37 -> 0 | M15: =K15-L15 -> 6 | N15: =L15*100/K15 -> 0 | S15: 0 | T15: =ХО!$T$35 -> 64 | U15: =S15-T15 -> -64 | V15: =T15*100/S15 -> #DIV/0! | W15: 0 | X15: =ХО!$T$33 -> 9 | Y15: =W15-X15 -> -9 | Z15: =X15*100/W15 -> #DIV/0!
B16: Всего по урологиии | C16: =SUM(C14:C15) -> 0 | D16: =SUM(D14:D15) -> 49 | E16: =C16-D16 -> -49 | F16: =D16*100/C16 -> #DIV/0! | G16: =SUM(G14:G15) -> 274 | H16: =SUM(H14:H15) -> 364 | I16: =G16-H16 -> -90 | J16: =H16*100/G16 -> 132.84672 | K16: =SUM(K14:K15) -> 12 | L16: =SUM(L14:L15) -> 0 | M16: =K16-L16 -> 12 | N16: =L16*100/K16 -> 0 | O16: =SUM(O14:O15) -> 0 | P16: =SUM(P14:P15) -> 0 | Q16: =O16-P16 -> 0 | R16: =P16*100/O16 -> #DIV/0! | S16: =SUM(S14:S15) -> 0 | T16: =SUM(T14:T15) -> 100 | U16: =S16-T16 -> -100 | V16: =T16*100/S16 -> #DIV/0! | W16: =SUM(W14:W15) -> 0 | X16: =SUM(X14:X15) -> 10 | Y16: =W16-X16 -> -10 | Z16: =X16*100/W16 -> #DIV/0!
A18: 1 | C18: 0 | D18: =ХО!$AE$5 -> 0 | E18: =C18-D18 -> 0 | F18: =D18*100/C18 -> #DIV/0! | G18: 0 | H18: =ХО!$AE$11 -> 0 | I18: =G18-H18 -> 0 | J18: =H18*100/G18 -> #DIV/0! | K18: 0 | L18: =ХО!$AE$9 -> 0 | M18: =K18-L18 -> 0 | N18: =L18*100/K18 -> #DIV/0! | S18: 0 | T18: =ХО!$AE$7 -> 0 | U18: =S18-T18 -> 0 | V18: =T18*100/S18 -> #DIV/0! | AB18: 72 | AC18: =ХО!$AE$5 -> 0 | AD18: =AB18-AC18 -> 72 | AE18: =AC18*100/AB18 -> 0 | AF18: 4 | AG18: =ХО!$AE$11 -> 0 | AH18: =AF18-AG18 -> 4 | AI18: =AG18*100/AF18 -> 0 | AJ18: 0 | AK18: =ХО!$AE$9 -> 0 | AL18: =AJ18-AK18 -> 0 | AM18: =AK18*100/AJ18 -> #DIV/0! | AN18: 47 | AO18: =ХО!$AE$7 -> 0 | AP18: =AN18-AO18 -> 47 | AQ18: =AO18*100/AN18 -> 0
A19: 2 | B19: Яруллин Ильгиз Талгатович | C19: 173 | D19: =ХО!$AE$27 -> 137 | E19: =C19-D19 -> 36 | F19: =D19*100/C19 -> 79.190751 | G19: 137 | H19: =ХО!$AE$33 -> 120 | I19: =G19-H19 -> 17 | J19: =H19*100/G19 -> 87.591241 | K19: 2 | L19: =ХО!$AE$31 -> 0 | M19: =K19-L19 -> 2 | N19: =L19*100/K19 -> 0 | S19: 176 | T19: =ХО!$AE$29 -> 144 | U19: =S19-T19 -> 32 | V19: =T19*100/S19 -> 81.818182 | AB19: 503 | AC19: =ХО!$AE$27 -> 137 | AD19: =AB19-AC19 -> 366 | AE19: =AC19*100/AB19 -> 27.236581 | AF19: 11 | AG19: =ХО!$AE$33 -> 120 | AH19: =AF19-AG19 -> -109 | AI19: =AG19*100/AF19 -> 1090.9091 | AJ19: 1 | AK19: =ХО!$AE$31 -> 0 | AL19: =AJ19-AK19 -> 1 | AM19: =AK19*100/AJ19 -> 0 | AN19: 313 | AO19: =ХО!$AE$29 -> 144 | AP19: =AN19-AO19 -> 169 | AQ19: =AO19*100/AN19 -> 46.00639
A20: 3 | B20: Гильмияров Эльмир Рифкатович 0,5 | C20: 88 | D20: =ХО!$AE$16 -> 83 | E20: =C20-D20 -> 5 | F20: =D20*100/C20 -> 94.318182 | G20: 69 | H20: =ХО!$AE$22 -> 68 | I20: =G20-H20 -> 1 | J20: =H20*100/G20 -> 98.550725 | K20: 1 | L20: =ХО!$AE$20 -> 0 | M20: =K20-L20 -> 1 | N20: =L20*100/K20 -> 0 | S20: 87 | T20: =ХО!$AE$18 -> 2 | U20: =S20-T20 -> 85 | V20: =T20*100/S20 -> 2.2988506 | AB20: 55 | AC20: =ХО!$AE$16 -> 83 | AD20: =AB20-AC20 -> -28 | AE20: =AC20*100/AB20 -> 150.90909 | AF20: 29 | AG20: =ХО!$AE$22 -> 68 | AH20: =AF20-AG20 -> -39 | AI20: =AG20*100/AF20 -> 234.48276 | AJ20: 1 | AK20: =ХО!$AE$20 -> 0 | AL20: =AJ20-AK20 -> 1 | AM20: =AK20*100/AJ20 -> 0 | AN20: 326 | AO20: =ХО!$AE$18 -> 2 | AP20: =AN20-AO20 -> 324 | AQ20: =AO20*100/AN20 -> 0.61349693
A21: 4 | B21: Мурзакамалов Руслан Гирфанович 0,5 | C21: 88 | D21: =ХО!$AE$38 -> 65 | E21: =C21-D21 -> 23 | F21: =D21*100/C21 -> 73.863636 | G21: 69 | H21: =ХО!$AE$44 -> 70 | I21: =G21-H21 -> -1 | J21: =H21*100/G21 -> 101.44928 | K21: 1 | L21: =ХО!$AE$42 -> 0 | M21: =K21-L21 -> 1 | N21: =L21*100/K21 -> 0 | S21: 87 | T21: =ХО!$AE$40 -> 18 | U21: =S21-T21 -> 69 | V21: =T21*100/S21 -> 20.689655 | AB21: 267 | AC21: =ХО!$AE$38 -> 65 | AD21: =AB21-AC21 -> 202 | AE21: =AC21*100/AB21 -> 24.344569 | AF21: 49 | AG21: =ХО!$AE$44 -> 70 | AH21: =AF21-AG21 -> -21 | AI21: =AG21*100/AF21 -> 142.85714 | AJ21: 1 | AK21: =ХО!$AE$42 -> 0 | AL21: =AJ21-AK21 -> 1 | AM21: =AK21*100/AJ21 -> 0 | AN21: 88 | AO21: =ХО!$AE$40 -> 18 | AP21: =AN21-AO21 -> 70 | AQ21: =AO21*100/AN21 -> 20.454545
B22: Всего ортопед | C22: =SUM(C18:C21) -> 349 | D22: =SUM(D18:D21) -> 285 | E22: =C22-D22 -> 64 | F22: =D22*100/C22 -> 81.661891 | G22: =SUM(G18:G21) -> 275 | H22: =SUM(H18:H21) -> 258 | I22: =G22-H22 -> 17 | J22: =H22*100/G22 -> 93.818182 | K22: =SUM(K18:K21) -> 4 | L22: =SUM(L18:L21) -> 0 | M22: =K22-L22 -> 4 | N22: =L22*100/K22 -> 0 | O22: =SUM(O18:O21) -> 0 | P22: =SUM(P18:P21) -> 0 | Q22: =O22-P22 -> 0 | R22: =P22*100/O22 -> #DIV/0! | S22: =SUM(S18:S21) -> 350 | T22: =SUM(T18:T21) -> 164 | U22: =S22-T22 -> 186 | V22: =T22*100/S22 -> 46.857143 | AB22: =SUM(AB18:AB21) -> 897 | AC22: =SUM(AC18:AC21) -> 285 | AD22: =AB22-AC22 -> 612 | AE22: =AC22*100/AB22 -> 31.772575 | AF22: =SUM(AF18:AF21) -> 93 | AG22: =SUM(AG18:AG21) -> 258 | AH22: =AF22-AG22 -> -165 | AI22: =AG22*100/AF22 -> 277.41935 | AJ22: =SUM(AJ18:AJ21) -> 3 | AK22: =SUM(AK18:AK21) -> 0 | AL22: =AJ22-AK22 -> 3 | AM22: =AK22*100/AJ22 -> 0 | AN22: =SUM(AN18:AN21) -> 774 | AO22: =SUM(AO18:AO21) -> 164 | AP22: =AN22-AO22 -> 610 | AQ22: =AO22*100/AN22 -> 21.18863
A24: 1 | B24: Ибатуллин Рустам Тахирович | C24: 40 | D24: =ХО!$AP$5 -> 0 | E24: =C24-D24 -> 40 | F24: =D24*100/C24 -> 0 | G24: 137 | H24: =ХО!$AP$11 -> 0 | I24: =G24-H24 -> 137 | J24: =H24*100/G24 -> 0 | K24: 0 | L24: =ХО!$AP$9 -> 0 | M24: =K24-L24 -> 0 | N24: =L24*100/K24 -> #DIV/0! | S24: 70 | T24: =ХО!$AP$7 -> 0 | U24: =S24-T24 -> 70 | V24: =T24*100/S24 -> 0 | AB24: 348 | AC24: =ХО!$AP$5 -> 0 | AD24: =AB24-AC24 -> 348 | AE24: =AC24*100/AB24 -> 0 | AF24: 5 | AG24: =ХО!$AP$11 -> 0 | AH24: =AF24-AG24 -> 5 | AI24: =AG24*100/AF24 -> 0 | AJ24: 0 | AK24: =ХО!$AP$9 -> 0 | AL24: =AJ24-AK24 -> 0 | AM24: =AK24*100/AJ24 -> #DIV/0! | AN24: 293 | AO24: =ХО!$AP$7 -> 0 | AP24: =AN24-AO24 -> 293 | AQ24: =AO24*100/AN24 -> 0
A25: 2 | C25: 0 | D25: =ХО!$AP$15 -> 0 | E25: =C25-D25 -> 0 | F25: =D25*100/C25 -> #DIV/0! | G25: 0 | H25: =ХО!$AP$21 -> 0 | I25: =G25-H25 -> 0 | J25: =H25*100/G25 -> #DIV/0! | K25: 0 | L25: =ХО!$AP$19 -> 0 | M25: =K25-L25 -> 0 | N25: =L25*100/K25 -> #DIV/0! | S25: 0 | T25: =ХО!$AP$17 -> 2 | U25: =S25-T25 -> -2 | V25: =T25*100/S25 -> #DIV/0! | AB25: 0 | AC25: =ХО!$AP$15 -> 0 | AD25: =AB25-AC25 -> 0 | AE25: =AC25*100/AB25 -> #DIV/0! | AF25: 24 | AG25: =ХО!$AP$21 -> 0 | AH25: =AF25-AG25 -> 24 | AI25: =AG25*100/AF25 -> 0 | AJ25: 0 | AK25: =ХО!$AP$19 -> 0 | AL25: =AJ25-AK25 -> 0 | AM25: =AK25*100/AJ25 -> #DIV/0! | AN25: 270 | AO25: =ХО!$AP$17 -> 2 | AP25: =AN25-AO25 -> 268 | AQ25: =AO25*100/AN25 -> 0.74074074
B26: Всего колопроктолог | C26: =SUM(C24:C25) -> 40 | D26: =SUM(D24:D25) -> 0 | E26: =C26-D26 -> 40 | F26: =D26*100/C26 -> 0 | G26: =SUM(G24:G25) -> 137 | H26: =SUM(H24:H25) -> 0 | I26: =G26-H26 -> 137 | J26: =H26*100/G26 -> 0 | K26: =SUM(K24:K25) -> 0 | L26: =SUM(L24:L25) -> 0 | M26: =K26-L26 -> 0 | N26: =L26*100/K26 -> #DIV/0! | O26: =SUM(O24:O25) -> 0 | P26: =SUM(P24:P25) -> 0 | Q26: =O26-P26 -> 0 | R26: =P26*100/O26 -> #DIV/0! | S26: =SUM(S24:S25) -> 70 | T26: =SUM(T24:T25) -> 2 | U26: =S26-T26 -> 68 | V26: =T26*100/S26 -> 2.8571429 | AB26: =SUM(AB24:AB25) -> 348 | AC26: =SUM(AC24:AC25) -> 0 | AD26: =AB26-AC26 -> 348 | AE26: =AC26*100/AB26 -> 0 | AF26: =SUM(AF24:AF25) -> 29 | AG26: =SUM(AG24:AG25) -> 0 | AH26: =AF26-AG26 -> 29 | AI26: =AG26*100/AF26 -> 0 | AJ26: =SUM(AJ24:AJ25) -> 0 | AK26: =SUM(AK24:AK25) -> 0 | AL26: =AJ26-AK26 -> 0 | AM26: =AK26*100/AJ26 -> #DIV/0! | AN26: =SUM(AN24:AN25) -> 563 | AO26: =SUM(AO24:AO25) -> 2 | AP26: =AN26-AO26 -> 561 | AQ26: =AO26*100/AN26 -> 0.35523979
B28: ИТОГО ХО | C28: =C12+C16+C22+C26 -> 389 | D28: =D12+D16+D22+D26 -> 644 | E28: =C28-D28 -> -255 | F28: =D28*100/C28 -> 165.5527 | G28: =G12+G16+G22+G26 -> 1234 | H28: =H12+H16+H22+H26 -> 1231 | I28: =G28-H28 -> 3 | J28: =H28*100/G28 -> 99.756888 | K28: =K12+K16+K22+K26 -> 16 | L28: =L12+L16+L22+L26 -> 0 | M28: =K28-L28 -> 16 | N28: =L28*100/K28 -> 0 | O28: =O12+O16+O22+O26 -> 0 | P28: =P12+P16+P22+P26 -> 0 | Q28: =O28-P28 -> 0 | R28: =P28*100/O28 -> #DIV/0! | S28: =S12+S16+S22+S26 -> 420 | T28: =T12+T16+T22+T26 -> 336 | U28: =S28-T28 -> 84 | V28: =T28*100/S28 -> 80 | W28: =W12+W16+W22+W26 -> 0 | X28: =X12+X16+X22+X26 -> 11 | Y28: =W28-X28 -> -11 | Z28: =X28*100/W28 -> #DIV/0! | AB28: =AB22+AB26 -> 1245 | AC28: =AC22+AC26 -> 285 | AD28: =AB28-AC28 -> 960 | AE28: =AC28*100/AB28 -> 22.891566 | AF28: =AF22+AF26 -> 122 | AG28: =AG22+AG26 -> 258 | AH28: =AF28-AG28 -> -136 | AI28: =AG28*100/AF28 -> 211.47541 | AJ28: =AJ22+AJ26 -> 3 | AK28: =AK22+AK26 -> 0 | AL28: =AJ28-AK28 -> 3 | AM28: =AK28*100/AJ28 -> 0 | AN28: =AN22+AN26 -> 1337 | AO28: =AO22+AO26 -> 166 | AP28: =AN28-AO28 -> 1171 | AQ28: =AO28*100/AN28 -> 12.415856
C30: УЗКИЕ СПЕЦИАЛИСТЫ
A31: 1 | B31: Загидуллин Денис Салаватович | C31: 0 | D31: =Узкие!$I$18 -> 80 | E31: =C31-D31 -> -80 | F31: =D31*100/C31 -> #DIV/0! | G31: 72 | H31: =Узкие!$I$22 -> 74 | I31: =G31-H31 -> -2 | J31: =H31*100/G31 -> 102.77778 | K31: 1 | L31: =Узкие!$I$20 -> 0 | M31: =K31-L31 -> 1 | N31: =L31*100/K31 -> 0 | S31: 0 | T31: =Узкие!$I$24 -> 46 | U31: =S31-T31 -> -46 | V31: =T31*100/S31 -> #DIV/0! | W31: 0 | X31: =Узкие!$I$26 -> 0 | Y31: =W31-X31 -> 0 | Z31: =X31*100/W31 -> #DIV/0!
A32: 2 | B32: Каюмова Альбина Фанисовна | C32: 0 | D32: =Узкие!$I$56 -> 34 | E32: =C32-D32 -> -34 | F32: =D32*100/C32 -> #DIV/0! | G32: 70 | H32: =Узкие!$I$60 -> 59 | I32: =G32-H32 -> 11 | J32: =H32*100/G32 -> 84.285714 | K32: 1 | L32: =Узкие!$I$58 -> 0 | M32: =K32-L32 -> 1 | N32: =L32*100/K32 -> 0 | S32: 0 | T32: =Узкие!$I$62 -> 232 | U32: =S32-T32 -> -232 | V32: =T32*100/S32 -> #DIV/0! | W32: 0 | X32: =Узкие!$I$64 -> 16 | Y32: =W32-X32 -> -16 | Z32: =X32*100/W32 -> #DIV/0!
A33: 3 | B33: Тукаева Аделя Ханифовна - военкомат | C33: 0 | D33: =Узкие!$I$69 -> 5 | E33: =C33-D33 -> -5 | F33: =D33*100/C33 -> #DIV/0! | G33: 0 | H33: =Узкие!$I$73 -> 0 | I33: =G33-H33 -> 0 | J33: =H33*100/G33 -> #DIV/0! | K33: 0.4 | L33: =Узкие!$I$71 -> 0 | M33: =K33-L33 -> 0.4 | N33: =L33*100/K33 -> 0 | S33: 0 | T33: =Узкие!$I$75 -> 22 | U33: =S33-T33 -> -22 | V33: =T33*100/S33 -> #DIV/0! | W33: 0 | X33: =Узкие!$I$77 -> 0 | Y33: =W33-X33 -> 0 | Z33: =X33*100/W33 -> #DIV/0!
A34: 4 | B34: Якупова Дина Радиковна | C34: 0 | D34: =Узкие!$I$31 -> 56 | E34: =C34-D34 -> -56 | F34: =D34*100/C34 -> #DIV/0! | G34: 36 | H34: =Узкие!$I$35 -> 30 | I34: =G34-H34 -> 6 | J34: =H34*100/G34 -> 83.333333 | K34: 1 | L34: =Узкие!$I$33 -> 0 | M34: =K34-L34 -> 1 | N34: =L34*100/K34 -> 0 | S34: 0 | T34: =Узкие!$I$37 -> 10 | U34: =S34-T34 -> -10 | V34: =T34*100/S34 -> #DIV/0! | W34: 0 | X34: =Узкие!$I$39 -> 0 | Y34: =W34-X34 -> 0 | Z34: =X34*100/W34 -> #DIV/0!
A35: 5 | B35: Каспранова Лилиана Фанилевна | C35: 0 | D35: =Узкие!$I$43 -> 7 | E35: =C35-D35 -> -7 | F35: =D35*100/C35 -> #DIV/0! | G35: 31 | H35: =Узкие!$I$47 -> 16 | I35: =G35-H35 -> 15 | J35: =H35*100/G35 -> 51.612903 | K35: 1 | L35: =Узкие!$I$45 -> 0 | M35: =K35-L35 -> 1 | N35: =L35*100/K35 -> 0 | S35: 0 | T35: =Узкие!$I$49 -> 15 | U35: =S35-T35 -> -15 | V35: =T35*100/S35 -> #DIV/0! | W35: 0 | X35: =Узкие!$I$51 -> 2 | Y35: =W35-X35 -> -2 | Z35: =X35*100/W35 -> #DIV/0!
A36: 6 | B36: Горданова Радимхан Жабибулатовна д/о | C36: 0 | D36: =Узкие!$I$5 -> 0 | E36: =C36-D36 -> 0 | F36: =D36*100/C36 -> #DIV/0! | G36: 0 | H36: =Узкие!$I$9 -> 0 | I36: =G36-H36 -> 0 | J36: =H36*100/G36 -> #DIV/0! | K36: 0 | L36: =Узкие!$I$7 -> 0 | M36: =K36-L36 -> 0 | N36: =L36*100/K36 -> #DIV/0! | S36: 0 | T36: =Узкие!$I$11 -> 0 | U36: =S36-T36 -> 0 | V36: =T36*100/S36 -> #DIV/0! | W36: 0 | X36: =Узкие!$I$13 -> 0 | Y36: =W36-X36 -> 0 | Z36: =X36*100/W36 -> #DIV/0!
A37: 7 | B37: Алексеева Екатерина Александровна | C37: 0 | D37: =Узкие!$I$95 -> 111 | E37: =C37-D37 -> -111 | F37: =D37*100/C37 -> #DIV/0! | G37: 47 | H37: =Узкие!$I$99 -> 54 | I37: =G37-H37 -> -7 | J37: =H37*100/G37 -> 114.89362 | K37: 1 | L37: =Узкие!$I$97 -> 0 | M37: =K37-L37 -> 1 | N37: =L37*100/K37 -> 0 | S37: 0 | T37: =Узкие!$I$101 -> 68 | U37: =S37-T37 -> -68 | V37: =T37*100/S37 -> #DIV/0! | W37: 0 | X37: =Узкие!$I$103 -> 5 | Y37: =W37-X37 -> -5 | Z37: =X37*100/W37 -> #DIV/0!
A38: 8 | B38: Кочкин Денис Алексеевич | C38: 0 | D38: =Узкие!$I$82 -> 143 | E38: =C38-D38 -> -143 | F38: =D38*100/C38 -> #DIV/0! | G38: 49 | H38: =Узкие!$I$86 -> 38 | I38: =G38-H38 -> 11 | J38: =H38*100/G38 -> 77.55102 | K38: 1 | L38: =Узкие!$I$84 -> 0 | M38: =K38-L38 -> 1 | N38: =L38*100/K38 -> 0 | S38: 0 | T38: =Узкие!$I$88 -> 3 | U38: =S38-T38 -> -3 | V38: =T38*100/S38 -> #DIV/0! | W38: 0 | X38: =Узкие!$I$90 -> 0 | Y38: =W38-X38 -> 0 | Z38: =X38*100/W38 -> #DIV/0!
B39: Всего окулист | C39: =SUM(C31:C38) -> 0 | D39: =SUM(D31:D38) -> 436 | E39: =C39-D39 -> -436 | F39: =D39*100/C39 -> #DIV/0! | G39: =SUM(G31:G38) -> 305 | H39: =SUM(H31:H38) -> 271 | I39: =G39-H39 -> 34 | J39: =H39*100/G39 -> 88.852459 | K39: =SUM(K31:K38) -> 6.4 | L39: =SUM(L31:L38) -> 0 | M39: =K39-L39 -> 6.4 | N39: =L39*100/K39 -> 0 | S39: =SUM(S31:S38) -> 0 | T39: =SUM(T31:T38) -> 396 | U39: =S39-T39 -> -396 | V39: =T39*100/S39 -> #DIV/0! | W39: =SUM(W31:W38) -> 0 | X39: =SUM(X31:X38) -> 23 | Y39: =W39-X39 -> -23 | Z39: =X39*100/W39 -> #DIV/0!
A40: 1 | B40: Марданшина Илина Ильдаровна | C40: 0 | D40: =Узкие!$I$171 -> 78 | E40: =C40-D40 -> -78 | F40: =D40*100/C40 -> #DIV/0! | G40: 150 | H40: =Узкие!$I$175 -> 122 | I40: =G40-H40 -> 28 | J40: =H40*100/G40 -> 81.333333 | K40: 10 | L40: =Узкие!$I$173 -> 4 | M40: =K40-L40 -> 6 | N40: =L40*100/K40 -> 40 | S40: 0 | T40: =Узкие!$I$177 -> 42 | U40: =S40-T40 -> -42 | V40: =T40*100/S40 -> #DIV/0! | W40: 0 | X40: =Узкие!$I$179 -> 7 | Y40: =W40-X40 -> -7 | Z40: =X40*100/W40 -> #DIV/0!
A41: 2 | B41: НИГМАТУЛЛИНА ЭЛЬВИРА МАРСОВНА | C41: 0 | D41: =Узкие!$I$135 -> 85 | E41: =C41-D41 -> -85 | F41: =D41*100/C41 -> #DIV/0! | G41: 55 | H41: =Узкие!$I$139 -> 60 | I41: =G41-H41 -> -5 | J41: =H41*100/G41 -> 109.09091 | K41: 7 | L41: =Узкие!$I$137 -> 6 | M41: =K41-L41 -> 1 | N41: =L41*100/K41 -> 85.714286 | S41: 0 | T41: =Узкие!$I$141 -> 33 | U41: =S41-T41 -> -33 | V41: =T41*100/S41 -> #DIV/0! | W41: 0 | X41: =Узкие!$I$143 -> 1 | Y41: =W41-X41 -> -1 | Z41: =X41*100/W41 -> #DIV/0!
A42: 3 | B42: Хайбуллин Джалил Фаридович 0,5 | C42: 0 | D42: =Узкие!$I$110 -> 4 | E42: =C42-D42 -> -4 | F42: =D42*100/C42 -> #DIV/0! | G42: 108 | H42: =Узкие!$I$114 -> 105 | I42: =G42-H42 -> 3 | J42: =H42*100/G42 -> 97.222222 | K42: 2 | L42: =Узкие!$I$112 -> 2 | M42: =K42-L42 -> 0 | N42: =L42*100/K42 -> 100 | S42: 0 | T42: =Узкие!$I$116 -> 0 | U42: =S42-T42 -> 0 | V42: =T42*100/S42 -> #DIV/0! | W42: 0 | X42: =Узкие!$I$118 -> 0 | Y42: =W42-X42 -> 0 | Z42: =X42*100/W42 -> #DIV/0!
A43: 4 | B43: Хамзина Гульнара Мусеевна - военкомат | C43: 0 | D43: =Узкие!$I$147 -> 143 | E43: =C43-D43 -> -143 | F43: =D43*100/C43 -> #DIV/0! | G43: 0 | H43: =Узкие!$I$151 -> 34 | I43: =G43-H43 -> -34 | J43: =H43*100/G43 -> #DIV/0! | K43: 0 | L43: =Узкие!$I$149 -> 0 | M43: =K43-L43 -> 0 | N43: =L43*100/K43 -> #DIV/0! | S43: 0 | T43: =Узкие!$I$153 -> 6 | U43: =S43-T43 -> -6 | V43: =T43*100/S43 -> #DIV/0! | W43: 0 | X43: =Узкие!$I$155 -> 1 | Y43: =W43-X43 -> -1 | Z43: =X43*100/W43 -> #DIV/0!
A44: 5 | B44: Хуснутдинова Лилия Ильшатовна д/о | C44: 0 | D44: =Узкие!$I$123 -> 0 | E44: =C44-D44 -> 0 | F44: =D44*100/C44 -> #DIV/0! | G44: 0 | H44: =Узкие!$I$127 -> 0 | I44: =G44-H44 -> 0 | J44: =H44*100/G44 -> #DIV/0! | K44: 0 | L44: =Узкие!$I$125 -> 0 | M44: =K44-L44 -> 0 | N44: =L44*100/K44 -> #DIV/0! | S44: 0 | T44: =Узкие!$I$129 -> 0 | U44: =S44-T44 -> 0 | V44: =T44*100/S44 -> #DIV/0! | W44: 0 | X44: =Узкие!$I$131 -> 0 | Y44: =W44-X44 -> 0 | Z44: =X44*100/W44 -> #DIV/0!
A45: 6 | B45: Валеева Эльвина Венеровна 0,5 | C45: 0 | D45: =Узкие!$I$159 -> 3 | E45: =C45-D45 -> -3 | F45: =D45*100/C45 -> #DIV/0! | G45: 105 | H45: =Узкие!$I$163 -> 27 | I45: =G45-H45 -> 78 | J45: =H45*100/G45 -> 25.714286 | K45: 13 | L45: =Узкие!$I$161 -> 1 | M45: =K45-L45 -> 12 | N45: =L45*100/K45 -> 7.6923077 | S45: 0 | T45: =Узкие!$I$165 -> 3 | U45: =S45-T45 -> -3 | V45: =T45*100/S45 -> #DIV/0! | W45: 0 | X45: =Узкие!$I$167 -> 14 | Y45: =W45-X45 -> -14 | Z45: =X45*100/W45 -> #DIV/0!
B46: Всего по ЛОР | C46: =SUM(C40:C45) -> 0 | D46: =SUM(D40:D45) -> 313 | E46: =C46-D46 -> -313 | F46: =D46*100/C46 -> #DIV/0! | G46: =SUM(G40:G45) -> 418 | H46: =SUM(H40:H45) -> 348 | I46: =G46-H46 -> 70 | J46: =H46*100/G46 -> 83.253589 | K46: =SUM(K40:K45) -> 32 | L46: =SUM(L40:L45) -> 13 | M46: =K46-L46 -> 19 | N46: =L46*100/K46 -> 40.625 | S46: =SUM(S40:S45) -> 0 | T46: =SUM(T40:T45) -> 84 | U46: =S46-T46 -> -84 | V46: =T46*100/S46 -> #DIV/0! | W46: =SUM(W40:W45) -> 0 | X46: =SUM(X40:X45) -> 23 | Y46: =W46-X46 -> -23 | Z46: =X46*100/W46 -> #DIV/0!
A47: 1 | B47: Голубкова Лиана Валерьевна | C47: 0 | D47: =Узкие!$T$5 -> 77 | E47: =C47-D47 -> -77 | F47: =D47*100/C47 -> #DIV/0! | G47: 112 | H47: =Узкие!$T$9 -> 67 | I47: =G47-H47 -> 45 | J47: =H47*100/G47 -> 59.821429 | K47: =O47 -> 340 | L47: =(Узкие!$T$7)+(Узкие!$T$15) -> 151 | M47: =K47-L47 -> 189 | N47: =L47*100/K47 -> 44.411765 | O47: 340 | P47: =(Узкие!$T$15) -> 151 | Q47: =O47-P47 -> 189 | R47: =P47*100/O47 -> 44.411765 | S47: 0 | T47: =Узкие!$T$11 -> 4 | U47: =S47-T47 -> -4 | V47: =T47*100/S47 -> #DIV/0! | W47: 0 | X47: =Узкие!$T$13 -> 0 | Y47: =W47-X47 -> 0 | Z47: =X47*100/W47 -> #DIV/0!
A48: 2 | B48: Гиляева Эльвира Фанисовна (1,0) | C48: 0 | D48: =Узкие!$T$20 -> 116 | E48: =C48-D48 -> -116 | F48: =D48*100/C48 -> #DIV/0! | G48: 44 | H48: =Узкие!$T$24 -> 27 | I48: =G48-H48 -> 17 | J48: =H48*100/G48 -> 61.363636 | K48: =O48 -> 340 | L48: =(Узкие!$T$22)+(Узкие!$T$30) -> 342 | M48: =K48-L48 -> -2 | N48: =L48*100/K48 -> 100.58824 | O48: 340 | P48: =(Узкие!$T$30) -> 342 | Q48: =O48-P48 -> -2 | R48: =P48*100/O48 -> 100.58824 | S48: 0 | T48: =Узкие!$T$26 -> 0 | U48: =S48-T48 -> 0 | V48: =T48*100/S48 -> #DIV/0! | W48: 0 | X48: =Узкие!$T$28 -> 0 | Y48: =W48-X48 -> 0 | Z48: =X48*100/W48 -> #DIV/0!
A49: 3 | B49: МИФТАХОВА Айсылу Физильяновна | C49: 0 | D49: =Узкие!$T$94 -> 22 | E49: =C49-D49 -> -22 | F49: =D49*100/C49 -> #DIV/0! | G49: 91 | H49: =Узкие!$T$98 -> 11 | I49: =G49-H49 -> 80 | J49: =H49*100/G49 -> 12.087912 | K49: =O49 -> 340 | L49: =(Узкие!$T$96)+(Узкие!$T$104) -> 36 | M49: =K49-L49 -> 304 | N49: =L49*100/K49 -> 10.588235 | O49: 340 | P49: =(Узкие!$T$104) -> 36 | Q49: =O49-P49 -> 304 | R49: =P49*100/O49 -> 10.588235 | S49: 0 | T49: =Узкие!$T$100 -> 31 | U49: =S49-T49 -> -31 | V49: =T49*100/S49 -> #DIV/0! | W49: 0 | X49: =Узкие!$T$102 -> 0 | Y49: =W49-X49 -> 0 | Z49: =X49*100/W49 -> #DIV/0!
A50: 4 | B50: Смильгина Ольга Юрьевна 1,0 | C50: 0 | D50: =Узкие!$T$50 -> 0 | E50: =C50-D50 -> 0 | F50: =D50*100/C50 -> #DIV/0! | G50: 53 | H50: =Узкие!$T$54 -> 50 | I50: =G50-H50 -> 3 | J50: =H50*100/G50 -> 94.339623 | K50: =O50 -> 340 | L50: =(Узкие!$T$52)+(Узкие!$T$60) -> 280 | M50: =K50-L50 -> 60 | N50: =L50*100/K50 -> 82.352941 | O50: 340 | P50: =(Узкие!$T$60) -> 280 | Q50: =O50-P50 -> 60 | R50: =P50*100/O50 -> 82.352941 | S50: 0 | T50: =Узкие!$T$56 -> 0 | U50: =S50-T50 -> 0 | V50: =T50*100/S50 -> #DIV/0! | W50: 0 | X50: =Узкие!$T$58 -> 0 | Y50: =W50-X50 -> 0 | Z50: =X50*100/W50 -> #DIV/0!
A51: 6 | B51: Шакирова Лилия Саматовна | C51: 0 | D51: =Узкие!$T$109 -> 8 | E51: =C51-D51 -> -8 | F51: =D51*100/C51 -> #DIV/0! | G51: 0 | H51: =Узкие!$T$113 -> 2 | I51: =G51-H51 -> -2 | J51: =H51*100/G51 -> #DIV/0! | K51: 0 | L51: =(Узкие!$T$111)+(Узкие!$T$119) -> 4 | M51: =K51-L51 -> -4 | N51: =L51*100/K51 -> #DIV/0! | O51: 0 | P51: =(Узкие!$T$119) -> 4 | Q51: =O51-P51 -> -4 | R51: =P51*100/O51 -> #DIV/0! | S51: 0 | T51: =Узкие!$T$115 -> 4 | U51: =S51-T51 -> -4 | V51: =T51*100/S51 -> #DIV/0! | W51: 0 | X51: =Узкие!$T$117 -> 0 | Y51: =W51-X51 -> 0 | Z51: =X51*100/W51 -> #DIV/0!
A52: 7 | B52: Шарина Алина Фаритовна д/о | C52: 0 | D52: =Узкие!$T$79 -> 0 | E52: =C52-D52 -> 0 | F52: =D52*100/C52 -> #DIV/0! | G52: 0 | H52: =Узкие!$T$83 -> 0 | I52: =G52-H52 -> 0 | J52: =H52*100/G52 -> #DIV/0! | K52: =O52 -> 0 | L52: =(Узкие!$T$81)+(Узкие!$T$89) -> 0 | M52: =K52-L52 -> 0 | N52: =L52*100/K52 -> #DIV/0! | O52: 0 | P52: =(Узкие!$T$89) -> 0 | Q52: =O52-P52 -> 0 | R52: =P52*100/O52 -> #DIV/0! | S52: 0 | T52: =Узкие!$T$85 -> 0 | U52: =S52-T52 -> 0 | V52: =T52*100/S52 -> #DIV/0! | W52: 0 | X52: =Узкие!$T$87 -> 0 | Y52: =W52-X52 -> 0 | Z52: =X52*100/W52 -> #DIV/0!
A53: 8 | B53: Ширгазина Алия Раифовна д/о | C53: 0 | D53: =Узкие!$T$64 -> 0 | E53: =C53-D53 -> 0 | F53: =D53*100/C53 -> #DIV/0! | G53: 0 | H53: =Узкие!$T$68 -> 0 | I53: =G53-H53 -> 0 | J53: =H53*100/G53 -> #DIV/0! | K53: =O53 -> 0 | L53: =(Узкие!$T$66)+(Узкие!$T$74) -> 0 | M53: =K53-L53 -> 0 | N53: =L53*100/K53 -> #DIV/0! | O53: 0 | P53: =(Узкие!$T$66)+(Узкие!$T$74) -> 0 | Q53: =O53-P53 -> 0 | R53: =P53*100/O53 -> #DIV/0! | S53: 0 | T53: =Узкие!$T$70 -> 0 | U53: =S53-T53 -> 0 | V53: =T53*100/S53 -> #DIV/0! | W53: 0 | X53: =Узкие!$T$72 -> 0 | Y53: =W53-X53 -> 0 | Z53: =X53*100/W53 -> #DIV/0!
B54: Всего кардиолог | C54: =SUM(C47:C53) -> 0 | D54: =SUM(D47:D53) -> 223 | E54: =C54-D54 -> -223 | F54: =D54*100/C54 -> #DIV/0! | G54: =SUM(G47:G53) -> 300 | H54: =SUM(H47:H53) -> 157 | I54: =G54-H54 -> 143 | J54: =H54*100/G54 -> 52.333333 | K54: =SUM(K47:K53) -> 1360 | L54: =SUM(L47:L53) -> 813 | M54: =K54-L54 -> 547 | N54: =L54*100/K54 -> 59.779412 | O54: =SUM(O47:O53) -> 1360 | P54: =SUM(P47:P53) -> 813 | Q54: =O54-P54 -> 547 | R54: =P54*100/O54 -> 59.779412 | S54: =SUM(S47:S53) -> 0 | T54: =SUM(T47:T53) -> 39 | U54: =S54-T54 -> -39 | V54: =T54*100/S54 -> #DIV/0! | W54: =SUM(W47:W53) -> 0 | X54: =SUM(X47:X53) -> 0 | Y54: =W54-X54 -> 0 | Z54: =X54*100/W54 -> #DIV/0!
A55: 1 | B55: Буканбаева Альфия Ринатовна | C55: 0 | D55: =Узкие!$AE$5 -> 103 | E55: =C55-D55 -> -103 | F55: =D55*100/C55 -> #DIV/0! | G55: 156 | H55: =Узкие!$AE$9 -> 106 | I55: =G55-H55 -> 50 | J55: =H55*100/G55 -> 67.948718 | K55: 0 | L55: =Узкие!$AE$7 -> 0 | M55: =K55-L55 -> 0 | N55: =L55*100/K55 -> #DIV/0! | S55: 0 | T55: =Узкие!$AE$11 -> 34 | U55: =S55-T55 -> -34 | V55: =T55*100/S55 -> #DIV/0! | W55: 0 | X55: =Узкие!$AE$13 -> 5 | Y55: =W55-X55 -> -5 | Z55: =X55*100/W55 -> #DIV/0!
A56: 2 | B56: Абдуллина Люция Наилевна д/о | C56: 0 | D56: =Узкие!$AE$44 -> 0 | E56: =C56-D56 -> 0 | F56: =D56*100/C56 -> #DIV/0! | G56: 0 | H56: =Узкие!$AE$48 -> 0 | I56: =G56-H56 -> 0 | J56: =H56*100/G56 -> #DIV/0! | K56: 0 | L56: =Узкие!$AE$46 -> 0 | M56: =K56-L56 -> 0 | N56: =L56*100/K56 -> #DIV/0! | S56: 0 | T56: =Узкие!$AE$50 -> 0 | U56: =S56-T56 -> 0 | V56: =T56*100/S56 -> #DIV/0! | W56: 0 | X56: =Узкие!$AE$52 -> 0 | Y56: =W56-X56 -> 0 | Z56: =X56*100/W56 -> #DIV/0!
A57: 3 | B57: Мухаметдинов Артур Русланович | C57: 0 | D57: =Узкие!$AE$18 -> 0 | E57: =C57-D57 -> 0 | F57: =D57*100/C57 -> #DIV/0! | G57: 48 | H57: =Узкие!$AE$22 -> 2 | I57: =G57-H57 -> 46 | J57: =H57*100/G57 -> 4.1666667 | K57: 0 | L57: =Узкие!$AE$20 -> 0 | M57: =K57-L57 -> 0 | N57: =L57*100/K57 -> #DIV/0! | S57: 0 | T57: =Узкие!$AE$24 -> 1 | U57: =S57-T57 -> -1 | V57: =T57*100/S57 -> #DIV/0! | W57: 0 | X57: =Узкие!$AE$26 -> 0 | Y57: =W57-X57 -> 0 | Z57: =X57*100/W57 -> #DIV/0!
A58: 4 | B58: НАЗАРОВА АЙСЫЛУ ГАРЕЕВНА | C58: 0 | D58: =Узкие!$AE$31 -> 75 | E58: =C58-D58 -> -75 | F58: =D58*100/C58 -> #DIV/0! | G58: 156 | H58: =Узкие!$AE$35 -> 103 | I58: =G58-H58 -> 53 | J58: =H58*100/G58 -> 66.025641 | K58: 0 | L58: =Узкие!$AE$33 -> 0 | M58: =K58-L58 -> 0 | N58: =L58*100/K58 -> #DIV/0! | S58: 0 | T58: =Узкие!$AE$37 -> 28 | U58: =S58-T58 -> -28 | V58: =T58*100/S58 -> #DIV/0! | W58: 0 | X58: =Узкие!$AE$39 -> 0 | Y58: =W58-X58 -> 0 | Z58: =X58*100/W58 -> #DIV/0!
B59: Всего невролог | C59: =SUM(C55:C58) -> 0 | D59: =SUM(D55:D58) -> 178 | E59: =C59-D59 -> -178 | F59: =D59*100/C59 -> #DIV/0! | G59: =SUM(G55:G58) -> 360 | H59: =SUM(H55:H58) -> 211 | I59: =G59-H59 -> 149 | J59: =H59*100/G59 -> 58.611111 | K59: =SUM(K55:K58) -> 0 | L59: =SUM(L55:L58) -> 0 | M59: =K59-L59 -> 0 | N59: =L59*100/K59 -> #DIV/0! | S59: =SUM(S55:S58) -> 0 | T59: =SUM(T55:T58) -> 63 | U59: =S59-T59 -> -63 | V59: =T59*100/S59 -> #DIV/0! | W59: =SUM(W55:W58) -> 0 | X59: =SUM(X55:X58) -> 5 | Y59: =W59-X59 -> -5 | Z59: =X59*100/W59 -> #DIV/0!
A60: 1 | B60: Вафина Зульфия Вячеславовна | C60: 0 | D60: =Узкие!$I$212 -> 96 | E60: =C60-D60 -> -96 | F60: =D60*100/C60 -> #DIV/0! | G60: 200 | H60: =Узкие!$I$216 -> 161 | I60: =G60-H60 -> 39 | J60: =H60*100/G60 -> 80.5 | K60: 13 | L60: =Узкие!$I$214 -> 15 | M60: =K60-L60 -> -2 | N60: =L60*100/K60 -> 115.38462 | S60: 0 | T60: =Узкие!$I$218 -> 58 | U60: =S60-T60 -> -58 | V60: =T60*100/S60 -> #DIV/0! | W60: 0 | X60: =Узкие!$I$220 -> 2 | Y60: =W60-X60 -> -2 | Z60: =X60*100/W60 -> #DIV/0!
A61: 2 | B61: Васильева Неля Владимировна | C61: 0 | D61: =Узкие!$I$199 -> 123 | E61: =C61-D61 -> -123 | F61: =D61*100/C61 -> #DIV/0! | G61: 167 | H61: =Узкие!$I$203 -> 184 | I61: =G61-H61 -> -17 | J61: =H61*100/G61 -> 110.17964 | K61: 13 | L61: =Узкие!$I$201 -> 14 | M61: =K61-L61 -> -1 | N61: =L61*100/K61 -> 107.69231 | S61: 0 | T61: =Узкие!$I$205 -> 163 | U61: =S61-T61 -> -163 | V61: =T61*100/S61 -> #DIV/0! | W61: 0 | X61: =Узкие!$I$207 -> 0 | Y61: =W61-X61 -> 0 | Z61: =X61*100/W61 -> #DIV/0!
A62: 3 | B62: ЗАЙНУЛЛИНА Лиана Мусовна д/о | C62: 0 | D62: =Узкие!$I$236 -> 0 | E62: =C62-D62 -> 0 | F62: =D62*100/C62 -> #DIV/0! | G62: 0 | H62: =Узкие!$I$240 -> 0 | I62: =G62-H62 -> 0 | J62: =H62*100/G62 -> #DIV/0! | K62: 0 | L62: =Узкие!$I$238 -> 0 | M62: =K62-L62 -> 0 | N62: =L62*100/K62 -> #DIV/0! | S62: 0 | T62: =Узкие!$I$242 -> 0 | U62: =S62-T62 -> 0 | V62: =T62*100/S62 -> #DIV/0! | W62: 0 | X62: =Узкие!$I$244 -> 0 | Y62: =W62-X62 -> 0 | Z62: =X62*100/W62 -> #DIV/0!
A63: 4 | B63: Кармачева Наталья Васильевна | C63: 0 | D63: =Узкие!$I$186 -> 44 | E63: =C63-D63 -> -44 | F63: =D63*100/C63 -> #DIV/0! | G63: 160 | H63: =Узкие!$I$190 -> 210 | I63: =G63-H63 -> -50 | J63: =H63*100/G63 -> 131.25 | K63: 24 | L63: =Узкие!$I$188 -> 21 | M63: =K63-L63 -> 3 | N63: =L63*100/K63 -> 87.5 | S63: 0 | T63: =Узкие!$I$192 -> 67 | U63: =S63-T63 -> -67 | V63: =T63*100/S63 -> #DIV/0! | W63: 0 | X63: =Узкие!$I$194 -> 0 | Y63: =W63-X63 -> 0 | Z63: =X63*100/W63 -> #DIV/0!
A64: 5 | B64: Попова Мария Сергеевна | C64: 0 | D64: =Узкие!$I$224 -> 67 | E64: =C64-D64 -> -67 | F64: =D64*100/C64 -> #DIV/0! | G64: 162 | H64: =Узкие!$I$228 -> 169 | I64: =G64-H64 -> -7 | J64: =H64*100/G64 -> 104.32099 | K64: 14 | L64: =Узкие!$I$226 -> 18 | M64: =K64-L64 -> -4 | N64: =L64*100/K64 -> 128.57143 | S64: 0 | T64: =Узкие!$I$230 -> 115 | U64: =S64-T64 -> -115 | V64: =T64*100/S64 -> #DIV/0! | W64: 0 | X64: =Узкие!$I$232 -> 0 | Y64: =W64-X64 -> 0 | Z64: =X64*100/W64 -> #DIV/0!
A65: 6 | B65: Салихова Елена Клавдиевна | C65: 0 | D65: =Узкие!$I$249 -> 14 | E65: =C65-D65 -> -14 | F65: =D65*100/C65 -> #DIV/0! | G65: 62 | H65: =Узкие!$I$253 -> 68 | I65: =G65-H65 -> -6 | J65: =H65*100/G65 -> 109.67742 | K65: 9 | L65: =Узкие!$I$251 -> 10 | M65: =K65-L65 -> -1 | N65: =L65*100/K65 -> 111.11111 | S65: 0 | T65: =Узкие!$I$255 -> 28 | U65: =S65-T65 -> -28 | V65: =T65*100/S65 -> #DIV/0! | W65: 0 | X65: =Узкие!$I$257 -> 0 | Y65: =W65-X65 -> 0 | Z65: =X65*100/W65 -> #DIV/0!
B66: Всего эндокринолог | C66: =SUM(C60:C65) -> 0 | D66: =SUM(D60:D65) -> 344 | E66: =C66-D66 -> -344 | F66: =D66*100/C66 -> #DIV/0! | G66: =SUM(G60:G65) -> 751 | H66: =SUM(H60:H65) -> 792 | I66: =G66-H66 -> -41 | J66: =H66*100/G66 -> 105.45939 | K66: =SUM(K60:K65) -> 73 | L66: =SUM(L60:L65) -> 78 | M66: =K66-L66 -> -5 | N66: =L66*100/K66 -> 106.84932 | S66: =SUM(S60:S65) -> 0 | T66: =SUM(T60:T65) -> 431 | U66: =S66-T66 -> -431 | V66: =T66*100/S66 -> #DIV/0! | W66: =SUM(W60:W65) -> 0 | X66: =SUM(X60:X65) -> 2 | Y66: =W66-X66 -> -2 | Z66: =X66*100/W66 -> #DIV/0!
A67: 1 | B67: Газизова Динара Даниловна | C67: 0 | D67: =Узкие!$T$126 -> 13 | E67: =C67-D67 -> -13 | F67: =D67*100/C67 -> #DIV/0! | G67: 26 | H67: =Узкие!$T$130 -> 32 | I67: =G67-H67 -> -6 | J67: =H67*100/G67 -> 123.07692 | K67: 0 | L67: =Узкие!$T$128 -> 0 | M67: =K67-L67 -> 0 | N67: =L67*100/K67 -> #DIV/0! | S67: 0 | T67: =Узкие!$T$132 -> 43 | U67: =S67-T67 -> -43 | V67: =T67*100/S67 -> #DIV/0! | W67: 0 | X67: =Узкие!$T$134 -> 0 | Y67: =W67-X67 -> 0 | Z67: =X67*100/W67 -> #DIV/0! | AB67: 99 | AC67: =Узкие!$T$126 -> 13 | AD67: =AB67-AC67 -> 86 | AE67: =AC67*100/AB67 -> 13.131313 | AF67: 3 | AG67: =Узкие!$T$130 -> 32 | AH67: =AF67-AG67 -> -29 | AI67: =AG67*100/AF67 -> 1066.6667 | AJ67: 0 | AK67: =Узкие!$T$128 -> 0 | AL67: =AJ67-AK67 -> 0 | AM67: =AK67*100/AJ67 -> #DIV/0! | AN67: 32 | AO67: =Узкие!$T$132 -> 43 | AP67: =AN67-AO67 -> -11 | AQ67: =AO67*100/AN67 -> 134.375 | AR67: 0 | AS67: =Узкие!$T$134 -> 0 | AT67: =AR67-AS67 -> 0 | AU67: =AS67*100/AR67 -> #DIV/0!
B68: Всего аллерголог | C68: =C67 -> 0 | D68: =D67 -> 13 | E68: =C68-D68 -> -13 | F68: =D68*100/C68 -> #DIV/0! | G68: =G67 -> 26 | H68: =H67 -> 32 | I68: =G68-H68 -> -6 | J68: =H68*100/G68 -> 123.07692 | K68: =K67 -> 0 | L68: =L67 -> 0 | M68: =K68-L68 -> 0 | N68: =L68*100/K68 -> #DIV/0! | S68: =S67 -> 0 | T68: =T67 -> 43 | U68: =S68-T68 -> -43 | V68: =T68*100/S68 -> #DIV/0! | W68: =W67 -> 0 | X68: =X67 -> 0 | Y68: =W68-X68 -> 0 | Z68: =X68*100/W68 -> #DIV/0! | AB68: =AB67 -> 99 | AC68: =AC67 -> 13 | AD68: =AB68-AC68 -> 86 | AE68: =AC68*100/AB68 -> 13.131313 | AF68: =AF67 -> 3 | AG68: =AG67 -> 32 | AH68: =AF68-AG68 -> -29 | AI68: =AG68*100/AF68 -> 1066.6667 | AJ68: =AJ67 -> 0 | AK68: =AK67 -> 0 | AL68: =AJ68-AK68 -> 0 | AM68: =AK68*100/AJ68 -> #DIV/0! | AN68: =AN67 -> 32 | AO68: =AO67 -> 43 | AP68: =AN68-AO68 -> -11 | AQ68: =AO68*100/AN68 -> 134.375 | AR68: =AR67 -> 0 | AS68: =AS67 -> 0 | AT68: =AR68-AS68 -> 0 | AU68: =AS68*100/AR68 -> #DIV/0!
A69: 1 | B69: Абдеева Венера Марсовна 0,25 | C69: 60 | D69: =Узкие!$AE$153 -> 0 | E69: =C69-D69 -> 60 | F69: =D69*100/C69 -> 0 | I69: =G69-H69 -> 0 | J69: =H69*100/G69 -> #DIV/0! | M69: =K69-L69 -> 0 | N69: =L69*100/K69 -> #DIV/0! | S69: 0 | T69: =Узкие!$AE$155 -> 0 | U69: =S69-T69 -> 0 | V69: =T69*100/S69 -> #DIV/0! | W69: 0 | X69: =Узкие!$AE$157 -> 0 | Y69: =W69-X69 -> 0 | Z69: =X69*100/W69 -> #DIV/0! | AB69: 4 | AC69: =Узкие!$AE$153 -> 0 | AD69: =AB69-AC69 -> 4 | AE69: =AC69*100/AB69 -> 0 | AH69: =AF69-AG69 -> 0 | AI69: =AG69*100/AF69 -> #DIV/0! | AL69: =AJ69-AK69 -> 0 | AM69: =AK69*100/AJ69 -> #DIV/0! | AN69: 4 | AO69: =Узкие!$AE$155 -> 0 | AP69: =AN69-AO69 -> 4 | AQ69: =AO69*100/AN69 -> 0 | AR69: 0 | AS69: =Узкие!$AE$157 -> 0 | AT69: =AR69-AS69 -> 0 | AU69: =AS69*100/AR69 -> #DIV/0!
A70: 1 | AC70: =Узкие!#REF! -> #REF! | AD70: =AB70-AC70 -> #REF! | AE70: =AC70*100/AB70 -> #REF! | AH70: =AF70-AG70 -> 0 | AI70: =AG70*100/AF70 -> #DIV/0! | AL70: =AJ70-AK70 -> 0 | AM70: =AK70*100/AJ70 -> #DIV/0! | AO70: =Узкие!#REF! -> #REF! | AP70: =AN70-AO70 -> #REF! | AQ70: =AO70*100/AN70 -> #REF! | AR70: 0 | AS70: =Узкие!#REF! -> #REF! | AT70: =AR70-AS70 -> #REF! | AU70: =AS70*100/AR70 -> #REF!
B71: Всего нефролог | C71: =SUM(C69:C70) -> 60 | D71: =SUM(D69:D70) -> 0 | E71: =C71-D71 -> 60 | F71: =D71*100/C71 -> 0 | G71: =SUM(G69:G70) -> 0 | H71: =SUM(H69:H70) -> 0 | I71: =G71-H71 -> 0 | J71: =I71/G71*100 -> #DIV/0! | K71: =SUM(K69:K70) -> 0 | L71: =SUM(L69:L70) -> 0 | M71: =K71-L71 -> 0 | N71: =M71/K71*100 -> #DIV/0! | S71: =SUM(S69:S70) -> 0 | T71: =SUM(T69:T70) -> 0 | U71: =S71-T71 -> 0 | V71: =T71*100/S71 -> #DIV/0! | W71: =SUM(W69:W70) -> 0 | X71: =SUM(X69:X70) -> 0 | Y71: =W71-X71 -> 0 | Z71: =Y71/W71*100 -> #DIV/0! | AB71: =SUM(AB69:AB70) -> 4 | AC71: =SUM(AC69:AC70) -> #REF! | AD71: =AB71-AC71 -> #REF! | AE71: =AD71/AB71*100 -> #REF! | AF71: =SUM(AF69:AF70) -> 0 | AG71: =SUM(AG69:AG70) -> 0 | AH71: =AF71-AG71 -> 0 | AI71: =AH71/AF71*100 -> #DIV/0! | AJ71: =SUM(AJ69:AJ70) -> 0 | AK71: =SUM(AK69:AK70) -> 0 | AL71: =AJ71-AK71 -> 0 | AM71: =AL71/AJ71*100 -> #DIV/0! | AN71: =SUM(AN69:AN70) -> 4 | AO71: =SUM(AO69:AO70) -> #REF! | AP71: =AN71-AO71 -> #REF! | AQ71: =AP71/AN71*100 -> #REF! | AR71: =SUM(AR69:AR70) -> 0 | AS71: =SUM(AS69:AS70) -> #REF! | AT71: =AR71-AS71 -> #REF! | AU71: =AT71/AR71*100 -> #REF!
A72: 1 | B72: Стовба Татьяна Сергеевна 0,25 | C72: 0 | D72: =Узкие!$T$141 -> 7 | E72: =C72-D72 -> -7 | F72: =D72*100/C72 -> #DIV/0! | G72: 18 | H72: =Узкие!$T$145 -> 0 | I72: =G72-H72 -> 18 | J72: =H72*100/G72 -> 0 | K72: 0 | L72: =Узкие!$T$143 -> 0 | M72: =K72-L72 -> 0 | N72: =L72*100/K72 -> #DIV/0! | S72: 0 | T72: =Узкие!$T$147 -> 14 | U72: =S72-T72 -> -14 | V72: =T72*100/S72 -> #DIV/0! | W72: 0 | X72: =Узкие!$T$149 -> 0 | Y72: =W72-X72 -> 0 | Z72: =X72*100/W72 -> #DIV/0! | AB72: 7 | AC72: =Узкие!$T$141 -> 7 | AD72: =AB72-AC72 -> 0 | AE72: =AC72*100/AB72 -> 100 | AF72: 41 | AG72: =Узкие!$T$145 -> 0 | AH72: =AF72-AG72 -> 41 | AI72: =AG72*100/AF72 -> 0 | AJ72: 0 | AK72: =Узкие!$T$143 -> 0 | AL72: =AJ72-AK72 -> 0 | AM72: =AK72*100/AJ72 -> #DIV/0! | AN72: 148 | AO72: =Узкие!$T$147 -> 14 | AP72: =AN72-AO72 -> 134 | AQ72: =AO72*100/AN72 -> 9.4594595 | AR72: 0 | AS72: =Узкие!$T$149 -> 0 | AT72: =AR72-AS72 -> 0 | AU72: =AS72*100/AR72 -> #DIV/0!
A73: 2 | B73: Хабибуллина Гульназ Галиевна 0,5 | C73: 0 | D73: =Узкие!$T$154 -> 10 | E73: =C73-D73 -> -10 | F73: =D73*100/C73 -> #DIV/0! | G73: 10 | H73: =Узкие!$T$158 -> 11 | I73: =G73-H73 -> -1 | J73: =H73*100/G73 -> 110 | K73: 0 | L73: =Узкие!$T$156 -> 0 | M73: =K73-L73 -> 0 | N73: =L73*100/K73 -> #DIV/0! | S73: 0 | T73: =Узкие!$T$160 -> 18 | U73: =S73-T73 -> -18 | V73: =T73*100/S73 -> #DIV/0! | W73: 0 | X73: =Узкие!$T$162 -> 0 | Y73: =W73-X73 -> 0 | Z73: =X73*100/W73 -> #DIV/0! | AB73: 7 | AC73: =Узкие!$T$154 -> 10 | AD73: =AB73-AC73 -> -3 | AE73: =AC73*100/AB73 -> 142.85714 | AF73: 3 | AG73: =Узкие!$T$158 -> 11 | AH73: =AF73-AG73 -> -8 | AI73: =AG73*100/AF73 -> 366.66667 | AJ73: 0 | AK73: =Узкие!$T$156 -> 0 | AL73: =AJ73-AK73 -> 0 | AM73: =AK73*100/AJ73 -> #DIV/0! | AN73: 10 | AO73: =Узкие!$T$160 -> 18 | AP73: =AN73-AO73 -> -8 | AQ73: =AO73*100/AN73 -> 180 | AR73: 0 | AS73: =Узкие!$T$162 -> 0 | AT73: =AR73-AS73 -> 0 | AU73: =AS73*100/AR73 -> #DIV/0!
B74: Всего ревматолог | C74: =SUM(C72:C73) -> 0 | D74: =SUM(D72:D73) -> 17 | E74: =C74-D74 -> -17 | F74: =D74*100/C74 -> #DIV/0! | G74: =SUM(G72:G73) -> 28 | H74: =SUM(H72:H73) -> 11 | I74: =G74-H74 -> 17 | J74: =H74*100/G74 -> 39.285714 | K74: =SUM(K72:K73) -> 0 | L74: =SUM(L72:L73) -> 0 | M74: =K74-L74 -> 0 | N74: =L74*100/K74 -> #DIV/0! | S74: =SUM(S72:S73) -> 0 | T74: =SUM(T72:T73) -> 32 | U74: =S74-T74 -> -32 | V74: =T74*100/S74 -> #DIV/0! | W74: =SUM(W72:W73) -> 0 | X74: =SUM(X72:X73) -> 0 | Y74: =W74-X74 -> 0 | Z74: =X74*100/W74 -> #DIV/0! | AB74: =SUM(AB72:AB73) -> 14 | AC74: =SUM(AC72:AC73) -> 17 | AD74: =AB74-AC74 -> -3 | AE74: =AC74*100/AB74 -> 121.42857 | AF74: =SUM(AF72:AF73) -> 44 | AG74: =SUM(AG72:AG73) -> 11 | AH74: =AF74-AG74 -> 33 | AI74: =AG74*100/AF74 -> 25 | AJ74: =SUM(AJ72:AJ73) -> 0 | AK74: =SUM(AK72:AK73) -> 0 | AL74: =AJ74-AK74 -> 0 | AM74: =AK74*100/AJ74 -> #DIV/0! | AN74: =SUM(AN72:AN73) -> 158 | AO74: =SUM(AO72:AO73) -> 32 | AP74: =AN74-AO74 -> 126 | AQ74: =AO74*100/AN74 -> 20.253165 | AR74: =SUM(AR72:AR73) -> 0 | AS74: =SUM(AS72:AS73) -> 0 | AT74: =AR74-AS74 -> 0 | AU74: =AS74*100/AR74 -> #DIV/0!
A75: 1 | B75: Хисамова Вероника Айратовна | C75: 0 | D75: =Узкие!$AE$73 -> 20 | E75: =C75-D75 -> -20 | F75: =D75*100/C75 -> #DIV/0! | G75: 13 | H75: =Узкие!$AE$79 -> 8 | I75: =G75-H75 -> 5 | J75: =H75*100/G75 -> 61.538462 | K75: 0 | L75: =Узкие!$AE$77 -> 0 | M75: =K75-L75 -> 0 | N75: =L75*100/K75 -> #DIV/0! | S75: 0 | T75: =Узкие!$AE$75 -> 36 | U75: =S75-T75 -> -36 | V75: =T75*100/S75 -> #DIV/0! | AB75: 180 | AC75: =Узкие!#REF! -> #REF! | AD75: =AB75-AC75 -> #REF! | AE75: =AC75*100/AB75 -> #REF! | AF75: 0 | AG75: =Узкие!#REF! -> #REF! | AH75: =AF75-AG75 -> #REF! | AI75: =AG75*100/AF75 -> #REF! | AJ75: 0 | AK75: =Узкие!#REF! -> #REF! | AL75: =AJ75-AK75 -> #REF! | AM75: =AK75*100/AJ75 -> #REF! | AN75: 196 | AO75: =Узкие!#REF! -> #REF! | AP75: =AN75-AO75 -> #REF! | AQ75: =AO75*100/AN75 -> #REF!
A76: 2 | AB76: 0 | AC76: =Узкие!#REF! -> #REF! | AD76: =AB76-AC76 -> #REF! | AE76: =AC76*100/AB76 -> #REF! | AF76: 0 | AG76: =Узкие!#REF! -> #REF! | AH76: =AF76-AG76 -> #REF! | AI76: =AG76*100/AF76 -> #REF! | AJ76: 0 | AK76: =Узкие!#REF! -> #REF! | AL76: =AJ76-AK76 -> #REF! | AM76: =AK76*100/AJ76 -> #REF! | AN76: 0 | AO76: =Узкие!#REF! -> #REF! | AP76: =AN76-AO76 -> #REF! | AQ76: =AO76*100/AN76 -> #REF!
B77: Всего пульмонолог | C77: =SUM(C75:C76) -> 0 | D77: =SUM(D75:D76) -> 20 | E77: =C77-D77 -> -20 | F77: =D77*100/C77 -> #DIV/0! | G77: =SUM(G75:G76) -> 13 | H77: =SUM(H75:H76) -> 8 | I77: =G77-H77 -> 5 | J77: =H77*100/G77 -> 61.538462 | K77: =SUM(K75:K76) -> 0 | L77: =SUM(L75:L76) -> 0 | M77: =K77-L77 -> 0 | N77: =L77*100/K77 -> #DIV/0! | S77: =SUM(S75:S76) -> 0 | T77: =SUM(T75:T76) -> 36 | U77: =S77-T77 -> -36 | V77: =T77*100/S77 -> #DIV/0! | AB77: =SUM(AB75:AB76) -> 180 | AC77: =SUM(AC75:AC76) -> #REF! | AD77: =AB77-AC77 -> #REF! | AE77: =AC77*100/AB77 -> #REF! | AF77: =SUM(AF75:AF76) -> 0 | AG77: =SUM(AG75:AG76) -> #REF! | AH77: =AF77-AG77 -> #REF! | AI77: =AG77*100/AF77 -> #REF! | AJ77: =SUM(AJ75:AJ76) -> 0 | AK77: =SUM(AK75:AK76) -> #REF! | AL77: =AJ77-AK77 -> #REF! | AM77: =AK77*100/AJ77 -> #REF! | AN77: =SUM(AN75:AN76) -> 196 | AO77: =SUM(AO75:AO76) -> #REF! | AP77: =AN77-AO77 -> #REF! | AQ77: =AO77*100/AN77 -> #REF!
A78: 1 | B78: Сотирова Анжела Сосовна | C78: 0 | D78: =Узкие!$T$169 -> 107 | E78: =C78-D78 -> -107 | F78: =D78*100/C78 -> #DIV/0! | G78: 55 | H78: =Узкие!$T$173 -> 51 | I78: =G78-H78 -> 4 | J78: =H78*100/G78 -> 92.727273 | K78: 0 | L78: =Узкие!$T$171 -> 0 | M78: =K78-L78 -> 0 | N78: =L78*100/K78 -> #DIV/0! | S78: 0 | T78: =Узкие!$T$175 -> 2 | U78: =S78-T78 -> -2 | V78: =T78*100/S78 -> #DIV/0! | W78: 0 | X78: =Узкие!$T$177 -> 0 | Y78: =W78-X78 -> 0 | Z78: =X78*100/W78 -> #DIV/0! | AB78: 25 | AC78: =Узкие!$T$169 -> 107 | AD78: =AB78-AC78 -> -82 | AE78: =AC78*100/AB78 -> 428 | AF78: 23 | AG78: =Узкие!$T$173 -> 51 | AH78: =AF78-AG78 -> -28 | AI78: =AG78*100/AF78 -> 221.73913 | AJ78: 0 | AK78: =Узкие!$T$171 -> 0 | AL78: =AJ78-AK78 -> 0 | AM78: =AK78*100/AJ78 -> #DIV/0! | AN78: 72 | AO78: =Узкие!$T$175 -> 2 | AP78: =AN78-AO78 -> 70 | AQ78: =AO78*100/AN78 -> 2.7777778 | AR78: 1 | AS78: =Узкие!$T$177 -> 0 | AT78: =AR78-AS78 -> 1 | AU78: =AS78*100/AR78 -> 0
A79: 2 | B79: Ионова Светлана Ивановна | C79: 0 | D79: =Узкие!$T$182 -> 73 | E79: =C79-D79 -> -73 | F79: =D79*100/C79 -> #DIV/0! | G79: 74 | H79: =Узкие!$T$186 -> 73 | I79: =G79-H79 -> 1 | J79: =H79*100/G79 -> 98.648649 | K79: 0 | L79: =Узкие!$T$184 -> 0 | M79: =K79-L79 -> 0 | N79: =L79*100/K79 -> #DIV/0! | S79: 0 | T79: =Узкие!$T$188 -> 57 | U79: =S79-T79 -> -57 | V79: =T79*100/S79 -> #DIV/0! | W79: 0 | X79: =Узкие!$T$190 -> 0 | Y79: =W79-X79 -> 0 | Z79: =X79*100/W79 -> #DIV/0! | AB79: 77 | AC79: =Узкие!$T$182 -> 73 | AD79: =AB79-AC79 -> 4 | AE79: =AC79*100/AB79 -> 94.805195 | AF79: 19 | AG79: =Узкие!$T$186 -> 73 | AH79: =AF79-AG79 -> -54 | AI79: =AG79*100/AF79 -> 384.21053 | AJ79: 0 | AK79: =Узкие!$T$184 -> 0 | AL79: =AJ79-AK79 -> 0 | AM79: =AK79*100/AJ79 -> #DIV/0! | AN79: 123 | AO79: =Узкие!$T$188 -> 57 | AP79: =AN79-AO79 -> 66 | AQ79: =AO79*100/AN79 -> 46.341463 | AR79: 3 | AS79: =Узкие!$T$190 -> 0 | AT79: =AR79-AS79 -> 3 | AU79: =AS79*100/AR79 -> 0
A80: 3 | B80: Зайнуллина Гульфия Исламовна | C80: 0 | D80: =Узкие!$T$195 -> 58 | E80: =C80-D80 -> -58 | F80: =D80*100/C80 -> #DIV/0! | G80: 40 | H80: =Узкие!$T$199 -> 44 | I80: =G80-H80 -> -4 | J80: =H80*100/G80 -> 110 | K80: 0 | L80: =Узкие!$T$197 -> 0 | M80: =K80-L80 -> 0 | N80: =L80*100/K80 -> #DIV/0! | S80: 0 | T80: =Узкие!$T$201 -> 22 | U80: =S80-T80 -> -22 | V80: =T80*100/S80 -> #DIV/0! | W80: 0 | X80: =Узкие!$T$203 -> 0 | Y80: =W80-X80 -> 0 | Z80: =X80*100/W80 -> #DIV/0! | AB80: 25 | AC80: =Узкие!$T$195 -> 58 | AD80: =AB80-AC80 -> -33 | AE80: =AC80*100/AB80 -> 232 | AF80: 3 | AG80: =Узкие!$T$199 -> 44 | AH80: =AF80-AG80 -> -41 | AI80: =AG80*100/AF80 -> 1466.6667 | AJ80: 0 | AK80: =Узкие!$T$197 -> 0 | AL80: =AJ80-AK80 -> 0 | AM80: =AK80*100/AJ80 -> #DIV/0! | AN80: 31 | AO80: =Узкие!$T$201 -> 22 | AP80: =AN80-AO80 -> 9 | AQ80: =AO80*100/AN80 -> 70.967742 | AR80: 1 | AS80: =Узкие!$T$203 -> 0 | AT80: =AR80-AS80 -> 1 | AU80: =AS80*100/AR80 -> 0
B81: Всего гастроэнтеролог | C81: =SUM(C78:C80) -> 0 | D81: =SUM(D78:D80) -> 238 | E81: =C81-D81 -> -238 | F81: =D81*100/C81 -> #DIV/0! | G81: =SUM(G78:G80) -> 169 | H81: =SUM(H78:H80) -> 168 | I81: =G81-H81 -> 1 | J81: =H81*100/G81 -> 99.408284 | K81: =SUM(K78:K80) -> 0 | L81: =SUM(L78:L80) -> 0 | M81: =K81-L81 -> 0 | N81: =L81*100/K81 -> #DIV/0! | S81: =SUM(S78:S80) -> 0 | T81: =SUM(T78:T80) -> 81 | U81: =S81-T81 -> -81 | V81: =T81*100/S81 -> #DIV/0! | W81: =SUM(W78:W80) -> 0 | X81: =SUM(X78:X80) -> 0 | Y81: =W81-X81 -> 0 | Z81: =X81*100/W81 -> #DIV/0! | AB81: =SUM(AB78:AB80) -> 127 | AC81: =SUM(AC78:AC80) -> 238 | AD81: =AB81-AC81 -> -111 | AE81: =AC81*100/AB81 -> 187.40157 | AF81: =SUM(AF78:AF80) -> 45 | AG81: =SUM(AG78:AG80) -> 168 | AH81: =AF81-AG81 -> -123 | AI81: =AG81*100/AF81 -> 373.33333 | AJ81: =SUM(AJ78:AJ80) -> 0 | AK81: =SUM(AK78:AK80) -> 0 | AL81: =AJ81-AK81 -> 0 | AM81: =AK81*100/AJ81 -> #DIV/0! | AN81: =SUM(AN78:AN80) -> 226 | AO81: =SUM(AO78:AO80) -> 81 | AP81: =AN81-AO81 -> 145 | AQ81: =AO81*100/AN81 -> 35.840708 | AR81: =SUM(AR78:AR80) -> 5 | AS81: =SUM(AS78:AS80) -> 0 | AT81: =AR81-AS81 -> 5 | AU81: =AS81*100/AR81 -> 0
A82: 1 | B82: Попова Дилара Раулевна | C82: 0 | D82: =Узкие!$AE$86 -> 85 | E82: =C82-D82 -> -85 | F82: =D82*100/C82 -> #DIV/0! | G82: 93 | H82: =Узкие!$AE$90 -> 94 | I82: =G82-H82 -> -1 | J82: =H82*100/G82 -> 101.07527 | K82: 13 | L82: =Узкие!$AE$88 -> 13 | M82: =K82-L82 -> 0 | N82: =L82*100/K82 -> 100 | S82: 0 | T82: =Узкие!$AE$92 -> 271 | U82: =S82-T82 -> -271 | V82: =T82*100/S82 -> #DIV/0! | W82: 0 | X82: =Узкие!$AE$94 -> 31 | Y82: =W82-X82 -> -31 | Z82: =X82*100/W82 -> #DIV/0! | AB82: 35 | AC82: =Узкие!$AE$86 -> 85 | AD82: =AB82-AC82 -> -50 | AE82: =AC82*100/AB82 -> 242.85714 | AF82: 1 | AG82: =Узкие!$AE$90 -> 94 | AH82: =AF82-AG82 -> -93 | AI82: =AG82*100/AF82 -> 9400 | AJ82: 1 | AK82: =Узкие!$AE$88 -> 13 | AL82: =AJ82-AK82 -> -12 | AM82: =AK82*100/AJ82 -> 1300 | AN82: 37 | AO82: =Узкие!$AE$92 -> 271 | AP82: =AN82-AO82 -> -234 | AQ82: =AO82*100/AN82 -> 732.43243 | AR82: 1 | AS82: =Узкие!$AE$94 -> 31 | AT82: =AR82-AS82 -> -30 | AU82: =AS82*100/AR82 -> 3100
A83: 2 | B83: Ибрагимова Ирина Валерьевна | C83: 0 | D83: =Узкие!$AE$99 -> 114 | E83: =C83-D83 -> -114 | F83: =D83*100/C83 -> #DIV/0! | G83: 67 | H83: =Узкие!$AE$103 -> 73 | I83: =G83-H83 -> -6 | J83: =H83*100/G83 -> 108.95522 | K83: 8 | L83: =Узкие!$AE$101 -> 14 | M83: =K83-L83 -> -6 | N83: =L83*100/K83 -> 175 | S83: 0 | T83: =Узкие!$AE$105 -> 90 | U83: =S83-T83 -> -90 | V83: =T83*100/S83 -> #DIV/0! | W83: 0 | X83: =Узкие!$AE$107 -> 4 | Y83: =W83-X83 -> -4 | Z83: =X83*100/W83 -> #DIV/0! | AB83: 88 | AC83: =Узкие!$AE$99 -> 114 | AD83: =AB83-AC83 -> -26 | AE83: =AC83*100/AB83 -> 129.54545 | AF83: 1 | AG83: =Узкие!$AE$103 -> 73 | AH83: =AF83-AG83 -> -72 | AI83: =AG83*100/AF83 -> 7300 | AJ83: 3 | AK83: =Узкие!$AE$101 -> 14 | AL83: =AJ83-AK83 -> -11 | AM83: =AK83*100/AJ83 -> 466.66667 | AN83: 353 | AO83: =Узкие!$AE$105 -> 90 | AP83: =AN83-AO83 -> 263 | AQ83: =AO83*100/AN83 -> 25.495751 | AR83: 1 | AS83: =Узкие!$AE$107 -> 4 | AT83: =AR83-AS83 -> -3 | AU83: =AS83*100/AR83 -> 400
A84: 3 | B84: Труханова Екатерина Алексеевна | C84: 0 | D84: =Узкие!$AE$112 -> 133 | E84: =C84-D84 -> -133 | F84: =D84*100/C84 -> #DIV/0! | G84: 186 | H84: =Узкие!$AE$116 -> 41 | I84: =G84-H84 -> 145 | J84: =H84*100/G84 -> 22.043011 | K84: 18 | L84: =Узкие!$AE$114 -> 7 | M84: =K84-L84 -> 11 | N84: =L84*100/K84 -> 38.888889 | S84: 0 | T84: =Узкие!$AE$118 -> 6 | U84: =S84-T84 -> -6 | V84: =T84*100/S84 -> #DIV/0! | W84: 0 | X84: =Узкие!$AE$120 -> 8 | Y84: =W84-X84 -> -8 | Z84: =X84*100/W84 -> #DIV/0! | AB84: 71 | AC84: =Узкие!$AE$112 -> 133 | AD84: =AB84-AC84 -> -62 | AE84: =AC84*100/AB84 -> 187.32394 | AF84: 8 | AG84: =Узкие!$AE$116 -> 41 | AH84: =AF84-AG84 -> -33 | AI84: =AG84*100/AF84 -> 512.5 | AJ84: 23 | AK84: =Узкие!$AE$114 -> 7 | AL84: =AJ84-AK84 -> 16 | AM84: =AK84*100/AJ84 -> 30.434783 | AN84: 180 | AO84: =Узкие!$AE$118 -> 6 | AP84: =AN84-AO84 -> 174 | AQ84: =AO84*100/AN84 -> 3.3333333 | AR84: 1 | AS84: =Узкие!$AE$120 -> 8 | AT84: =AR84-AS84 -> -7 | AU84: =AS84*100/AR84 -> 800
A85: 4 | C85: 0 | D85: =Узкие!$AE$125 -> 0 | E85: =C85-D85 -> 0 | F85: =D85*100/C85 -> #DIV/0! | G85: 0 | H85: =Узкие!$AE$129 -> 0 | I85: =G85-H85 -> 0 | J85: =H85*100/G85 -> #DIV/0! | K85: 0 | L85: =Узкие!$AE$127 -> 0 | M85: =K85-L85 -> 0 | N85: =L85*100/K85 -> #DIV/0! | S85: 0 | T85: =Узкие!$AE$131 -> 0 | U85: =S85-T85 -> 0 | V85: =T85*100/S85 -> #DIV/0! | W85: 0 | X85: =Узкие!$AE$133 -> 0 | Y85: =W85-X85 -> 0 | Z85: =X85*100/W85 -> #DIV/0! | AB85: 440 | AC85: =Узкие!$AE$125 -> 0 | AD85: =AB85-AC85 -> 440 | AE85: =AC85*100/AB85 -> 0 | AF85: 1 | AG85: =Узкие!$AE$129 -> 0 | AH85: =AF85-AG85 -> 1 | AI85: =AG85*100/AF85 -> 0 | AJ85: 4 | AK85: =Узкие!$AE$127 -> 0 | AL85: =AJ85-AK85 -> 4 | AM85: =AK85*100/AJ85 -> 0 | AN85: 426 | AO85: =Узкие!$AE$131 -> 0 | AP85: =AN85-AO85 -> 426 | AQ85: =AO85*100/AN85 -> 0 | AR85: 1 | AS85: =Узкие!$AE$133 -> 0 | AT85: =AR85-AS85 -> 1 | AU85: =AS85*100/AR85 -> 0
B86: Всего дерматолог | C86: =SUM(C82:C85) -> 0 | D86: =SUM(D82:D85) -> 332 | E86: =C86-D86 -> -332 | F86: =D86*100/C86 -> #DIV/0! | G86: =SUM(G82:G85) -> 346 | H86: =SUM(H82:H85) -> 208 | I86: =G86-H86 -> 138 | J86: =H86*100/G86 -> 60.115607 | K86: =SUM(K82:K85) -> 39 | L86: =SUM(L82:L85) -> 34 | M86: =K86-L86 -> 5 | N86: =L86*100/K86 -> 87.179487 | S86: =SUM(S82:S85) -> 0 | T86: =SUM(T82:T85) -> 367 | U86: =S86-T86 -> -367 | V86: =T86*100/S86 -> #DIV/0! | W86: =SUM(W82:W85) -> 0 | X86: =SUM(X82:X85) -> 43 | Y86: =W86-X86 -> -43 | Z86: =X86*100/W86 -> #DIV/0! | AB86: =SUM(AB82:AB85) -> 634 | AC86: =SUM(AC82:AC85) -> 332 | AD86: =AB86-AC86 -> 302 | AE86: =AC86*100/AB86 -> 52.365931 | AF86: =SUM(AF82:AF85) -> 11 | AG86: =SUM(AG82:AG85) -> 208 | AH86: =AF86-AG86 -> -197 | AI86: =AG86*100/AF86 -> 1890.9091 | AJ86: =SUM(AJ82:AJ85) -> 31 | AK86: =SUM(AK82:AK85) -> 34 | AL86: =AJ86-AK86 -> -3 | AM86: =AK86*100/AJ86 -> 109.67742 | AN86: =SUM(AN82:AN85) -> 996 | AO86: =SUM(AO82:AO85) -> 367 | AP86: =AN86-AO86 -> 629 | AQ86: =AO86*100/AN86 -> 36.84739 | AR86: =SUM(AR82:AR85) -> 4 | AS86: =SUM(AS82:AS85) -> 43 | AT86: =AR86-AS86 -> -39 | AU86: =AS86*100/AR86 -> 1075
A87: 1 | B87: Ясыбаева Ляйля Мунировна | C87: 53 | D87: =Узкие!$I$264 -> 9 | E87: =C87-D87 -> 44 | F87: =D87*100/C87 -> 16.981132 | G87: 0 | H87: =Узкие!$I$270 -> 6 | I87: =G87-H87 -> -6 | J87: =H87*100/G87 -> #DIV/0! | K87: 0 | L87: =Узкие!$I$266 -> 0 | M87: =K87-L87 -> 0 | N87: =L87*100/K87 -> #DIV/0! | S87: 0 | T87: =Узкие!$I$268 -> 14 | U87: =S87-T87 -> -14 | V87: =T87*100/S87 -> #DIV/0! | AB87: 9 | AC87: =Узкие!$I$264 -> 9 | AD87: =AB87-AC87 -> 0 | AE87: =AC87*100/AB87 -> 100 | AF87: 2 | AG87: =Узкие!$I$270 -> 6 | AH87: =AF87-AG87 -> -4 | AI87: =AG87*100/AF87 -> 300 | AJ87: 0 | AK87: =Узкие!$I$266 -> 0 | AL87: =AJ87-AK87 -> 0 | AM87: =AK87*100/AJ87 -> #DIV/0! | AN87: 9 | AO87: =Узкие!$I$268 -> 14 | AP87: =AN87-AO87 -> -5 | AQ87: =AO87*100/AN87 -> 155.55556
B88: Всего гематолог | C88: =C87 -> 53 | D88: =D87 -> 9 | E88: =C88-D88 -> 44 | F88: =D88*100/C88 -> 16.981132 | G88: =G87 -> 0 | H88: =H87 -> 6 | I88: =G88-H88 -> -6 | J88: =H88*100/G88 -> #DIV/0! | K88: =K87 -> 0 | L88: =L87 -> 0 | M88: =K88-L88 -> 0 | N88: =L88*100/K88 -> #DIV/0! | S88: =S87 -> 0 | T88: =T87 -> 14 | U88: =S88-T88 -> -14 | V88: =T88*100/S88 -> #DIV/0! | Y88: =W88-X88 -> 0 | AB88: =AB87 -> 9 | AC88: =AC87 -> 9 | AD88: =AB88-AC88 -> 0 | AE88: =AC88*100/AB88 -> 100 | AF88: =AF87 -> 2 | AG88: =AG87 -> 6 | AH88: =AF88-AG88 -> -4 | AI88: =AG88*100/AF88 -> 300 | AJ88: =AJ87 -> 0 | AK88: =AK87 -> 0 | AL88: =AJ88-AK88 -> 0 | AM88: =AK88*100/AJ88 -> #DIV/0! | AN88: =AN87 -> 9 | AO88: =AO87 -> 14 | AP88: =AN88-AO88 -> -5 | AQ88: =AO88*100/AN88 -> 155.55556 | AT88: =AR88-AS88 -> 0
A89: 1 | B89: Ртищева Екатерина Сергеевна | C89: 0 | D89: =Узкие!$I$277 -> 0 | E89: =C89-D89 -> 0 | F89: =D89*100/C89 -> #DIV/0! | G89: 195 | H89: =Узкие!$I$285 -> 0 | I89: =G89-H89 -> 195 | J89: =H89*100/G89 -> 0 | K89: 26 | L89: =Узкие!$I$279 -> 1 | M89: =K89-L89 -> 25 | N89: =L89*100/K89 -> 3.8461538 | S89: 0 | T89: =Узкие!$I$281 -> 5 | U89: =S89-T89 -> -5 | V89: =T89*100/S89 -> #DIV/0! | W89: 0 | X89: =Узкие!$I$283 -> 0 | Y89: =W89-X89 -> 0 | Z89: =X89*100/W89 -> #DIV/0! | AB89: 22 | AC89: =Узкие!$I$277 -> 0 | AD89: =AB89-AC89 -> 22 | AE89: =AC89*100/AB89 -> 0 | AF89: 0 | AG89: =Узкие!$I$285 -> 0 | AH89: =AF89-AG89 -> 0 | AI89: =AG89*100/AF89 -> #DIV/0! | AJ89: 10 | AK89: =Узкие!$I$279 -> 1 | AL89: =AJ89-AK89 -> 9 | AM89: =AK89*100/AJ89 -> 10 | AN89: 1 | AO89: =Узкие!$I$281 -> 5 | AP89: =AN89-AO89 -> -4 | AQ89: =AO89*100/AN89 -> 500 | AR89: 1 | AS89: =Узкие!$I$283 -> 0 | AT89: =AR89-AS89 -> 1 | AU89: =AS89*100/AR89 -> 0
A90: 2 | B90: БИГВАВА Кристина Андреевна | C90: 0 | D90: =Узкие!$I$290 -> 11 | E90: =C90-D90 -> -11 | F90: =D90*100/C90 -> #DIV/0! | G90: 0 | H90: =Узкие!$I$298 -> 0 | I90: =G90-H90 -> 0 | J90: =H90*100/G90 -> #DIV/0! | K90: 0 | L90: =Узкие!$I$292 -> 0 | M90: =K90-L90 -> 0 | N90: =L90*100/K90 -> #DIV/0! | S90: 0 | T90: =Узкие!$I$294 -> 14 | U90: =S90-T90 -> -14 | V90: =T90*100/S90 -> #DIV/0! | W90: 0 | X90: =Узкие!$I$296 -> 0 | Y90: =W90-X90 -> 0 | Z90: =X90*100/W90 -> #DIV/0! | AB90: 52 | AC90: =Узкие!$I$290 -> 11 | AD90: =AB90-AC90 -> 41 | AE90: =AC90*100/AB90 -> 21.153846 | AF90: 0 | AG90: =Узкие!#REF! -> #REF! | AH90: =AF90-AG90 -> #REF! | AI90: =AG90*100/AF90 -> #REF! | AJ90: 8 | AK90: =Узкие!$I$292 -> 0 | AL90: =AJ90-AK90 -> 8 | AM90: =AK90*100/AJ90 -> 0 | AN90: 93 | AO90: =Узкие!$I$294 -> 14 | AP90: =AN90-AO90 -> 79 | AQ90: =AO90*100/AN90 -> 15.053763 | AR90: 2 | AS90: =Узкие!$I$296 -> 0 | AT90: =AR90-AS90 -> 2 | AU90: =AS90*100/AR90 -> 0
B91: Всего инфекционист | C91: =SUM(C89:C90) -> 0 | D91: =SUM(D89:D90) -> 11 | E91: =C91-D91 -> -11 | F91: =D91*100/C91 -> #DIV/0! | G91: =SUM(G89:G90) -> 195 | H91: =SUM(H89:H90) -> 0 | I91: =G91-H91 -> 195 | J91: =H91*100/G91 -> 0 | K91: =SUM(K89:K90) -> 26 | L91: =SUM(L89:L90) -> 1 | M91: =K91-L91 -> 25 | N91: =L91*100/K91 -> 3.8461538 | S91: =SUM(S89:S90) -> 0 | T91: =SUM(T89:T90) -> 19 | U91: =S91-T91 -> -19 | V91: =T91*100/S91 -> #DIV/0! | W91: =SUM(W89:W90) -> 0 | X91: =SUM(X89:X90) -> 0 | Y91: =W91-X91 -> 0 | Z91: =X91*100/W91 -> #DIV/0! | AB91: =SUM(AB89:AB90) -> 74 | AC91: =SUM(AC89:AC90) -> 11 | AD91: =AB91-AC91 -> 63 | AE91: =AC91*100/AB91 -> 14.864865 | AF91: =SUM(AF89:AF90) -> 0 | AG91: =SUM(AG89:AG90) -> #REF! | AH91: =AF91-AG91 -> #REF! | AI91: =AG91*100/AF91 -> #REF! | AJ91: =SUM(AJ89:AJ90) -> 18 | AK91: =SUM(AK89:AK90) -> 1 | AL91: =AJ91-AK91 -> 17 | AM91: =AK91*100/AJ91 -> 5.5555556 | AN91: =SUM(AN89:AN90) -> 94 | AO91: =SUM(AO89:AO90) -> 19 | AP91: =AN91-AO91 -> 75 | AQ91: =AO91*100/AN91 -> 20.212766 | AR91: =SUM(AR89:AR90) -> 3 | AS91: =SUM(AS89:AS90) -> 0 | AT91: =AR91-AS91 -> 3 | AU91: =AS91*100/AR91 -> 0
A92: 1 | B92: Кальсина Наталия Алексанровна | C92: 106 | D92: =Узкие!$AE$140 -> 91 | E92: =C92-D92 -> 15 | F92: =D92*100/C92 -> 85.849057
A93: 2 | B93: Нурхаметова Эльвира Валентиновна | C93: 106 | D93: =Узкие!$AE$145 -> 159 | E93: =C93-D93 -> -53 | F93: =D93*100/C93 -> 150
B94: Всего физиотерапевт | C94: =SUM(C92:C93) -> 212 | D94: =SUM(D92:D93) -> 250 | E94: =C94-D94 -> -38 | F94: =D94*100/C94 -> 117.92453
A95: 1 | B95: Александров Михаил Анатольевич | C95: 0 | D95: =Узкие!$T$246 -> 6 | E95: =C95-D95 -> -6 | F95: =D95*100/C95 -> #DIV/0! | G95: 0 | H95: =Узкие!$T$252 -> 0 | I95: =G95-H95 -> 0 | J95: =H95*100/G95 -> #DIV/0! | K95: 0 | L95: =(Узкие!$T$248)+(Узкие!$T$250) -> 61 | M95: =K95-L95 -> -61 | N95: =L95*100/K95 -> #DIV/0! | S95: 0 | T95: =Узкие!$T$254 -> 18 | U95: =S95-T95 -> -18 | V95: =T95*100/S95 -> #DIV/0! | AB95: 0 | AC95: =Узкие!#REF! -> #REF! | AD95: =AB95-AC95 -> #REF! | AE95: =AC95*100/AB95 -> #REF! | AF95: 0 | AG95: =Узкие!$T$252 -> 0 | AH95: =AF95-AG95 -> 0 | AI95: =AG95*100/AF95 -> #DIV/0! | AJ95: 0 | AK95: =Узкие!$T$248 -> 60 | AL95: =AJ95-AK95 -> -60 | AM95: =AK95*100/AJ95 -> #DIV/0!
A96: 2 | B96: Ронжин Артем Евгеньевич | C96: 68 | D96: =Узкие!$T$219 -> 98 | E96: =C96-D96 -> -30 | F96: =D96*100/C96 -> 144.11765 | G96: 0 | H96: =Узкие!$T$225 -> 0 | I96: =G96-H96 -> 0 | J96: =H96*100/G96 -> #DIV/0! | K96: 0 | L96: =(Узкие!$T$221)+(Узкие!$T$223) -> 179 | M96: =K96-L96 -> -179 | N96: =L96*100/K96 -> #DIV/0! | S96: 0 | T96: =Узкие!$T$227 -> 46 | U96: =S96-T96 -> -46 | V96: =T96*100/S96 -> #DIV/0! | AB96: 160 | AC96: =Узкие!#REF! -> #REF! | AD96: =AB96-AC96 -> #REF! | AE96: =AC96*100/AB96 -> #REF! | AF96: 0 | AG96: =Узкие!$T$225 -> 0 | AH96: =AF96-AG96 -> 0 | AI96: =AG96*100/AF96 -> #DIV/0! | AJ96: 200 | AK96: =Узкие!$T$221 -> 133 | AL96: =AJ96-AK96 -> 67 | AM96: =AK96*100/AJ96 -> 66.5
A97: 3 | B97: Ильясов Азамат Уралович | C97: 140 | D97: =Узкие!$T$259 -> 104 | E97: =C97-D97 -> 36 | F97: =D97*100/C97 -> 74.285714 | G97: 0 | H97: =Узкие!$T$265 -> 0 | I97: =G97-H97 -> 0 | J97: =H97*100/G97 -> #DIV/0! | K97: 0 | L97: =(Узкие!$T$261)+(Узкие!$T$263) -> 189 | M97: =K97-L97 -> -189 | N97: =L97*100/K97 -> #DIV/0! | S97: 0 | T97: =Узкие!$T$267 -> 39 | U97: =S97-T97 -> -39 | V97: =T97*100/S97 -> #DIV/0! | AB97: 160 | AC97: =Узкие!#REF! -> #REF! | AD97: =AB97-AC97 -> #REF! | AE97: =AC97*100/AB97 -> #REF! | AF97: 0 | AG97: =Узкие!$T$265 -> 0 | AH97: =AF97-AG97 -> 0 | AI97: =AG97*100/AF97 -> #DIV/0! | AJ97: 200 | AK97: =Узкие!$T$261 -> 120 | AL97: =AJ97-AK97 -> 80 | AM97: =AK97*100/AJ97 -> 60
A98: 5 | B98: Сиражетдинова Миляуша Гиниятовна | C98: 127 | D98: =Узкие!$T$233 -> 148 | E98: =C98-D98 -> -21 | F98: =D98*100/C98 -> 116.53543 | G98: 0 | H98: =Узкие!$T$239 -> 0 | I98: =G98-H98 -> 0 | J98: =H98*100/G98 -> #DIV/0! | K98: 0 | L98: =(Узкие!$T$235)+(Узкие!$T$237) -> 62 | M98: =K98-L98 -> -62 | N98: =L98*100/K98 -> #DIV/0! | S98: 0 | T98: =Узкие!$T$241 -> 48 | U98: =S98-T98 -> -48 | V98: =T98*100/S98 -> #DIV/0! | AB98: 200 | AC98: =Узкие!#REF! -> #REF! | AD98: =AB98-AC98 -> #REF! | AE98: =AC98*100/AB98 -> #REF! | AF98: 0 | AG98: =Узкие!$T$239 -> 0 | AH98: =AF98-AG98 -> 0 | AI98: =AG98*100/AF98 -> #DIV/0! | AJ98: 200 | AK98: =Узкие!$T$235 -> 49 | AL98: =AJ98-AK98 -> 151 | AM98: =AK98*100/AJ98 -> 24.5
B99: Всего онколог | C99: =SUM(C95:C98) -> 335 | D99: =SUM(D95:D98) -> 356 | E99: =C99-D99 -> -21 | F99: =D99*100/C99 -> 106.26866 | G99: =SUM(G95:G98) -> 0 | H99: =SUM(H95:H98) -> 0 | I99: =G99-H99 -> 0 | J99: =H99*100/G99 -> #DIV/0! | K99: =SUM(K95:K98) -> 0 | L99: =SUM(L95:L98) -> 491 | M99: =K99-L99 -> -491 | N99: =L99*100/K99 -> #DIV/0! | S99: =SUM(S95:S98) -> 0 | T99: =SUM(T95:T98) -> 151 | U99: =S99-T99 -> -151 | V99: =T99*100/S99 -> #DIV/0! | AB99: =SUM(AB95:AB98) -> 520 | AC99: =SUM(AC95:AC98) -> #REF! | AD99: =AB99-AC99 -> #REF! | AE99: =AC99*100/AB99 -> #REF! | AF99: =SUM(AF95:AF98) -> 0 | AG99: =SUM(AG95:AG98) -> 0 | AH99: =AF99-AG99 -> 0 | AI99: =AG99*100/AF99 -> #DIV/0! | AJ99: =SUM(AJ95:AJ98) -> 600 | AK99: =SUM(AK95:AK98) -> 362 | AL99: =AJ99-AK99 -> 238 | AM99: =AK99*100/AJ99 -> 60.333333 | AN99: =SUM(AN95:AN98) -> 0
B101: ИТОГО узкие | C101: =C99+C94+C91+C88+C86+C81+C77+C74+C71+C68+C66+C59+C54+C46+C39 -> 660 | D101: =D99+D94+D91+D88+D86+D81+D77+D74+D71+D68+D66+D59+D54+D46+D39 -> 2740 | E101: =C101-D101 -> -2080 | F101: =D101*100/C101 -> 415.15152 | G101: =G99+G94+G91+G88+G86+G81+G77+G74+G71+G68+G66+G59+G54+G46+G39 -> 2911 | H101: =H99+H94+H91+H88+H86+H81+H77+H74+H71+H68+H66+H59+H54+H46+H39 -> 2212 | I101: =G101-H101 -> 699 | J101: =H101*100/G101 -> 75.987633 | K101: =K99+K94+K91+K88+K86+K81+K77+K74+K71+K68+K66+K59+K54+K46+K39 -> 1536.4 | L101: =L99+L94+L91+L88+L86+L81+L77+L74+L71+L68+L66+L59+L54+L46+L39 -> 1430 | M101: =K101-L101 -> 106.4 | N101: =L101*100/K101 -> 93.07472 | O101: =O99+O94+O91+O88+O86+O81+O77+O74+O71+O68+O66+O59+O54+O46+O39 -> 1360 | P101: =P99+P94+P91+P88+P86+P81+P77+P74+P71+P68+P66+P59+P54+P46+P39 -> 813 | Q101: =O101-P101 -> 547 | R101: =P101*100/O101 -> 59.779412 | S101: =S99+S94+S91+S88+S86+S81+S77+S74+S71+S68+S66+S59+S54+S46+S39 -> 0 | T101: =T99+T94+T91+T88+T86+T81+T77+T74+T71+T68+T66+T59+T54+T46+T39 -> 1756 | U101: =S101-T101 -> -1756 | V101: =T101*100/S101 -> #DIV/0! | W101: =W99+W94+W91+W88+W86+W81+W77+W74+W71+W68+W66+W59+W54+W46+W39 -> 0 | X101: =X99+X94+X91+X88+X86+X81+X77+X74+X71+X68+X66+X59+X54+X46+X39 -> 96 | Y101: =W101-X101 -> -96 | Z101: =X101*100/W101 -> #DIV/0! | AB101: =AB99+AB94+AB91+AB88+AB86+AB81+AB77+AB74+AB71+AB68+AB66+AB59+AB54+AB46+AB39 -> 1661 | AC101: =AC99+AC94+AC91+AC88+AC86+AC81+AC77+AC74+AC71+AC68+AC66+AC59+AC54+AC46+AC39 -> #REF! | AD101: =AB101-AC101 -> #REF! | AE101: =AC101*100/AB101 -> #REF! | AF101: =AF99+AF94+AF91+AF88+AF86+AF81+AF77+AF74+AF71+AF68+AF66+AF59+AF54+AF46+AF39 -> 105 | AG101: =AG99+AG94+AG91+AG88+AG86+AG81+AG77+AG74+AG71+AG68+AG66+AG59+AG54+AG46+AG39 -> #REF! | AH101: =AF101-AG101 -> #REF! | AI101: =AG101*100/AF101 -> #REF! | AJ101: =AJ99+AJ94+AJ91+AJ88+AJ86+AJ81+AJ77+AJ74+AJ71+AJ68+AJ66+AJ59+AJ54+AJ46+AJ39 -> 649 | AK101: =AK99+AK94+AK91+AK88+AK86+AK81+AK77+AK74+AK71+AK68+AK66+AK59+AK54+AK46+AK39 -> #REF! | AL101: =AJ101-AK101 -> #REF! | AM101: =AK101*100/AJ101 -> #REF! | AN101: =AN99+AN94+AN91+AN88+AN86+AN81+AN77+AN74+AN71+AN68+AN66+AN59+AN54+AN46+AN39 -> 1715 | AO101: =AO99+AO94+AO91+AO88+AO86+AO81+AO77+AO74+AO71+AO68+AO66+AO59+AO54+AO46+AO39 -> #REF! | AP101: =AN101-AO101 -> #REF! | AQ101: =AO101*100/AN101 -> #REF! | AR101: =AR99+AR94+AR91+AR88+AR86+AR81+AR77+AR74+AR71+AR68+AR66+AR59+AR54+AR46+AR39 -> 12 | AS101: =AS99+AS94+AS91+AS88+AS86+AS81+AS77+AS74+AS71+AS68+AS66+AS59+AS54+AS46+AS39 -> #REF! | AT101: =AR101-AS101 -> #REF! | AU101: =AS101*100/AR101 -> #REF!
C103: Паллиативная помощь
C104: 0 | D104: =Узкие!$T$288 -> 0 | E104: =C104-D104 -> 0 | F104: =D104*100/C104 -> #DIV/0! | AB104: 748 | AC104: =Узкие!$T$288 -> 0 | AD104: =AB104-AC104 -> 748 | AE104: =AC104*100/AB104 -> 0
A105: 1 | B105: Александров Михаил Анатольевич | C105: 573 | D105: =Узкие!$T$292 -> 336 | E105: =C105-D105 -> 237 | F105: =D105*100/C105 -> 58.638743 | AC105: =Узкие!$T$292 -> 336 | AD105: =AB105-AC105 -> -336 | AE105: =AC105*100/AB105 -> #DIV/0!
B106: Итого паллиативная помощь | C106: =SUM(C104:C105) -> 573 | D106: =SUM(D104:D105) -> 336 | E106: =C106-D106 -> 237 | F106: =D106*100/C106 -> 58.638743 | AB106: =SUM(AB104:AB105) -> 748 | AC106: =SUM(AC104:AC105) -> 336 | AD106: =AB106-AC106 -> 412 | AE106: =AC106*100/AB106 -> 44.919786
C109: 692818 | G109: 692938
B110: Гериатрическое отделение | C110: План | D110: Факт | E110: Осталось до плана | F110: % выпол | G110: План | H110: Факт | I110: Осталось до плана | J110: % выпол
...

Sheet ЖК
A1: =Терапевты!C1 -> ПЛАН ОБРАЩЕНИЙ И ПОСЕЩЕНИЙ за сентябрь 2025 г.
A3: Женская консультация | C3: Обращения 622865 | G3: Диспансерное наблюдение 622804 | K3: Диспансерное наблюдение (пр. 168-н) | O3: Разовые по заболеванию 622871 | S3: С другими целями 622932
C4: План | D4: Факт | E4: Осталось до плана | F4: % | G4: План | H4: Факт | I4: Осталось до плана | J4: % | K4: План | L4: Факт | M4: Осталось до плана | N4: % | O4: План | P4: Факт | Q4: Осталось до плана | R4: % | S4: План | T4: Факт | U4: Осталось до плана | V4: %
B6: Ялилова Элина Марселевна - зав. отд. | C6: 0 | D6: =Женская!$I$302 -> 12 | G6: 0 | H6: =Женская!$I$306 -> 0 | K6: 0 | L6: =Женская!$I$304 -> 0 | O6: 0 | P6: =Женская!$I$308 -> 17 | S6: 0 | T6: =Женская!$I$310 -> 6
A7: 1 | B7: Агаджанова Каринэ Николаевна | C7: 0 | D7: =Женская!$I$224 -> 0 | E7: =C7-D7 -> 0 | F7: =D7*100/C7 -> #DIV/0! | G7: 0 | H7: =Женская!$I$228 -> 0 | I7: =G7-H7 -> 0 | J7: =H7*100/G7 -> #DIV/0! | K7: 0 | L7: =Женская!$I$226 -> 0 | M7: =K7-L7 -> 0 | N7: =L7*100/K7 -> #DIV/0! | O7: 0 | P7: =Женская!$I$230 -> 0 | Q7: =O7-P7 -> 0 | R7: =P7*100/O7 -> #DIV/0! | S7: 0 | T7: =Женская!$I$232 -> 0 | U7: =S7-T7 -> 0 | V7: =T7*100/S7 -> #DIV/0!
A8: 2 | B8: Гаврилова Ирина Альбертовна | C8: 69 | D8: =Женская!$I$29 -> 75 | E8: =C8-D8 -> -6 | F8: =D8*100/C8 -> 108.69565 | G8: 37 | H8: =Женская!$I$33 -> 39 | I8: =G8-H8 -> -2 | J8: =H8*100/G8 -> 105.40541 | K8: 4 | L8: =Женская!$I$31 -> 4 | M8: =K8-L8 -> 0 | N8: =L8*100/K8 -> 100 | O8: 130 | P8: =Женская!$I$35 -> 174 | Q8: =O8-P8 -> -44 | R8: =P8*100/O8 -> 133.84615 | S8: 72 | T8: =Женская!$I$37 -> 65 | U8: =S8-T8 -> 7 | V8: =T8*100/S8 -> 90.277778
A9: 3 | B9: Казанцева (Гайбадуллина) Алина Ринатовна д/о | C9: 0 | D9: =Женская!$I$237 -> 0 | E9: =C9-D9 -> 0 | F9: =D9*100/C9 -> #DIV/0! | G9: 0 | H9: =Женская!$I$241 -> 0 | I9: =G9-H9 -> 0 | J9: =H9*100/G9 -> #DIV/0! | K9: 0 | L9: =Женская!$I$239 -> 0 | M9: =K9-L9 -> 0 | N9: =L9*100/K9 -> #DIV/0! | O9: 0 | P9: =Женская!$I$243 -> 0 | Q9: =O9-P9 -> 0 | R9: =P9*100/O9 -> #DIV/0! | S9: 0 | T9: =Женская!$I$245 -> 0 | U9: =S9-T9 -> 0 | V9: =T9*100/S9 -> #DIV/0!
A10: 4 | B10: Губайдуллина Роза Тимирьяновна | C10: 56 | D10: =Женская!$I$16 -> 99 | E10: =C10-D10 -> -43 | F10: =D10*100/C10 -> 176.78571 | G10: 30 | H10: =Женская!$I$20 -> 13 | I10: =G10-H10 -> 17 | J10: =H10*100/G10 -> 43.333333 | K10: 5 | L10: =Женская!$I$18 -> 0 | M10: =K10-L10 -> 5 | N10: =L10*100/K10 -> 0 | O10: 92 | P10: =Женская!$I$22 -> 46 | Q10: =O10-P10 -> 46 | R10: =P10*100/O10 -> 50 | S10: 48 | T10: =Женская!$I$24 -> 58 | U10: =S10-T10 -> -10 | V10: =T10*100/S10 -> 120.83333
A11: 5 | B11: Еремина Ленара Николаевна | C11: 56 | D11: =Женская!$I$42 -> 12 | E11: =C11-D11 -> 44 | F11: =D11*100/C11 -> 21.428571 | G11: 25 | H11: =Женская!$I$46 -> 0 | I11: =G11-H11 -> 25 | J11: =H11*100/G11 -> 0 | K11: 8 | L11: =Женская!$I$44 -> 0 | M11: =K11-L11 -> 8 | N11: =L11*100/K11 -> 0 | O11: 87 | P11: =Женская!$I$48 -> 31 | Q11: =O11-P11 -> 56 | R11: =P11*100/O11 -> 35.632184 | S11: 48 | T11: =Женская!$I$50 -> 24 | U11: =S11-T11 -> 24 | V11: =T11*100/S11 -> 50
A12: 6 | B12: Ильина Ольга Павловна | C12: 56 | D12: =Женская!$I$211 -> 60 | E12: =C12-D12 -> -4 | F12: =D12*100/C12 -> 107.14286 | G12: 25 | H12: =Женская!$I$215 -> 27 | I12: =G12-H12 -> -2 | J12: =H12*100/G12 -> 108 | K12: 2 | L12: =Женская!$I$213 -> 2 | M12: =K12-L12 -> 0 | N12: =L12*100/K12 -> 100 | O12: 108 | P12: =Женская!$I$217 -> 101 | Q12: =O12-P12 -> 7 | R12: =P12*100/O12 -> 93.518519 | S12: 60 | T12: =Женская!$I$219 -> 56 | U12: =S12-T12 -> 4 | V12: =T12*100/S12 -> 93.333333
A13: 7 | B13: Исмагилова Галия Ахнафовна | C13: 56 | D13: =Женская!$I$55 -> 63 | E13: =C13-D13 -> -7 | F13: =D13*100/C13 -> 112.5 | G13: 38 | H13: =Женская!$I$59 -> 30 | I13: =G13-H13 -> 8 | J13: =H13*100/G13 -> 78.947368 | K13: 9 | L13: =Женская!$I$57 -> 6 | M13: =K13-L13 -> 3 | N13: =L13*100/K13 -> 66.666667 | O13: 87 | P13: =Женская!$I$61 -> 66 | Q13: =O13-P13 -> 21 | R13: =P13*100/O13 -> 75.862069 | S13: 48 | T13: =Женская!$I$63 -> 34 | U13: =S13-T13 -> 14 | V13: =T13*100/S13 -> 70.833333
A14: 8 | B14: Закирова Светлана Изаровна смот.каб. | C14: 56 | D14: =Женская!$I$133 -> 55 | E14: =C14-D14 -> 1 | F14: =D14*100/C14 -> 98.214286 | G14: 0 | H14: =Женская!$I$137 -> 0 | I14: =G14-H14 -> 0 | J14: =H14*100/G14 -> #DIV/0! | K14: 0 | L14: =Женская!$I$135 -> 0 | M14: =K14-L14 -> 0 | N14: =L14*100/K14 -> #DIV/0! | O14: 93 | P14: =Женская!$I$139 -> 110 | Q14: =O14-P14 -> -17 | R14: =P14*100/O14 -> 118.27957 | S14: 48 | T14: =Женская!$I$141 -> 13 | U14: =S14-T14 -> 35 | V14: =T14*100/S14 -> 27.083333
A15: 9 | B15: Каразбаева Галия Минифаровна | C15: 58 | D15: =Женская!$I$289 -> 36 | E15: =C15-D15 -> 22 | F15: =D15*100/C15 -> 62.068966 | G15: 25 | H15: =Женская!$I$293 -> 44 | I15: =G15-H15 -> -19 | J15: =H15*100/G15 -> 176 | K15: 15 | L15: =Женская!$I$291 -> 4 | M15: =K15-L15 -> 11 | N15: =L15*100/K15 -> 26.666667 | O15: 87 | P15: =Женская!$I$295 -> 30 | Q15: =O15-P15 -> 57 | R15: =P15*100/O15 -> 34.482759 | S15: 48 | T15: =Женская!$I$297 -> 29 | U15: =S15-T15 -> 19 | V15: =T15*100/S15 -> 60.416667
A16: 10 | B16: Курамшина Гульназ Ришатовна д/о | C16: 0 | D16: =Женская!$I$250 -> 0 | E16: =C16-D16 -> 0 | F16: =D16*100/C16 -> #DIV/0! | G16: 0 | H16: =Женская!$I$254 -> 0 | I16: =G16-H16 -> 0 | J16: =H16*100/G16 -> #DIV/0! | K16: 0 | L16: =Женская!$I$252 -> 0 | M16: =K16-L16 -> 0 | N16: =L16*100/K16 -> #DIV/0! | O16: 0 | P16: =Женская!$I$256 -> 0 | Q16: =O16-P16 -> 0 | R16: =P16*100/O16 -> #DIV/0! | S16: 0 | T16: =Женская!$I$258 -> 0 | U16: =S16-T16 -> 0 | V16: =T16*100/S16 -> #DIV/0!
A17: 11 | B17: Крюгер Екатерина Ивановна д/о | C17: 0 | D17: =Женская!$I$198 -> 0 | E17: =C17-D17 -> 0 | F17: =D17*100/C17 -> #DIV/0! | G17: 0 | H17: =Женская!$I$202 -> 0 | I17: =G17-H17 -> 0 | J17: =H17*100/G17 -> #DIV/0! | K17: 0 | L17: =Женская!$I$200 -> 0 | M17: =K17-L17 -> 0 | N17: =L17*100/K17 -> #DIV/0! | O17: 0 | P17: =Женская!$I$204 -> 0 | Q17: =O17-P17 -> 0 | R17: =P17*100/O17 -> #DIV/0! | S17: 0 | T17: =Женская!$I$206 -> 0 | U17: =S17-T17 -> 0 | V17: =T17*100/S17 -> #DIV/0!
A18: 12 | B18: Магасумова (Туктамышева) Регина Ринатовна | C18: 100 | D18: =Женская!$I$120 -> 49 | E18: =C18-D18 -> 51 | F18: =D18*100/C18 -> 49 | G18: 50 | H18: =Женская!$I$124 -> 14 | I18: =G18-H18 -> 36 | J18: =H18*100/G18 -> 28 | K18: 17 | L18: =Женская!$I$122 -> 0 | M18: =K18-L18 -> 17 | N18: =L18*100/K18 -> 0 | O18: 87 | P18: =Женская!$I$126 -> 40 | Q18: =O18-P18 -> 47 | R18: =P18*100/O18 -> 45.977011 | S18: 100 | T18: =Женская!$I$128 -> 36 | U18: =S18-T18 -> 64 | V18: =T18*100/S18 -> 36
A19: 13 | B19: Мухаметзянова Альбина Рамильевна | C19: 56 | D19: =Женская!$I$81 -> 95 | E19: =C19-D19 -> -39 | F19: =D19*100/C19 -> 169.64286 | G19: 25 | H19: =Женская!$I$85 -> 41 | I19: =G19-H19 -> -16 | J19: =H19*100/G19 -> 164 | K19: 14 | L19: =Женская!$I$83 -> 1 | M19: =K19-L19 -> 13 | N19: =L19*100/K19 -> 7.1428571 | O19: 87 | P19: =Женская!$I$87 -> 92 | Q19: =O19-P19 -> -5 | R19: =P19*100/O19 -> 105.74713 | S19: 48 | T19: =Женская!$I$89 -> 36 | U19: =S19-T19 -> 12 | V19: =T19*100/S19 -> 75
A20: 14 | B20: Рассказова Екатерина Викторовна | C20: 56 | D20: =Женская!$I$94 -> 28 | E20: =C20-D20 -> 28 | F20: =D20*100/C20 -> 50 | G20: 30 | H20: =Женская!$I$98 -> 22 | I20: =G20-H20 -> 8 | J20: =H20*100/G20 -> 73.333333 | K20: 15 | L20: =Женская!$I$96 -> 0 | M20: =K20-L20 -> 15 | N20: =L20*100/K20 -> 0 | O20: 92 | P20: =Женская!$I$100 -> 62 | Q20: =O20-P20 -> 30 | R20: =P20*100/O20 -> 67.391304 | S20: 48 | T20: =Женская!$I$102 -> 50 | U20: =S20-T20 -> -2 | V20: =T20*100/S20 -> 104.16667
A21: 15 | B21: Сафиуллина Илюза Ильдусовна | C21: 56 | D21: =Женская!$I$107 -> 76 | E21: =C21-D21 -> -20 | F21: =D21*100/C21 -> 135.71429 | G21: 25 | H21: =Женская!$I$111 -> 29 | I21: =G21-H21 -> -4 | J21: =H21*100/G21 -> 116 | K21: 5 | L21: =Женская!$I$109 -> 5 | M21: =K21-L21 -> 0 | N21: =L21*100/K21 -> 100 | O21: 87 | P21: =Женская!$I$113 -> 70 | Q21: =O21-P21 -> 17 | R21: =P21*100/O21 -> 80.45977 | S21: 48 | T21: =Женская!$I$115 -> 40 | U21: =S21-T21 -> 8 | V21: =T21*100/S21 -> 83.333333
A22: 16 | B22: Худаярова Гулнора Алишеровна | C22: 56 | D22: =Женская!$I$263 -> 57 | E22: =C22-D22 -> -1 | F22: =D22*100/C22 -> 101.78571 | G22: 45 | H22: =Женская!$I$267 -> 39 | I22: =G22-H22 -> 6 | J22: =H22*100/G22 -> 86.666667 | K22: 2 | L22: =Женская!$I$265 -> 1 | M22: =K22-L22 -> 1 | N22: =L22*100/K22 -> 50 | O22: 93 | P22: =Женская!$I$269 -> 66 | Q22: =O22-P22 -> 27 | R22: =P22*100/O22 -> 70.967742 | S22: 55 | T22: =Женская!$I$271 -> 34 | U22: =S22-T22 -> 21 | V22: =T22*100/S22 -> 61.818182
A23: 17 | B23: Шайхутдинова Лилия Наугатовна | C23: 56 | D23: =Женская!$I$315 -> 53 | E23: =C23-D23 -> 3 | F23: =D23*100/C23 -> 94.642857 | G23: 57 | H23: =Женская!$I$319 -> 15 | I23: =G23-H23 -> 42 | J23: =H23*100/G23 -> 26.315789 | K23: 6 | L23: =Женская!$I$317 -> 0 | M23: =K23-L23 -> 6 | N23: =L23*100/K23 -> 0 | O23: 87 | P23: =Женская!$I$321 -> 30 | Q23: =O23-P23 -> 57 | R23: =P23*100/O23 -> 34.482759 | S23: 48 | T23: =Женская!$I$323 -> 34 | U23: =S23-T23 -> 14 | V23: =T23*100/S23 -> 70.833333
A24: 18 | B24: Шангареева Гульсима Ханифовна | C24: 56 | D24: =Женская!$I$146 -> 57 | E24: =C24-D24 -> -1 | F24: =D24*100/C24 -> 101.78571 | G24: 25 | H24: =Женская!$I$150 -> 25 | I24: =G24-H24 -> 0 | J24: =H24*100/G24 -> 100 | K24: 3 | L24: =Женская!$I$148 -> 3 | M24: =K24-L24 -> 0 | N24: =L24*100/K24 -> 100 | O24: 87 | P24: =Женская!$I$152 -> 61 | Q24: =O24-P24 -> 26 | R24: =P24*100/O24 -> 70.114943 | S24: 48 | T24: =Женская!$I$154 -> 40 | U24: =S24-T24 -> 8 | V24: =T24*100/S24 -> 83.333333
A25: 19 | B25: Ахметова Дамира Нуримановна смотровой каб. | C25: 56 | D25: =Женская!$I$68 -> 63 | E25: =C25-D25 -> -7 | F25: =D25*100/C25 -> 112.5 | G25: 0 | H25: =Женская!$I$72 -> 0 | I25: =G25-H25 -> 0 | J25: =H25*100/G25 -> #DIV/0! | K25: 0 | L25: =Женская!$I$70 -> 0 | M25: =K25-L25 -> 0 | N25: =L25*100/K25 -> #DIV/0! | O25: 87 | P25: =Женская!$I$74 -> 170 | Q25: =O25-P25 -> -83 | R25: =P25*100/O25 -> 195.4023 | S25: 48 | T25: =Женская!$I$76 -> 59 | U25: =S25-T25 -> -11 | V25: =T25*100/S25 -> 122.91667
B26: ИТОГО ЖК | C26: =SUM(C7:C25) -> 899 | D26: =SUM(D7:D25) -> 878 | E26: =C26-D26 -> 21 | F26: =D26*100/C26 -> 97.664071 | G26: =SUM(G7:G25) -> 437 | H26: =SUM(H7:H25) -> 338 | I26: =G26-H26 -> 99 | J26: =H26*100/G26 -> 77.345538 | K26: =SUM(K7:K25) -> 105 | L26: =SUM(L7:L25) -> 26 | M26: =K26-L26 -> 79 | N26: =L26*100/K26 -> 24.761905 | O26: =SUM(O7:O25) -> 1391 | P26: =SUM(P7:P25) -> 1149 | Q26: =O26-P26 -> 242 | R26: =P26*100/O26 -> 82.602444 | S26: =SUM(S7:S25) -> 815 | T26: =SUM(T7:T25) -> 608 | U26: =S26-T26 -> 207 | V26: =T26*100/S26 -> 74.601227
A28: 1 | B28: Антонова Наталья Владимировна | D28: =Женская!U5 -> 0 | O28: 139 | P28: =Женская!U7 -> 67 | Q28: =O28-P28 -> 72 | R28: =P28*100/O28 -> 48.201439 | V28: 0
A29: 2 | B29: Файзуллина Динара Ильшатовна | D29: =Женская!U14 -> 0 | O29: 52 | P29: =Женская!U16 -> 59 | Q29: =O29-P29 -> -7 | R29: =P29*100/O29 -> 113.46154 | V29: 0
B30: ИТОГО Стоматолог | D30: =SUM(D28:D29) -> 0 | O30: =SUM(O28:O29) -> 191 | P30: =SUM(P28:P29) -> 126 | Q30: =O30-P30 -> 65 | R30: =P30*100/O30 -> 65.968586

Sheet Мед.реабилитация
C1: =Терапевты!C1 -> ПЛАН ОБРАЩЕНИЙ И ПОСЕЩЕНИЙ за сентябрь 2025 г.
C3: при нарушениях периферической нервной системы | K3: при заболеваниях опорно-двигательного аппарата | S3: при нарушениях ЦНС и последствий ОНМК | AA3: при других соматических заболеваниях | AI3: после перенесенной новой коронавирусной инфекции COVID-19
C4: ШРМ 2 *623 | G4: ШРМ 3 *630 | K4: ШРМ 2 *624 | O4: ШРМ 3 *631 | S4: ШРМ 2 *625 | W4: ШРМ 3 *632 | AA4: ШРМ 2 *626 | AE4: ШРМ 3 *633 | AI4: ШРМ 2 *627 | AM4: ШРМ 3 *634
B5: Медицинская реабилитация | C5: План | D5: Факт | E5: Осталось до плана | F5: % выпол | G5: План | H5: Факт | I5: Осталось до плана | J5: % выпол | K5: План | L5: Факт | M5: Осталось до плана | N5: % выпол | O5: План | P5: Факт | Q5: Осталось до плана | R5: % выпол | S5: План | T5: Факт | U5: Осталось до плана | V5: % выпол | W5: План | X5: Факт | Y5: Осталось до плана | Z5: % выпол | AA5: План | AB5: Факт | AC5: Осталось до плана | AD5: % выпол | AE5: План | AF5: Факт | AG5: Осталось до плана | AH5: % выпол | AI5: План | AJ5: Факт | AK5: Осталось до плана | AL5: % выпол | AM5: План | AN5: Факт | AO5: Осталось до плана | AP5: % выпол
A6: 1 | B6: Буканбаева Альфия Ринатовна | C6: 2 | D6: =МР!$I$3 -> 3 | E6: =C6-D6 -> -1 | F6: =D6*100/C6 -> 150 | G6: 0 | H6: =МР!$I$5 -> 0 | I6: =G6-H6 -> 0 | J6: =H6*100/G6 -> #DIV/0! | K6: 2 | L6: =МР!$I$7 -> 0 | M6: =K6-L6 -> 2 | N6: =L6*100/K6 -> 0 | O6: 3 | P6: =МР!$I$9 -> 0 | Q6: =O6-P6 -> 3 | R6: =P6*100/O6 -> 0 | S6: 4 | T6: =МР!$I$11 -> 6 | U6: =S6-T6 -> -2 | V6: =T6*100/S6 -> 150 | W6: 1 | X6: =МР!$I$13 -> 1 | Y6: =W6-X6 -> 0 | Z6: =X6*100/W6 -> 100 | AA6: 2 | AB6: =МР!$I$15 -> 0 | AC6: =AA6-AB6 -> 2 | AD6: =AB6*100/AA6 -> 0 | AE6: 2 | AF6: =МР!$I$17 -> 1 | AG6: =AE6-AF6 -> 1 | AH6: =AF6*100/AE6 -> 50 | AI6: 0 | AJ6: =МР!$I$19 -> 0 | AK6: =AI6-AJ6 -> 0 | AL6: =AJ6*100/AI6 -> #DIV/0! | AM6: 0 | AN6: =МР!$I$21 -> 0 | AO6: =AM6-AN6 -> 0 | AP6: =AN6*100/AM6 -> #DIV/0!
A7: 2 | B7: Гильмияров Эльмир Рифкатович | C7: 0 | D7: =МР!$I$26 -> 0 | E7: =C7-D7 -> 0 | F7: =D7*100/C7 -> #DIV/0! | G7: 0 | H7: =МР!$I$28 -> 0 | I7: =G7-H7 -> 0 | J7: =H7*100/G7 -> #DIV/0! | K7: 0 | L7: =МР!$I$30 -> 3 | M7: =K7-L7 -> -3 | N7: =L7*100/K7 -> #DIV/0! | O7: 0 | P7: =МР!$I$32 -> 2 | Q7: =O7-P7 -> -2 | R7: =P7*100/O7 -> #DIV/0! | S7: 0 | T7: =МР!$I$34 -> 0 | U7: =S7-T7 -> 0 | V7: =T7*100/S7 -> #DIV/0! | W7: 0 | X7: =МР!$I$36 -> 0 | Y7: =W7-X7 -> 0 | Z7: =X7*100/W7 -> #DIV/0! | AA7: 0 | AB7: =МР!$I$38 -> 0 | AC7: =AA7-AB7 -> 0 | AD7: =AB7*100/AA7 -> #DIV/0! | AE7: 0 | AF7: =МР!$I$40 -> 0 | AG7: =AE7-AF7 -> 0 | AH7: =AF7*100/AE7 -> #DIV/0! | AI7: 0 | AJ7: =МР!$I$42 -> 0 | AK7: =AI7-AJ7 -> 0 | AL7: =AJ7*100/AI7 -> #DIV/0! | AM7: 0 | AN7: =МР!$I$44 -> 0 | AO7: =AM7-AN7 -> 0 | AP7: =AN7*100/AM7 -> #DIV/0!
A8: 3 | B8: Камалетдинова Зульфия Рифовна | C8: 0 | D8: =МР!$I$49 -> 0 | E8: =C8-D8 -> 0 | F8: =D8*100/C8 -> #DIV/0! | G8: 0 | H8: =МР!$I$51 -> 0 | I8: =G8-H8 -> 0 | J8: =H8*100/G8 -> #DIV/0! | K8: 0 | L8: =МР!$I$53 -> 0 | M8: =K8-L8 -> 0 | N8: =L8*100/K8 -> #DIV/0! | O8: 0 | P8: =МР!$I$55 -> 0 | Q8: =O8-P8 -> 0 | R8: =P8*100/O8 -> #DIV/0! | S8: 0 | T8: =МР!$I$57 -> 0 | U8: =S8-T8 -> 0 | V8: =T8*100/S8 -> #DIV/0! | W8: 0 | X8: =МР!$I$59 -> 0 | Y8: =W8-X8 -> 0 | Z8: =X8*100/W8 -> #DIV/0! | AA8: 0 | AB8: =МР!$I$61 -> 2 | AC8: =AA8-AB8 -> -2 | AD8: =AB8*100/AA8 -> #DIV/0! | AE8: 0 | AF8: =МР!$I$63 -> 2 | AG8: =AE8-AF8 -> -2 | AH8: =AF8*100/AE8 -> #DIV/0! | AI8: 0 | AJ8: =МР!$I$65 -> 1 | AK8: =AI8-AJ8 -> -1 | AL8: =AJ8*100/AI8 -> #DIV/0! | AM8: 0 | AN8: =МР!$I$67 -> 0 | AO8: =AM8-AN8 -> 0 | AP8: =AN8*100/AM8 -> #DIV/0!
A9: 4 | B9: НУРХАМЕТОВА Эльвира Валентиновна | C9: 0 | D9: =МР!$I$118 -> 0 | E9: =C9-D9 -> 0 | F9: =D9*100/C9 -> #DIV/0! | G9: 0 | H9: =МР!$I$120 -> 0 | I9: =G9-H9 -> 0 | J9: =H9*100/G9 -> #DIV/0! | K9: 0 | L9: =МР!$I$122 -> 0 | M9: =K9-L9 -> 0 | N9: =L9*100/K9 -> #DIV/0! | O9: 0 | P9: =МР!$I$124 -> 0 | Q9: =O9-P9 -> 0 | R9: =P9*100/O9 -> #DIV/0! | S9: 0 | T9: =МР!$I$126 -> 0 | U9: =S9-T9 -> 0 | V9: =T9*100/S9 -> #DIV/0! | W9: 0 | X9: =МР!$I$128 -> 0 | Y9: =W9-X9 -> 0 | Z9: =X9*100/W9 -> #DIV/0! | AA9: 0 | AB9: =МР!$I$130 -> 0 | AC9: =AA9-AB9 -> 0 | AD9: =AB9*100/AA9 -> #DIV/0! | AE9: 0 | AF9: =МР!$I$132 -> 0 | AG9: =AE9-AF9 -> 0 | AH9: =AF9*100/AE9 -> #DIV/0! | AI9: 0 | AJ9: =МР!$I$134 -> 0 | AK9: =AI9-AJ9 -> 0 | AL9: =AJ9*100/AI9 -> #DIV/0! | AM9: 0 | AN9: =МР!$I$136 -> 0 | AO9: =AM9-AN9 -> 0 | AP9: =AN9*100/AM9 -> #DIV/0!
A10: 4 | B10: Хусаинова Хания Авзаловна | C10: 0 | D10: =МР!$I$141 -> 0 | E10: =C10-D10 -> 0 | F10: =D10*100/C10 -> #DIV/0! | G10: 0 | H10: =МР!$I$143 -> 0 | I10: =G10-H10 -> 0 | J10: =H10*100/G10 -> #DIV/0! | K10: 0 | L10: =МР!$I$145 -> 0 | M10: =K10-L10 -> 0 | N10: =L10*100/K10 -> #DIV/0! | O10: 0 | P10: =МР!$I$147 -> 0 | Q10: =O10-P10 -> 0 | R10: =P10*100/O10 -> #DIV/0! | S10: 0 | T10: =МР!$I$149 -> 0 | U10: =S10-T10 -> 0 | V10: =T10*100/S10 -> #DIV/0! | W10: 0 | X10: =МР!$I$151 -> 0 | Y10: =W10-X10 -> 0 | Z10: =X10*100/W10 -> #DIV/0! | AA10: 0 | AB10: =МР!$I$153 -> 0 | AC10: =AA10-AB10 -> 0 | AD10: =AB10*100/AA10 -> #DIV/0! | AE10: 0 | AF10: =МР!$I$155 -> 0 | AG10: =AE10-AF10 -> 0 | AH10: =AF10*100/AE10 -> #DIV/0! | AI10: 0 | AJ10: =МР!$I$157 -> 0 | AK10: =AI10-AJ10 -> 0 | AL10: =AJ10*100/AI10 -> #DIV/0! | AM10: 0 | AN10: =МР!$I$159 -> 0 | AO10: =AM10-AN10 -> 0 | AP10: =AN10*100/AM10 -> #DIV/0!
A11: 4 | B11: Шагзатдинова Аида Иделевна | C11: 0 | D11: =МР!$I$95 -> 0 | E11: =C11-D11 -> 0 | F11: =D11*100/C11 -> #DIV/0! | G11: 0 | H11: =МР!$I$97 -> 0 | I11: =G11-H11 -> 0 | J11: =H11*100/G11 -> #DIV/0! | K11: 0 | L11: =МР!$I$99 -> 0 | M11: =K11-L11 -> 0 | N11: =L11*100/K11 -> #DIV/0! | O11: 0 | P11: =МР!$I$101 -> 0 | Q11: =O11-P11 -> 0 | R11: =P11*100/O11 -> #DIV/0! | S11: 0 | T11: =МР!$I$103 -> 0 | U11: =S11-T11 -> 0 | V11: =T11*100/S11 -> #DIV/0! | W11: 0 | X11: =МР!$I$105 -> 0 | Y11: =W11-X11 -> 0 | Z11: =X11*100/W11 -> #DIV/0! | AA11: 0 | AB11: =МР!$I$107 -> 0 | AC11: =AA11-AB11 -> 0 | AD11: =AB11*100/AA11 -> #DIV/0! | AE11: 0 | AF11: =МР!$I$109 -> 0 | AG11: =AE11-AF11 -> 0 | AH11: =AF11*100/AE11 -> #DIV/0! | AI11: 0 | AJ11: =МР!$I$111 -> 0 | AK11: =AI11-AJ11 -> 0 | AL11: =AJ11*100/AI11 -> #DIV/0! | AM11: 0 | AN11: =МР!$I$113 -> 0 | AO11: =AM11-AN11 -> 0 | AP11: =AN11*100/AM11 -> #DIV/0!
B12: Итого Мед.реабилитации | C12: =SUM(C6:C11) -> 2 | D12: =SUM(D6:D11) -> 3 | E12: =C12-D12 -> -1 | F12: =D12*100/C12 -> 150 | G12: =SUM(G6:G11) -> 0 | H12: =SUM(H6:H11) -> 0 | I12: =G12-H12 -> 0 | J12: =H12*100/G12 -> #DIV/0! | K12: =SUM(K6:K11) -> 2 | L12: =SUM(L6:L11) -> 3 | M12: =K12-L12 -> -1 | N12: =L12*100/K12 -> 150 | O12: =SUM(O6:O11) -> 3 | P12: =SUM(P6:P11) -> 2 | Q12: =O12-P12 -> 1 | R12: =P12*100/O12 -> 66.666667 | S12: =SUM(S6:S11) -> 4 | T12: =SUM(T6:T11) -> 6 | U12: =S12-T12 -> -2 | V12: =T12*100/S12 -> 150 | W12: =SUM(W6:W11) -> 1 | X12: =SUM(X6:X11) -> 1 | Y12: =W12-X12 -> 0 | Z12: =X12*100/W12 -> 100 | AA12: =SUM(AA6:AA11) -> 2 | AB12: =SUM(AB6:AB11) -> 2 | AC12: =AA12-AB12 -> 0 | AD12: =AB12*100/AA12 -> 100 | AE12: =SUM(AE6:AE11) -> 2 | AF12: =SUM(AF6:AF11) -> 3 | AG12: =AE12-AF12 -> -1 | AH12: =AF12*100/AE12 -> 150 | AI12: =SUM(AI6:AI11) -> 0 | AJ12: =SUM(AJ6:AJ11) -> 1 | AK12: =AI12-AJ12 -> -1 | AL12: =AJ12*100/AI12 -> #DIV/0! | AM12: =SUM(AM6:AM11) -> 0 | AN12: =SUM(AN6:AN11) -> 0 | AO12: =AM12-AN12 -> 0 | AP12: =AN12*100/AM12 -> #DIV/0!

Sheet Школы
C1: =Терапевты!C1 -> ПЛАН ОБРАЩЕНИЙ И ПОСЕЩЕНИЙ за сентябрь 2025 г.
C3: Сахарный диабет 1 типа *976 | G3: Сахарный диабет 2 типа *977
C4: План | D4: Факт | E4: Осталось до плана | F4: % | G4: План | H4: Факт | I4: Осталось до плана | J4: %
C5: Школы сахарного диабета
A6: 1 | B6: Вафина Зульфия Вячеславовна | C6: 5 | D6: =СД!$I$17 -> 2 | E6: =C6-D6 -> 3 | F6: =D6*100/C6 -> 40 | G6: 12 | H6: =СД!$I$19 -> 8 | I6: =G6-H6 -> 4 | J6: =H6*100/G6 -> 66.666667
A7: 2 | B7: Васильева Неля Владимировна | C7: 6 | D7: =СД!$I$11 -> 1 | E7: =C7-D7 -> 5 | F7: =D7*100/C7 -> 16.666667 | G7: 15 | H7: =СД!$I$13 -> 1 | I7: =G7-H7 -> 14 | J7: =H7*100/G7 -> 6.6666667
A8: 3 | B8: ЗАЙНУЛЛИНА Лиана Мусовна д/о | C8: 0 | D8: =СД!$I$35 -> 0 | E8: =C8-D8 -> 0 | F8: =D8*100/C8 -> #DIV/0! | G8: 0 | H8: =СД!$I$37 -> 0 | I8: =G8-H8 -> 0 | J8: =H8*100/G8 -> #DIV/0!
A9: 4 | B9: Кармачева Наталья Васильевна | C9: 4 | D9: =СД!$I$5 -> 0 | E9: =C9-D9 -> 4 | F9: =D9*100/C9 -> 0 | G9: 5 | H9: =СД!$I$7 -> 0 | I9: =G9-H9 -> 5 | J9: =H9*100/G9 -> 0
A10: 5 | B10: Попова Мария Сергеевна | C10: 6 | D10: =СД!$I$23 -> 6 | E10: =C10-D10 -> 0 | F10: =D10*100/C10 -> 100 | G10: 10 | H10: =СД!$I$25 -> 12 | I10: =G10-H10 -> -2 | J10: =H10*100/G10 -> 120
A11: 6 | B11: Салихова Елена Клавдиевна | C11: 3 | D11: =СД!$I$42 -> 0 | E11: =C11-D11 -> 3 | F11: =D11*100/C11 -> 0 | G11: 15 | H11: =СД!$I$44 -> 0 | I11: =G11-H11 -> 15 | J11: =H11*100/G11 -> 0
B12: Итого по школе | C12: =SUM(C6:C11) -> 24 | D12: =SUM(D6:D11) -> 9 | E12: =C12-D12 -> 15 | F12: =D12*100/C12 -> 37.5 | G12: =SUM(G6:G11) -> 57 | H12: =SUM(H6:H11) -> 21 | I12: =G12-H12 -> 36 | J12: =H12*100/G12 -> 36.842105
C14: Бронхиальная астма *692
C15: План | D15: Факт | E15: Осталось до плана | F15: %
C16: Школа БА
A17: 1 | B17: Хисамова Вероника Айратовна | C17: 80 | D17: =СД!$T$32 -> 72 | E17: =C17-D17 -> 8 | F17: =D17*100/C17 -> 90
B18: Итого по школе БА | C18: =SUM(C17:C17) -> 80 | D18: =SUM(D17:D17) -> 72 | E18: =C18-D18 -> 8 | F18: =D18*100/C18 -> 90
C20: Гипертоническая болезнь *688
C21: План | D21: Факт | E21: Осталось до плана | F21: %
C22: Школа АГ
A23: 1 | B23: Голубкова Лиана Валерьевна | C23: 0 | D23: =СД!$T$5 -> 17 | E23: =C23-D23 -> -17 | F23: =D23*100/C23 -> #DIV/0!
A24: 2 | B24: Гиляева Эльвира Фанисовна (1,0) | C24: 193 | D24: =СД!$T$10 -> 199 | E24: =C24-D24 -> -6 | F24: =D24*100/C24 -> 103.10881
A25: 3 | B25: МИФТАХОВА Айсылу Физильяновна | C25: 34 | D25: =СД!$T$15 -> 37 | E25: =C25-D25 -> -3 | F25: =D25*100/C25 -> 108.82353
A26: 4 | B26: Смильгина Ольга Юрьевна 1,0 | C26: 70 | D26: =СД!$T$20 -> 96 | E26: =C26-D26 -> -26 | F26: =D26*100/C26 -> 137.14286
A27: 4 | B27: Шакирова Лилия Саматовна | C27: 0 | D27: =СД!$T$25 -> 0 | E27: =C27-D27 -> 0 | F27: =D27*100/C27 -> #DIV/0!
B28: Итого по кардиологи | C28: =SUM(C23:C27) -> 297 | D28: =SUM(D23:D27) -> 349 | E28: =C28-D28 -> -52 | F28: =D28*100/C28 -> 117.50842
B30: Самситдинова Эльмира Римовна - зав.отд | C30: 0 | D30: =СД!AE$5 -> 0 | E30: =C30-D30 -> 0 | F30: =D30*100/C30 -> #DIV/0!
A31: 1 | B31: Иванова (Алсынбаева) Нурзиля Марсовна д/о | C31: 0 | D31: =СД!AE$10 -> 0 | E31: =C31-D31 -> 0 | F31: =D31*100/C31 -> #DIV/0!
A32: 2 | B32: Аминева Рената Сергеевна | C32: 98 | D32: =СД!AE$15 -> 95 | E32: =C32-D32 -> 3 | F32: =D32*100/C32 -> 96.938776
A33: 3 | B33: Бадартдинова Зульфия Марлисовна | C33: 98 | D33: =СД!AE$20 -> 99 | E33: =C33-D33 -> -1 | F33: =D33*100/C33 -> 101.02041
A34: 4 | B34: Билалов Ильгам Ильшатович | C34: 48 | D34: =СД!AE$25 -> 18 | E34: =C34-D34 -> 30 | F34: =D34*100/C34 -> 37.5
A35: 5 | B35: Гилязева Зарина Раилевна | C35: 98 | D35: =СД!AE$30 -> 79 | E35: =C35-D35 -> 19 | F35: =D35*100/C35 -> 80.612245
A36: 6 | B36: Зайнуллина Адель Маратовна | C36: 98 | D36: =СД!AE$55 -> 0 | E36: =C36-D36 -> 98 | F36: =D36*100/C36 -> 0
A37: 7 | B37: Кускильдина Альбина Рамилевна | C37: 98 | D37: =СД!AE$35 -> 3 | E37: =C37-D37 -> 95 | F37: =D37*100/C37 -> 3.0612245
A38: 8 | B38: Валеева (ПАВЛОВА) ЮЛИАНА СЕРГЕЕВНА д/о | C38: 0 | D38: =СД!AE$40 -> 0 | E38: =C38-D38 -> 0 | F38: =D38*100/C38 -> #DIV/0!
A39: 9 | B39: Овчинникова Олеся Анатольевна | C39: 98 | D39: =СД!AE$45 -> 45 | E39: =C39-D39 -> 53 | F39: =D39*100/C39 -> 45.918367
A40: 10 | B40: Тухбатова Алия Валерьевна | C40: 98 | D40: =СД!AE$60 -> 1 | E40: =C40-D40 -> 97 | F40: =D40*100/C40 -> 1.0204082
A41: 11 | B41: Шафиева Венера Альбертовна | C41: 48 | D41: =СД!AE$50 -> 48 | E41: =C41-D41 -> 0 | F41: =D41*100/C41 -> 100
B42: ИТОГО по 1 терапии | C42: =SUM(C30:C41) -> 782 | D42: =SUM(D30:D41) -> 388 | E42: =C42-D42 -> 394 | F42: =D42*100/C42 -> 49.616368
